BEGIN:VCALENDAR
VERSION:2.0
PRODID:-//UES - ECPv6.15.20//NONSGML v1.0//EN
CALSCALE:GREGORIAN
METHOD:PUBLISH
X-ORIGINAL-URL:https://ues.cat
X-WR-CALDESC:Activitats per UES
REFRESH-INTERVAL;VALUE=DURATION:PT1H
X-Robots-Tag:noindex
X-PUBLISHED-TTL:PT1H
BEGIN:VTIMEZONE
TZID:Europe/Madrid
BEGIN:DAYLIGHT
TZOFFSETFROM:+0100
TZOFFSETTO:+0200
TZNAME:CEST
DTSTART:20220327T010000
END:DAYLIGHT
BEGIN:STANDARD
TZOFFSETFROM:+0200
TZOFFSETTO:+0100
TZNAME:CET
DTSTART:20221030T010000
END:STANDARD
BEGIN:DAYLIGHT
TZOFFSETFROM:+0100
TZOFFSETTO:+0200
TZNAME:CEST
DTSTART:20230326T010000
END:DAYLIGHT
BEGIN:STANDARD
TZOFFSETFROM:+0200
TZOFFSETTO:+0100
TZNAME:CET
DTSTART:20231029T010000
END:STANDARD
BEGIN:DAYLIGHT
TZOFFSETFROM:+0100
TZOFFSETTO:+0200
TZNAME:CEST
DTSTART:20240331T010000
END:DAYLIGHT
BEGIN:STANDARD
TZOFFSETFROM:+0200
TZOFFSETTO:+0100
TZNAME:CET
DTSTART:20241027T010000
END:STANDARD
END:VTIMEZONE
BEGIN:VEVENT
DTSTART;VALUE=DATE:20230423
DTEND;VALUE=DATE:20230424
DTSTAMP:20260421T164223
CREATED:20230417T134138Z
LAST-MODIFIED:20230417T134138Z
UID:10004130-1682208000-1682294399@ues.cat
SUMMARY:Diada de Sant Jordi
DESCRIPTION:[vc_row][vc_column][vc_column_text]>> Tradicional parada de llibres de la Secció Natura. Tot el dia \, a la Rambla (Fira d’entitats)\n>> Venda de roses\, La Ganyota. Tot el dia\, a la Ronda Zamenhof\n>> Els autors d’Excursions per conèixer el rodal de Sabadell\, signaran exemplars del llibre al Racó del Campanar (taula de signatures) de 16 a 20 h[/vc_column_text][/vc_column][/vc_row]
URL:https://ues.cat/agenda/diada-de-sant-jordi/
CATEGORIES:Culturals
END:VEVENT
END:VCALENDAR