BEGIN:VCALENDAR
VERSION:2.0
PRODID:-//UES - ECPv6.15.20//NONSGML v1.0//EN
CALSCALE:GREGORIAN
METHOD:PUBLISH
X-WR-CALNAME:UES
X-ORIGINAL-URL:https://ues.cat
X-WR-CALDESC:Activitats per UES
REFRESH-INTERVAL;VALUE=DURATION:PT1H
X-Robots-Tag:noindex
X-PUBLISHED-TTL:PT1H
BEGIN:VTIMEZONE
TZID:Europe/Madrid
BEGIN:DAYLIGHT
TZOFFSETFROM:+0100
TZOFFSETTO:+0200
TZNAME:CEST
DTSTART:20220327T010000
END:DAYLIGHT
BEGIN:STANDARD
TZOFFSETFROM:+0200
TZOFFSETTO:+0100
TZNAME:CET
DTSTART:20221030T010000
END:STANDARD
BEGIN:DAYLIGHT
TZOFFSETFROM:+0100
TZOFFSETTO:+0200
TZNAME:CEST
DTSTART:20230326T010000
END:DAYLIGHT
BEGIN:STANDARD
TZOFFSETFROM:+0200
TZOFFSETTO:+0100
TZNAME:CET
DTSTART:20231029T010000
END:STANDARD
BEGIN:DAYLIGHT
TZOFFSETFROM:+0100
TZOFFSETTO:+0200
TZNAME:CEST
DTSTART:20240331T010000
END:DAYLIGHT
BEGIN:STANDARD
TZOFFSETFROM:+0200
TZOFFSETTO:+0100
TZNAME:CET
DTSTART:20241027T010000
END:STANDARD
END:VTIMEZONE
BEGIN:VEVENT
DTSTART;VALUE=DATE:20231005
DTEND;VALUE=DATE:20231112
DTSTAMP:20260424T085603
CREATED:20231026T071403Z
LAST-MODIFIED:20231026T071516Z
UID:10004545-1696464000-1699747199@ues.cat
SUMMARY:Foto.- Exposició col·lectiva al Casal Pere Quart
DESCRIPTION:[vc_row][vc_column][vc_column_text][/vc_column_text][/vc_column][/vc_row]
URL:https://ues.cat/agenda/foto-exposicio-collectiva-al-casal-pere-quart/
CATEGORIES:Culturals,Fotografia
END:VEVENT
BEGIN:VEVENT
DTSTART;VALUE=DATE:20231026
DTEND;VALUE=DATE:20231027
DTSTAMP:20260424T085603
CREATED:20221228T172326Z
LAST-MODIFIED:20221228T172326Z
UID:10004033-1698278400-1698364799@ues.cat
SUMMARY:Excursions de tot el dia per a la Gent Gran.- Les Costes Males. Santa Eulàlia de Riuprimer
DESCRIPTION:Itinerari: Amb sortida al Poblet de Santa Eulàlia i tot visitant l’església de Sant Martí de Sentfores documentada des de l’any 930\, ens aproparem a la joia geològica dels Esbornacs (o Costes Males)\, una formació margosa que\, per efectes de l’erosió\, configura un paisatge peculiar i que destaca pel seu color grisenc i la presencia de fòssils invertebrats marins. \nDistància: 7\,00 km \nDesnivell: +178m
URL:https://ues.cat/agenda/excursions-de-tot-el-dia-per-a-la-gent-gran-les-costes-males-santa-eulalia-de-riuprimer-2/
CATEGORIES:Gent Gran,Socials
END:VEVENT
BEGIN:VEVENT
DTSTART;TZID=Europe/Madrid:20231026T193000
DTEND;TZID=Europe/Madrid:20231026T203000
DTSTAMP:20260424T085603
CREATED:20231018T181328Z
LAST-MODIFIED:20231023T100423Z
UID:10004543-1698348600-1698352200@ues.cat
SUMMARY:Natura.- Xerrada: Plantes remeieres i aromàtiques
DESCRIPTION:[vc_row][vc_column][vc_column_text]Xerrada sobre plantes remeieres i aromàtiques: la riquesa de la família de les labiades. \nA càrrec d’Àngel Manuel Hernàndez Cardona\, botànic. \nLa família de les labiades és integrada per aproximadament 5.500 espècies\, disperses per tot el món\, però escasses a les regions tropicals i abundants als països temperats de l’hemisferi nord. \nMoltes plantes d’aquesta família\, ben representada a Sant Llorenç del Munt i l’Obac\, són remeieres o condimentàries: farigola\, romaní\, sajolida\, alfàbega\, orenga\, sàlvia\, menta\, espígol\, tarongina\, poniol\, nepta\, rementerola\, betònica\, etc \nDes del punt de vista botànic\, resumiríem la família de les labiades o lamiàcies dient que és integrada per plantes arbustives i herbàcies\, sovint aromàtiques. Les tiges solen ser tetràgones\, és a dir\, de secció quadrangular. Les fulles són oposades\, normalment simples. Les flors són hermafrodites\, zigomorfes (de simetria bilateral) i pentàmeres pel que respecta al periant. La corol·la és gamopètala (tota d’una peça\, formada per la unió dels pètals) i bilabiada\, caràcter aquest que defineix i caracteritza la família. L’androceu gairebé sempre consta de 4 estams. El gineceu és súper (està per damunt de les altres peces florals) i bicarpel·lar. Les inflorescències són cimes aplegades en verticil·lastres. Els fruits són constituïts per 4 núcules.[/vc_column_text][/vc_column][/vc_row]
URL:https://ues.cat/agenda/natura-xerrada-plantes-remeieres-i-aromatiques/
CATEGORIES:Culturals,Natura
END:VEVENT
END:VCALENDAR