BEGIN:VCALENDAR
VERSION:2.0
PRODID:-//UES - ECPv6.15.20//NONSGML v1.0//EN
CALSCALE:GREGORIAN
METHOD:PUBLISH
X-WR-CALNAME:UES
X-ORIGINAL-URL:https://ues.cat
X-WR-CALDESC:Activitats per UES
REFRESH-INTERVAL;VALUE=DURATION:PT1H
X-Robots-Tag:noindex
X-PUBLISHED-TTL:PT1H
BEGIN:VTIMEZONE
TZID:Europe/Madrid
BEGIN:DAYLIGHT
TZOFFSETFROM:+0100
TZOFFSETTO:+0200
TZNAME:CEST
DTSTART:20220327T010000
END:DAYLIGHT
BEGIN:STANDARD
TZOFFSETFROM:+0200
TZOFFSETTO:+0100
TZNAME:CET
DTSTART:20221030T010000
END:STANDARD
BEGIN:DAYLIGHT
TZOFFSETFROM:+0100
TZOFFSETTO:+0200
TZNAME:CEST
DTSTART:20230326T010000
END:DAYLIGHT
BEGIN:STANDARD
TZOFFSETFROM:+0200
TZOFFSETTO:+0100
TZNAME:CET
DTSTART:20231029T010000
END:STANDARD
BEGIN:DAYLIGHT
TZOFFSETFROM:+0100
TZOFFSETTO:+0200
TZNAME:CEST
DTSTART:20240331T010000
END:DAYLIGHT
BEGIN:STANDARD
TZOFFSETFROM:+0200
TZOFFSETTO:+0100
TZNAME:CET
DTSTART:20241027T010000
END:STANDARD
END:VTIMEZONE
BEGIN:VEVENT
DTSTART;VALUE=DATE:20231125
DTEND;VALUE=DATE:20231126
DTSTAMP:20260419T183322
CREATED:20221219T170853Z
LAST-MODIFIED:20231113T094913Z
UID:10004201-1700870400-1700956799@ues.cat
SUMMARY:Muntanya.- Serra de l'Obac. Castellsapera (939m) i Castell de Bocs (664m). Vallès Occidental
DESCRIPTION:[vc_row][vc_column][vc_column_text]Recorregut circular per la Serra de l’Obac amb punt d’inici a l’Alzina del Salari. Visitarem llocs i racons més que interessants i potser desconeguts: Castellsapera\, Roca Salvatge\, Paller de tot l’any\, Castell de Bocs\, l’Hospital de Sang. La Serra de l’Obac té molt d’interés i és molt inhòspit. \nNivell de dificultat: Mitjana** \nDistància: 15\,700 km >> Desnivell: +/-900 m >> Temps efectiu aproximat: 7 hores. \nSortida en cotxes particulars. Trobada a les 7 h a l’aparcament del Parc Catalunya\, davant del Club de Tenis. \nMaterial: Calçat i roba adequada. Esmorzar i dinar. \nPreu: Socis/es: 5€ >> soci@web i no socis/es: 10€. \nCal estar federat/ada o bé tramitar assegurança temporal obligatòria (4\,5€/dia). \nInscripcions del 13 al 23/11 a ues.cat\, app o presencialment a secretaria. \nReunió informativa: Dijous 23 de novembre a les 19 h a la UES (en cas de ser necessària). \n[/vc_column_text][/vc_column][/vc_row]
URL:https://ues.cat/agenda/muntanya-castellsapera-939m-i-castell-de-bocs-664m-valles-occidental/
CATEGORIES:Esportives,Muntanya
END:VEVENT
BEGIN:VEVENT
DTSTART;VALUE=DATE:20231125
DTEND;VALUE=DATE:20231126
DTSTAMP:20260419T183322
CREATED:20230130T181513Z
LAST-MODIFIED:20230130T181513Z
UID:10004088-1700870400-1700956799@ues.cat
SUMMARY:Natura.- El Bonaire de Creixenturri
DESCRIPTION:La talaia de la vall de Camprodon \nDe Sant Pau de Segúries a Camprodon\, pel santuari del Remei i el mirador de Sant Antoni (1.361 m)\, amb panoràmica rodona sobre la vall del riu Ter\, al Ripollès\, el Pirineu i la Garrotxa. Un paisatge privilegiat de boscos de faig\, freixe i pi roig\, amb mosaics de pastures i una fauna molt diversificada. Una delícia que no us podeu perdre.
URL:https://ues.cat/agenda/natura-el-bonaire-de-creixenturri/
CATEGORIES:Culturals,Natura
END:VEVENT
BEGIN:VEVENT
DTSTART;VALUE=DATE:20231125
DTEND;VALUE=DATE:20231126
DTSTAMP:20260419T183322
CREATED:20230918T085334Z
LAST-MODIFIED:20231108T143139Z
UID:10004186-1700870400-1700956799@ues.cat
SUMMARY:BTT.- Vall de Bianya
DESCRIPTION:[vc_row][vc_column][vc_column_text]30 km – desnivell 400 m \nDificultat: baixa/mitjana \nRecorregut: Recorregut per pistes rurals\, asfaltades en un 70% i de terra la resta. Circuit circular i planer amb desviaments per arribar al monestir de Sant Joan\, Sant Martí de  Capsec i a Sant Martí del Clot. \nHora i punt de trobada: A les 9 matí\, Bar Hostal Nou – Can Danes\, al nucli antic de l’Hostalnou. \nDinar optatiu al restaurant Ca l’Adela\, al nucli de Llocalou.[/vc_column_text][/vc_column][/vc_row]
URL:https://ues.cat/agenda/btt-vall-de-bianya/
CATEGORIES:BTT,Esportives
END:VEVENT
END:VCALENDAR