BEGIN:VCALENDAR
VERSION:2.0
PRODID:-//UES - ECPv6.15.20//NONSGML v1.0//EN
CALSCALE:GREGORIAN
METHOD:PUBLISH
X-WR-CALNAME:UES
X-ORIGINAL-URL:https://ues.cat
X-WR-CALDESC:Activitats per UES
REFRESH-INTERVAL;VALUE=DURATION:PT1H
X-Robots-Tag:noindex
X-PUBLISHED-TTL:PT1H
BEGIN:VTIMEZONE
TZID:Europe/Madrid
BEGIN:DAYLIGHT
TZOFFSETFROM:+0100
TZOFFSETTO:+0200
TZNAME:CEST
DTSTART:20230326T010000
END:DAYLIGHT
BEGIN:STANDARD
TZOFFSETFROM:+0200
TZOFFSETTO:+0100
TZNAME:CET
DTSTART:20231029T010000
END:STANDARD
BEGIN:DAYLIGHT
TZOFFSETFROM:+0100
TZOFFSETTO:+0200
TZNAME:CEST
DTSTART:20240331T010000
END:DAYLIGHT
BEGIN:STANDARD
TZOFFSETFROM:+0200
TZOFFSETTO:+0100
TZNAME:CET
DTSTART:20241027T010000
END:STANDARD
BEGIN:DAYLIGHT
TZOFFSETFROM:+0100
TZOFFSETTO:+0200
TZNAME:CEST
DTSTART:20250330T010000
END:DAYLIGHT
BEGIN:STANDARD
TZOFFSETFROM:+0200
TZOFFSETTO:+0100
TZNAME:CET
DTSTART:20251026T010000
END:STANDARD
END:VTIMEZONE
BEGIN:VEVENT
DTSTART;VALUE=DATE:20240207
DTEND;VALUE=DATE:20240229
DTSTAMP:20260421T140343
CREATED:20240206T170846Z
LAST-MODIFIED:20240206T170946Z
UID:10004710-1707264000-1709164799@ues.cat
SUMMARY:Foto.- Exposició 'Carnaval d'Annecy'
DESCRIPTION:[vc_row][vc_column][vc_column_text]Exposició fotogràfica de Mercè Boladeras: CARNAVAL D’ANNECY \nBIBLIOTECA DELS SAFREIG\, del 7 al 28 de febrer. \nHorari: dilluns\, dimarts\, dijous i divendres de 15:30 a 20:30 h\, i dimecres i dissabte de 9:30h a 13:30 h \nC. Papa Pius XI\, 165 – Sabadell[/vc_column_text][/vc_column][/vc_row]
URL:https://ues.cat/agenda/foto-exposicio-carnaval-dannecy/
CATEGORIES:Culturals,Fotografia
END:VEVENT
BEGIN:VEVENT
DTSTART;VALUE=DATE:20240227
DTEND;VALUE=DATE:20240228
DTSTAMP:20260421T140343
CREATED:20231215T174553Z
LAST-MODIFIED:20231219T150100Z
UID:10004256-1708992000-1709078399@ues.cat
SUMMARY:Caminades saludables Tot el dia.- Sot de l'Aram des de Cal Marquès
DESCRIPTION:[vc_row][vc_column][vc_column_text] \nMaresme. Distància: 9\,5 km >> Desnivell: +/- 285 m \nDescoberta del selvàtic sot de l’Aram i l’ermita de Sant Andreu de l’Arboceda\, al massís del Montnegre. \n [/vc_column_text][/vc_column][/vc_row]
URL:https://ues.cat/agenda/caminades-saludables-tot-el-dia-sot-de-laram-des-de-cal-marques/
CATEGORIES:Esportives,Gent Gran,Socials
END:VEVENT
BEGIN:VEVENT
DTSTART;TZID=Europe/Madrid:20240227T183000
DTEND;TZID=Europe/Madrid:20240227T203000
DTSTAMP:20260421T140343
CREATED:20240201T105646Z
LAST-MODIFIED:20240201T105744Z
UID:10004702-1709058600-1709065800@ues.cat
SUMMARY:Taller formatiu.- Two Nav (avançat)
DESCRIPTION:[vc_row][vc_column][vc_column_text] \n27 i 29 febrer i 1 de març\, 18:30h – 20:30h (aula de formació) \nEl curs va dirigit a totes aquelles persones que practiquen activitats a l’aire lliure i desitgen aprofitar les noves tecnologies dins d’aquest camp\, i que ja són usuaris del programa TwoNav Land. \nRequisits: \n\nUsuari de PC o Mac\, GPS Garmin o TwoNav o mòbil. Es recomana l’ús de portàtil personal al curs.\nSer usuari del programari TwoNav Land o haver fer el curs bàsic del programari.\n\nFormació a càrrec de Manolo Barcia\, tècnic de senders[/vc_column_text][/vc_column][/vc_row]
URL:https://ues.cat/agenda/taller-formatiu-two-nav-avancat/
CATEGORIES:Altres cursos i tallers,Esportives,Formació
END:VEVENT
END:VCALENDAR