BEGIN:VCALENDAR
VERSION:2.0
PRODID:-//UES - ECPv6.15.20//NONSGML v1.0//EN
CALSCALE:GREGORIAN
METHOD:PUBLISH
X-WR-CALNAME:UES
X-ORIGINAL-URL:https://ues.cat
X-WR-CALDESC:Activitats per UES
REFRESH-INTERVAL;VALUE=DURATION:PT1H
X-Robots-Tag:noindex
X-PUBLISHED-TTL:PT1H
BEGIN:VTIMEZONE
TZID:Europe/Madrid
BEGIN:DAYLIGHT
TZOFFSETFROM:+0100
TZOFFSETTO:+0200
TZNAME:CEST
DTSTART:20230326T010000
END:DAYLIGHT
BEGIN:STANDARD
TZOFFSETFROM:+0200
TZOFFSETTO:+0100
TZNAME:CET
DTSTART:20231029T010000
END:STANDARD
BEGIN:DAYLIGHT
TZOFFSETFROM:+0100
TZOFFSETTO:+0200
TZNAME:CEST
DTSTART:20240331T010000
END:DAYLIGHT
BEGIN:STANDARD
TZOFFSETFROM:+0200
TZOFFSETTO:+0100
TZNAME:CET
DTSTART:20241027T010000
END:STANDARD
BEGIN:DAYLIGHT
TZOFFSETFROM:+0100
TZOFFSETTO:+0200
TZNAME:CEST
DTSTART:20250330T010000
END:DAYLIGHT
BEGIN:STANDARD
TZOFFSETFROM:+0200
TZOFFSETTO:+0100
TZNAME:CET
DTSTART:20251026T010000
END:STANDARD
END:VTIMEZONE
BEGIN:VEVENT
DTSTART;VALUE=DATE:20240404
DTEND;VALUE=DATE:20240501
DTSTAMP:20260423T080924
CREATED:20240402T082748Z
LAST-MODIFIED:20240402T084513Z
UID:10004344-1712188800-1714521599@ues.cat
SUMMARY:Foto.- Pallassades\, exposició al Casal Pere Quart
DESCRIPTION:[vc_row][vc_column][vc_column_text]Exposició al Casal Pere Quart\, del 4 al 30 d’abril \nPallassades\, de Txema Lacunza \nRecull de fotografies creades per la col·lecció que va guanyar el Premi Nacional de Fotografia a 2015 al millor fotògraf de la Confederació Espanyola de Fotografia.[/vc_column_text][/vc_column][/vc_row]
URL:https://ues.cat/agenda/foto-pallassades-exposicio/
CATEGORIES:Culturals,Fotografia
END:VEVENT
BEGIN:VEVENT
DTSTART;TZID=Europe/Madrid:20240409T080000
DTEND;TZID=Europe/Madrid:20240409T150000
DTSTAMP:20260423T080925
CREATED:20231215T173933Z
LAST-MODIFIED:20240403T134958Z
UID:10004252-1712649600-1712674800@ues.cat
SUMMARY:Caminades saludables Matinals.- Les faldes del Montseny a Sant Esteve de Palautordera
DESCRIPTION:[vc_row][vc_column][vc_column_text] \nVallès Oriental. Distància: 10 km >> Desnivell: +/-240 m \nRuta circular al pla de Santa Margarida passant pel castell de Montclús i Santa Magdalena de Mosqueroles\, a les faldes del Montseny. \n[/vc_column_text][/vc_column][/vc_row]
URL:https://ues.cat/agenda/caminades-saludables-matinals-les-faldes-del-montseny-a-sant-esteve-de-palautordera/
CATEGORIES:Esportives,Gent Gran
END:VEVENT
BEGIN:VEVENT
DTSTART;TZID=Europe/Madrid:20240409T190000
DTEND;TZID=Europe/Madrid:20240409T203000
DTSTAMP:20260423T080925
CREATED:20240321T174529Z
LAST-MODIFIED:20240321T174529Z
UID:10004734-1712689200-1712694600@ues.cat
SUMMARY:Xerrades obertes sobre temes de muntanya.- Bergfex Tours
DESCRIPTION:[vc_row][vc_column][vc_column_text]Bergfex Tours a càrrec d’en Pere Garcia\, alpinista i esquiador sabadellenc. Aquesta es una aplicació per  a mòbils no massa coneguda al nostre país\, que ens ajuda a anar per la muntanya. Amb la xerrada veurem les seves principals característiques\, així com diferències respecte a altres que hi ha al mercat. \nA les 19 h\, virtual (Zoom)[/vc_column_text][/vc_column][/vc_row]
URL:https://ues.cat/agenda/xerrades-obertes-sobre-temes-de-muntanya-bergfex-tours/
CATEGORIES:Esportives,Muntanya
END:VEVENT
BEGIN:VEVENT
DTSTART;TZID=Europe/Madrid:20240409T190000
DTEND;TZID=Europe/Madrid:20240409T210000
DTSTAMP:20260423T080925
CREATED:20240312T164434Z
LAST-MODIFIED:20240325T101201Z
UID:10004724-1712689200-1712696400@ues.cat
SUMMARY:Càpsula formativa.- Curses d'orientació
DESCRIPTION:[vc_row][vc_column][vc_column_text]A càrrec de Ricard Masferrer\, responsable de la secció d’orientació de la UES. \n19h. \nCàpsula formativa adreçada a persones que no han participat mai en una cursa d’orientació i que volen saber-ne el seu funcionament. També poden assistir-hi persones que hagin participat en alguna cursa d’orientació però desitgin aclarir alguns conceptes. \nÉs una càpsula formativa a qui tingui previst participar en la propera cursa popular que organitzem a Masrampinyo (Montcada i Reixac) \nTractarem els següents punts: \n\nQuè són les curses d’orientació?\nMapes d’orientació\nSimbologia bàsica dels mapes d’orientació\nElements de control\nQuè cal tenir en compte en les primeres curses\n\nPer fer-ho utilitzarem els mapes de Masrampinyo.[/vc_column_text][/vc_column][/vc_row]
URL:https://ues.cat/agenda/capsula-formativa-curses-dorientacio-2/
CATEGORIES:Altres cursos i tallers,Esportives,Formació,Orientació
END:VEVENT
END:VCALENDAR