BEGIN:VCALENDAR
VERSION:2.0
PRODID:-//UES - ECPv6.15.20//NONSGML v1.0//EN
CALSCALE:GREGORIAN
METHOD:PUBLISH
X-WR-CALNAME:UES
X-ORIGINAL-URL:https://ues.cat
X-WR-CALDESC:Activitats per UES
REFRESH-INTERVAL;VALUE=DURATION:PT1H
X-Robots-Tag:noindex
X-PUBLISHED-TTL:PT1H
BEGIN:VTIMEZONE
TZID:Europe/Madrid
BEGIN:DAYLIGHT
TZOFFSETFROM:+0100
TZOFFSETTO:+0200
TZNAME:CEST
DTSTART:20230326T010000
END:DAYLIGHT
BEGIN:STANDARD
TZOFFSETFROM:+0200
TZOFFSETTO:+0100
TZNAME:CET
DTSTART:20231029T010000
END:STANDARD
BEGIN:DAYLIGHT
TZOFFSETFROM:+0100
TZOFFSETTO:+0200
TZNAME:CEST
DTSTART:20240331T010000
END:DAYLIGHT
BEGIN:STANDARD
TZOFFSETFROM:+0200
TZOFFSETTO:+0100
TZNAME:CET
DTSTART:20241027T010000
END:STANDARD
BEGIN:DAYLIGHT
TZOFFSETFROM:+0100
TZOFFSETTO:+0200
TZNAME:CEST
DTSTART:20250330T010000
END:DAYLIGHT
BEGIN:STANDARD
TZOFFSETFROM:+0200
TZOFFSETTO:+0100
TZNAME:CET
DTSTART:20251026T010000
END:STANDARD
END:VTIMEZONE
BEGIN:VEVENT
DTSTART;TZID=Europe/Madrid:20241010T190000
DTEND;TZID=Europe/Madrid:20241010T210000
DTSTAMP:20260423T074938
CREATED:20240718T152732Z
LAST-MODIFIED:20241004T090127Z
UID:10004773-1728586800-1728594000@ues.cat
SUMMARY:Cicle de cinema i projeccions de muntanya.- 'Jordi Pons\, quan els records pesen més que les esperances' (documental)
DESCRIPTION:[vc_row][vc_column][vc_column_text]Si no vau poder assistir a l’estrena del documental al Vallès el passat mes de maig\, o el voleu tornar a veure\, aquest octubre projectem de nou el documental a la UES. \nEl documental repassa la trajectòria alpinística de Jordi Pons. L’ascensió portada a terme al cim del Mönch de 4099 m als Alps suïssos\, amb un equip col·laborador\, esdevé el fil conductor que permet donar a conèixer les experiències de més de 75 anys d’aquest alpinista català amb reflexions compartides amb destacats personatges del món de la  muntanya. \nCol·loqui posterior amb Jordi Pons i Jaume Altadill\, realitzador del documental. \nA les 19 h sala d’actes. Gratuït.[/vc_column_text][/vc_column][/vc_row]
URL:https://ues.cat/agenda/cicle-de-cinema-de-muntanya-jordi-pons-quan-els-records-pesen-mes-que-les-esperances-documental/
CATEGORIES:Culturals,Esportives
END:VEVENT
END:VCALENDAR