BEGIN:VCALENDAR
VERSION:2.0
PRODID:-//UES - ECPv6.15.20//NONSGML v1.0//EN
CALSCALE:GREGORIAN
METHOD:PUBLISH
X-WR-CALNAME:UES
X-ORIGINAL-URL:https://ues.cat
X-WR-CALDESC:Activitats per UES
REFRESH-INTERVAL;VALUE=DURATION:PT1H
X-Robots-Tag:noindex
X-PUBLISHED-TTL:PT1H
BEGIN:VTIMEZONE
TZID:Europe/Madrid
BEGIN:DAYLIGHT
TZOFFSETFROM:+0100
TZOFFSETTO:+0200
TZNAME:CEST
DTSTART:20240331T010000
END:DAYLIGHT
BEGIN:STANDARD
TZOFFSETFROM:+0200
TZOFFSETTO:+0100
TZNAME:CET
DTSTART:20241027T010000
END:STANDARD
BEGIN:DAYLIGHT
TZOFFSETFROM:+0100
TZOFFSETTO:+0200
TZNAME:CEST
DTSTART:20250330T010000
END:DAYLIGHT
BEGIN:STANDARD
TZOFFSETFROM:+0200
TZOFFSETTO:+0100
TZNAME:CET
DTSTART:20251026T010000
END:STANDARD
BEGIN:DAYLIGHT
TZOFFSETFROM:+0100
TZOFFSETTO:+0200
TZNAME:CEST
DTSTART:20260329T010000
END:DAYLIGHT
BEGIN:STANDARD
TZOFFSETFROM:+0200
TZOFFSETTO:+0100
TZNAME:CET
DTSTART:20261025T010000
END:STANDARD
END:VTIMEZONE
BEGIN:VEVENT
DTSTART;VALUE=DATE:20250704
DTEND;VALUE=DATE:20250705
DTSTAMP:20260425T055751
CREATED:20250219T172348Z
LAST-MODIFIED:20250620T090352Z
UID:10004527-1751587200-1751673599@ues.cat
SUMMARY:Senders de 'tardeo'.- Un passeig per les rieres de Valldoreix
DESCRIPTION:[vc_row][vc_column][vc_column_text]Inici: 18:30 h >> Finalització: a les  23 h aprox a la Floresta. \nPunt de trobada: estació FGC Hospital General. Pujarem al tren dels FGC a l’horari indicat: \nParc del Nord: 17:57 >> Sabadell Nord: 17:59 >> Creu Alta: 18:01 >> Plaça Major: 18:03 >> Can Feu-Gràcia: 18:05 \nRuta que ressegueix els diferents torrents de Valldoreix que baixen de la Serra de Can Julià i el Puig Madrona i aboquen les seves aigües a la Riera de Rubí. Un circuit inclusiu ens ajudarà a seguir el recorregut per un ambient fresc i humit que a la tardor s’omple de colors i a l’estiu convida a caminar a les primeres o últimes hores del dia.\n\nFitxa tècnica\nDistància: 7\,4 km >> Temps: 2:15 h >> Desnivell positiu: + 120 m >> Desnivell negatiu: – 30 m >> Dificultat: FÀCIL >> Ibp del recorregut: 26 \nActivitat gratuïta per a socis/es. \nEl desplaçament en tren anirà a càrrec de cada participant. \nItinerari: Hospital General – torrent de Can Carbassa – Molí de Canals – camí de Can Llobet – la Floresta \nCal portar aigua fresca\, sopar\, llum\, bastons\, calçat de muntanya i roba adient a les condicions climatològiques. \n[/vc_column_text][/vc_column][/vc_row]
URL:https://ues.cat/agenda/senders-a-la-fresca-un-passeig-per-les-rieres-de-valldoreix/
CATEGORIES:Esportives,Senders
END:VEVENT
END:VCALENDAR