BEGIN:VCALENDAR
VERSION:2.0
PRODID:-//UES - ECPv6.15.20//NONSGML v1.0//EN
CALSCALE:GREGORIAN
METHOD:PUBLISH
X-ORIGINAL-URL:https://ues.cat
X-WR-CALDESC:Activitats per UES
REFRESH-INTERVAL;VALUE=DURATION:PT1H
X-Robots-Tag:noindex
X-PUBLISHED-TTL:PT1H
BEGIN:VTIMEZONE
TZID:Europe/Madrid
BEGIN:DAYLIGHT
TZOFFSETFROM:+0100
TZOFFSETTO:+0200
TZNAME:CEST
DTSTART:20240331T010000
END:DAYLIGHT
BEGIN:STANDARD
TZOFFSETFROM:+0200
TZOFFSETTO:+0100
TZNAME:CET
DTSTART:20241027T010000
END:STANDARD
BEGIN:DAYLIGHT
TZOFFSETFROM:+0100
TZOFFSETTO:+0200
TZNAME:CEST
DTSTART:20250330T010000
END:DAYLIGHT
BEGIN:STANDARD
TZOFFSETFROM:+0200
TZOFFSETTO:+0100
TZNAME:CET
DTSTART:20251026T010000
END:STANDARD
BEGIN:DAYLIGHT
TZOFFSETFROM:+0100
TZOFFSETTO:+0200
TZNAME:CEST
DTSTART:20260329T010000
END:DAYLIGHT
BEGIN:STANDARD
TZOFFSETFROM:+0200
TZOFFSETTO:+0100
TZNAME:CET
DTSTART:20261025T010000
END:STANDARD
END:VTIMEZONE
BEGIN:VEVENT
DTSTART;VALUE=DATE:20251010
DTEND;VALUE=DATE:20251103
DTSTAMP:20260424T194620
CREATED:20250915T135932Z
LAST-MODIFIED:20251007T145535Z
UID:10004994-1760054400-1762127999@ues.cat
SUMMARY:Espeleologia.- Curset de Nivell 2 d'Espeleologia (posposat)
DESCRIPTION:56è Curs d’Iniciació a l’Espeleologia – Nivell 2 \n \n\n\n\nObjectius del curs \n\n\n\n(del 10 d’octubre al 2 de novembre de 2025). \nNOVES DATES!! del 18 de febrer de 2026 a l’1 de març de 2026 (teòriques i pràctiques compreses entre aquestes dates). \n\n\n\nEl curs d’iniciació a l’espeleologia – nivell 2 aporta els coneixements teòrics (6h) i pràctics (28h) necessaris per aprendre a instal·lar les cordes a les cavitats\, liderar grups amateurs de descoberta de cavitats i fer-ho amb seguretat i respecte al medi natural. \nNormativa \nL’edat mínima s’estableix en 16 anys i és necessària l’autorització dels pares o tutors legals pels menors de 18 anys. Els cursetistes es comprometen a seguir les instruccions dels monitors\, així com les normes de seguretat que els responsables del curs estableixin. Els cursetistes que no respectin la natura i/o les normes de convivència o no mostrin interès pels continguts del curs\, podran ser exclosos i perdre tots els seus drets si la direcció del curs ho considera necessari. Qualsevol cas no previst serà resolt per la direcció\, la qual podrà efectuar els canvis que consideri oportuns quan les circumstàncies ho aconsellin. \nMaterial bàsic (a càrrec de cada cursetista): \nMono de mecànic o xandall vell\, botes d’aigua o de muntanya. També cal portar llum frontal propi. Si teniu casc homologat propi\, podeu fer servir el vostre. \nNivell esportiu requerit: bona condició física. \nPrograma del Curs: \nDivendres 10/10/25\, 20.30h (virtual): Presentació del curs i 1a sessió teòrica: “Material col·lectiu\, instal·lació cavitats equipades + maniobra autosocors”. \nDissabte 11/10/25\, (tot el dia) 1a Pràctica: instal·lació de cavitat vertical (Avenc dels Geòlegs). \nDijous 16/10/25\, 20.00h (virtual): 2a sessió teòrica: “Cartografia i topografia”. \nDivendres 17/10/25\, 20.30h (virtual): 3a sessió teòrica: “Logística de la visita a una cavitat”. \nDissabte 18/10/25\, (tot el dia) 2a Pràctica: instal·lació de cavitat vertical (Avenc de Can Sadurní). \nDiumenge 19/10/25\, (tot el dia) 3a Pràctica: progressió en cavitat mixta (Bora Fosca). \nDijous 23/10/25\, 20.00h (virtual): 4a sessió teòrica: “Geografia càrstica i bioespeleologia”. \nDivendres 24/10/25\, 20.30h (virtual): 5a sessió teòrica: “Prevenció d’accidents II i espeleosocors”. \nDiumenge 02/11/2025\, (tot el dia) 4a pràctica: instal·lació de cavitat vertical (Avenc de Sant Marçal) i presentació dels projectes finals del curs. \n  \nCal assistir a totes les sessions de manera obligatòria per obtenir el certificat d’aptitud.  \nEl curs està APROVAT i HOMOLOGAT per la Federació Catalana d’Espeleologia. \nPer obtenir el certificat del curs cal estar federat per la Federació Catalana d’Espeleologia (FCE) \nDescarregar díptic informatiu \n 
URL:https://ues.cat/agenda/espeleologia-curset-de-nivell-2-despeleologia/
CATEGORIES:Espeleo Club,Esportives
END:VEVENT
BEGIN:VEVENT
DTSTART;VALUE=DATE:20251016
DTEND;VALUE=DATE:20251017
DTSTAMP:20260424T194620
CREATED:20250915T083918Z
LAST-MODIFIED:20251001T162847Z
UID:10005026-1760572800-1760659199@ues.cat
SUMMARY:Caminades Slow
DESCRIPTION:Engeguem una nova iniciativa amb l’objectiu de crear l’hàbit de caminar\, fomentar l’activitat física a l’aire lliure i fer xarxa amb altres persones amb els mateixos interessos. \nLes caminades slow estan obertes a qualsevol persona que vulgui caminar a ritme suau\, amb recorreguts d’entre 6 i 7 km per entorns naturals (i també urbans)\, per camins sense dificultat\, majoritàriament plans\, però amb alguna pujada i baixada. \nAl llarg de 8 sortides\, farem 4 recorreguts diferents per tal d’establir l’hàbit amb recorreguts fàcils i accessibles des de qualsevol punt de la ciutat. Passades les 8 sortides\, l’objectiu final és que el grup continuï caminant mantenint l’hàbit i fent salut de forma autònoma i sense el nostre acompanyament. \nCalendari sortides i punts de trobada: \nDijous 18 setembre: Riu Amunt. Distància: 6\,10 km >> Desnivell: +/- 104 m. Trobada a la UES a les 9:30 h. Ruta circular.\nDijous 25 de setembre: Volta al Parc de Catalunya. Distància: 6\,80 km >> Desnivell: + 172 m/- 159 m. Trobada al Parc de Catalunya\, davant el Club de Tenis (zona aparcament) a les 9:30 h. Ruta circular.\nDijous 2 d’octubre: Riu avall. Distància: 6\,10 km >> Desnivell: + 80/- 43 m. Trobada a la UES a les 9:30 h. Ruta circular.\nDijous 9 d’octubre: Volta per Can Deu. Distància: 6\,80 km >> Desnivell: +102 m/- 118 m. Trobada a l’estació del Parc del Nord FGC (carrer) a les 9:30 h. Ruta circular.\nDijous 16 d’octubre: Riu Amunt. Distància: 6\,10 km >> Desnivell: +/- 104 m. Trobada a la UES a les 9:30 h. Ruta circular.\nDijous 23 d’octubre: Volta al Parc de Catalunya. Distància: 6\,80 km >> Desnivell: + 172 m/- 159 m. Trobada al Parc de Catalunya\, davant el Club de Tenis (zona aparcament) a les 9:30 h. Ruta circular.\nDijous 30 d’octubre: Riu avall. Distància: 6\,10 km >> Desnivell: + 80/- 43 m. Trobada a la UES a les 9:30 h. Ruta circular.\nDijous 6 de novembre: Volta per Can Deu. Distància: 6\,80 km >> Desnivell: +102 m/- 118 m. Trobada a l’estació del Parc del Nord FGC (carrer) a les 9:30 h. Ruta circular. \nTotes les sortides finalitzaran cap a les 12:30h.\nLes sortides son gratuïtes i obertes a tothom que pugui caminar 6/7 km a ritme suau. Per participar-hi cal fer inscripció a través de la nostra web (una única inscripció per a les 8 sortides).\nCal portar roba i calçat adequat\, motxilla petita amb aigua\, ganyips o similar.\nMàxim: 20 persones \nInscripcions obertes
URL:https://ues.cat/agenda/caminades-slow/2025-10-16/
END:VEVENT
END:VCALENDAR