BEGIN:VCALENDAR
VERSION:2.0
PRODID:-//UES - ECPv6.15.20//NONSGML v1.0//EN
CALSCALE:GREGORIAN
METHOD:PUBLISH
X-WR-CALNAME:UES
X-ORIGINAL-URL:https://ues.cat
X-WR-CALDESC:Activitats per UES
REFRESH-INTERVAL;VALUE=DURATION:PT1H
X-Robots-Tag:noindex
X-PUBLISHED-TTL:PT1H
BEGIN:VTIMEZONE
TZID:Europe/Madrid
BEGIN:DAYLIGHT
TZOFFSETFROM:+0100
TZOFFSETTO:+0200
TZNAME:CEST
DTSTART:20240331T010000
END:DAYLIGHT
BEGIN:STANDARD
TZOFFSETFROM:+0200
TZOFFSETTO:+0100
TZNAME:CET
DTSTART:20241027T010000
END:STANDARD
BEGIN:DAYLIGHT
TZOFFSETFROM:+0100
TZOFFSETTO:+0200
TZNAME:CEST
DTSTART:20250330T010000
END:DAYLIGHT
BEGIN:STANDARD
TZOFFSETFROM:+0200
TZOFFSETTO:+0100
TZNAME:CET
DTSTART:20251026T010000
END:STANDARD
BEGIN:DAYLIGHT
TZOFFSETFROM:+0100
TZOFFSETTO:+0200
TZNAME:CEST
DTSTART:20260329T010000
END:DAYLIGHT
BEGIN:STANDARD
TZOFFSETFROM:+0200
TZOFFSETTO:+0100
TZNAME:CET
DTSTART:20261025T010000
END:STANDARD
END:VTIMEZONE
BEGIN:VEVENT
DTSTART;VALUE=DATE:20251111
DTEND;VALUE=DATE:20251112
DTSTAMP:20260423T181602
CREATED:20250902T145509Z
LAST-MODIFIED:20250902T145509Z
UID:10004988-1762819200-1762905599@ues.cat
SUMMARY:Caminades Saludables +60\, matinal.- Vall de Llobregat (Bages)
DESCRIPTION:Recorregut: Pont de Vilomara\, Sant Vicenç de Castellet\, castell de Castellbell\, meandre del Llobregat. \nDistància: 10\,50 km >> Desnivell: +/- 42 m \nSortida matinal en autocar. Inscripcions a partir del dilluns 27 d’octubre.
URL:https://ues.cat/agenda/caminades-saludables-60-matinal-vall-de-llobregat-bages/
CATEGORIES:Gent Gran,Socials
END:VEVENT
BEGIN:VEVENT
DTSTART;VALUE=DATE:20251111
DTEND;VALUE=DATE:20251112
DTSTAMP:20260423T181602
CREATED:20250919T154431Z
LAST-MODIFIED:20250922T080213Z
UID:10005003-1762819200-1762905599@ues.cat
SUMMARY:Xerrades obertes sobre temes de muntanya.- Com preparar excursions amb la intel·ligència artificial. 10 casos d'ús.
DESCRIPTION:A càrrec d’Oriol Carol\, alpinista i director de l’Oficina de Govern de les Dades de la Universitat Autònoma de Barcelona.  \nXerrada pràctica en la que aprendrem com la IA ens pot ser útil per preparar millor les nostres sortides a la muntanya. A través de 10 casos coneixerem diverses eines que ens poden resultar molt útils i estalviar molt de temps. \nA les 19h per ZOOM. Cal inscripció prèvia.
URL:https://ues.cat/agenda/xerrades-obertes-sobre-temes-de-muntanya-com-preparar-excursions-amb-la-intelligencia-artificial-10-casos-dus/
END:VEVENT
BEGIN:VEVENT
DTSTART;VALUE=DATE:20251111
DTEND;VALUE=DATE:20251114
DTSTAMP:20260423T181602
CREATED:20250320T191649Z
LAST-MODIFIED:20250606T154843Z
UID:10004555-1762819200-1763078399@ues.cat
SUMMARY:Senders.- Montsec
DESCRIPTION:[vc_row][vc_column][vc_column_text]11\, 12 i 13 de novembre \nEstret de Mu – Congost de Mont-Rebei – Mare de Déu de la Pertusa – Alós de Balaguer – Àger – Corçà – Pont de Montanyana – Salàs de Pallars \nInscripcions a partir del divendres dia 6 de juny a la tarda.\nCal estar federat/ada per la FEEC. \nNomés habitacions dobles. \nConsulta el dossier informatiu[/vc_column_text][/vc_column][/vc_row]
URL:https://ues.cat/agenda/senders-pallars/
CATEGORIES:Esportives,Senders
END:VEVENT
END:VCALENDAR