BEGIN:VCALENDAR
VERSION:2.0
PRODID:-//UES - ECPv6.15.20//NONSGML v1.0//EN
CALSCALE:GREGORIAN
METHOD:PUBLISH
X-WR-CALNAME:UES
X-ORIGINAL-URL:https://ues.cat
X-WR-CALDESC:Activitats per UES
REFRESH-INTERVAL;VALUE=DURATION:PT1H
X-Robots-Tag:noindex
X-PUBLISHED-TTL:PT1H
BEGIN:VTIMEZONE
TZID:Europe/Madrid
BEGIN:DAYLIGHT
TZOFFSETFROM:+0100
TZOFFSETTO:+0200
TZNAME:CEST
DTSTART:20250330T010000
END:DAYLIGHT
BEGIN:STANDARD
TZOFFSETFROM:+0200
TZOFFSETTO:+0100
TZNAME:CET
DTSTART:20251026T010000
END:STANDARD
BEGIN:DAYLIGHT
TZOFFSETFROM:+0100
TZOFFSETTO:+0200
TZNAME:CEST
DTSTART:20260329T010000
END:DAYLIGHT
BEGIN:STANDARD
TZOFFSETFROM:+0200
TZOFFSETTO:+0100
TZNAME:CET
DTSTART:20261025T010000
END:STANDARD
BEGIN:DAYLIGHT
TZOFFSETFROM:+0100
TZOFFSETTO:+0200
TZNAME:CEST
DTSTART:20270328T010000
END:DAYLIGHT
BEGIN:STANDARD
TZOFFSETFROM:+0200
TZOFFSETTO:+0100
TZNAME:CET
DTSTART:20271031T010000
END:STANDARD
END:VTIMEZONE
BEGIN:VEVENT
DTSTART;VALUE=DATE:20260513
DTEND;VALUE=DATE:20260516
DTSTAMP:20260422T101350
CREATED:20251203T161051Z
LAST-MODIFIED:20260113T114540Z
UID:10005104-1778630400-1778889599@ues.cat
SUMMARY:Senders.- Cap de Creus
DESCRIPTION:Sortida de tres dies a Cap de Creus\, Colliure i maternitat d’Elna \nConsulta més informació
URL:https://ues.cat/agenda/senders-de-mar-i-muntanya/
CATEGORIES:Senders
END:VEVENT
BEGIN:VEVENT
DTSTART;VALUE=DATE:20260514
DTEND;VALUE=DATE:20260515
DTSTAMP:20260422T101350
CREATED:20260323T170839Z
LAST-MODIFIED:20260323T170839Z
UID:10005320-1778716800-1778803199@ues.cat
SUMMARY:Caminades Slow
DESCRIPTION:Iniciativa amb l’objectiu de crear l’hàbit de caminar\, fomentar l’activitat física a l’aire lliure i fer xarxa amb altres persones amb els mateixos interessos. \nLes caminades slow estan obertes a qualsevol persona que vulgui caminar a ritme suau\, amb recorreguts d’entre 6 i 7 km per entorns naturals (i també urbans)\, per camins sense dificultat\, majoritàriament plans\, però amb alguna pujada i baixada. \nEls recorreguts principals d’aquestes caminades són pel Rodal de Sabadell\, però\, mentre duren les restriccions de la PPA\, es duran a terme des de la UES cap als diversos parcs de la ciutat. \nEs surt a les 9:30h els dijous\, amb una durada d’entre 2 h i 3 h. \nLes sortides són gratuïtes i obertes a tothom que pugui caminar 6 o 7 km a ritme suau. Per participar-hi cal fer la inscripció a través de la nostra web\, amb una única inscripció vàlida per a totes les sortides. Un cop inscrits\, entrareu dins del canal (grup unidireccional) de WhatsApp\, per on es comunicarà el lloc i l’hora de trobada de cada dijous\, així com qualsevol canvi o anul·lació. Estar inscrit implica acceptar estar dins del canal de WhatsApp. \nCal portar roba i calçat adequats\, motxilla petita amb aigua\, ganyips o similar.
URL:https://ues.cat/agenda/caminades-slow-4/2026-05-14/
END:VEVENT
BEGIN:VEVENT
DTSTART;VALUE=DATE:20260514
DTEND;VALUE=DATE:20260515
DTSTAMP:20260422T101350
CREATED:20260416T072521Z
LAST-MODIFIED:20260416T072521Z
UID:10005398-1778716800-1778803199@ues.cat
SUMMARY:Campament.- Reunió informativa
DESCRIPTION:20h sala d’actes
URL:https://ues.cat/agenda/campament-reunio-informativa/
CATEGORIES:Campament
END:VEVENT
END:VCALENDAR