BEGIN:VCALENDAR
VERSION:2.0
PRODID:-//UES - ECPv6.15.20//NONSGML v1.0//EN
CALSCALE:GREGORIAN
METHOD:PUBLISH
X-ORIGINAL-URL:https://ues.cat
X-WR-CALDESC:Activitats per UES
REFRESH-INTERVAL;VALUE=DURATION:PT1H
X-Robots-Tag:noindex
X-PUBLISHED-TTL:PT1H
BEGIN:VTIMEZONE
TZID:Europe/Madrid
BEGIN:DAYLIGHT
TZOFFSETFROM:+0100
TZOFFSETTO:+0200
TZNAME:CEST
DTSTART:20250330T010000
END:DAYLIGHT
BEGIN:STANDARD
TZOFFSETFROM:+0200
TZOFFSETTO:+0100
TZNAME:CET
DTSTART:20251026T010000
END:STANDARD
BEGIN:DAYLIGHT
TZOFFSETFROM:+0100
TZOFFSETTO:+0200
TZNAME:CEST
DTSTART:20260329T010000
END:DAYLIGHT
BEGIN:STANDARD
TZOFFSETFROM:+0200
TZOFFSETTO:+0100
TZNAME:CET
DTSTART:20261025T010000
END:STANDARD
BEGIN:DAYLIGHT
TZOFFSETFROM:+0100
TZOFFSETTO:+0200
TZNAME:CEST
DTSTART:20270328T010000
END:DAYLIGHT
BEGIN:STANDARD
TZOFFSETFROM:+0200
TZOFFSETTO:+0100
TZNAME:CET
DTSTART:20271031T010000
END:STANDARD
END:VTIMEZONE
BEGIN:VEVENT
DTSTART;VALUE=DATE:20261107
DTEND;VALUE=DATE:20261108
DTSTAMP:20260424T183138
CREATED:20260202T101400Z
LAST-MODIFIED:20260202T101400Z
UID:10005193-1794009600-1794095999@ues.cat
SUMMARY:Natura.- Fagedes bucòliques
DESCRIPTION:Itinerari que permet enllaçar dos dels santuaris més populars del Collsacabra i el seu entorn excepcional. Des del santuari de la Font de la Salut\, i seguint fagedes bucòliques\, passarem per les intrigants Roques Encantades per endinsar-nos a la cinglera del Far\, un dels esperons rocosos més espectaculars del Cabrerès. La ruta finalitza al Santuari de la Mare de Déu del Far\, d’origen medieval\, situat a la punta d’aquesta cinglera i amb un mirador espectacular sobre les Guilleries. Amb el guiatge d’Àngel Bistué\, biòleg i guia de l’associació Flora Catalana. \nDurada: Tot el dia \nTransport: Autocar \nDificultat: Baixa
URL:https://ues.cat/agenda/natura-fagedes-bucoliques/
CATEGORIES:Natura
END:VEVENT
END:VCALENDAR