BEGIN:VCALENDAR
VERSION:2.0
PRODID:-//UES - ECPv6.15.20//NONSGML v1.0//EN
CALSCALE:GREGORIAN
METHOD:PUBLISH
X-WR-CALNAME:UES
X-ORIGINAL-URL:https://ues.cat
X-WR-CALDESC:Activitats per UES
REFRESH-INTERVAL;VALUE=DURATION:PT1H
X-Robots-Tag:noindex
X-PUBLISHED-TTL:PT1H
BEGIN:VTIMEZONE
TZID:Europe/Madrid
BEGIN:DAYLIGHT
TZOFFSETFROM:+0100
TZOFFSETTO:+0200
TZNAME:CEST
DTSTART:20230326T010000
END:DAYLIGHT
BEGIN:STANDARD
TZOFFSETFROM:+0200
TZOFFSETTO:+0100
TZNAME:CET
DTSTART:20231029T010000
END:STANDARD
BEGIN:DAYLIGHT
TZOFFSETFROM:+0100
TZOFFSETTO:+0200
TZNAME:CEST
DTSTART:20240331T010000
END:DAYLIGHT
BEGIN:STANDARD
TZOFFSETFROM:+0200
TZOFFSETTO:+0100
TZNAME:CET
DTSTART:20241027T010000
END:STANDARD
BEGIN:DAYLIGHT
TZOFFSETFROM:+0100
TZOFFSETTO:+0200
TZNAME:CEST
DTSTART:20250330T010000
END:DAYLIGHT
BEGIN:STANDARD
TZOFFSETFROM:+0200
TZOFFSETTO:+0100
TZNAME:CET
DTSTART:20251026T010000
END:STANDARD
END:VTIMEZONE
BEGIN:VEVENT
DTSTART;TZID=Europe/Madrid:20240503T200000
DTEND;TZID=Europe/Madrid:20240503T210000
DTSTAMP:20260420T200712
CREATED:20240207T153604Z
LAST-MODIFIED:20240423T155015Z
UID:10004712-1714766400-1714770000@ues.cat
SUMMARY:Divendres culturals.- Hits.cat
DESCRIPTION:[vc_row][vc_column][vc_column_text]LA CARENA DE LA UES ens presenta un concert de temes coneguts de música moderna totes expressades en català de grups internacionals i locals: ABBA\, Sopa de Cabra\, Sau\, Bob Dylan… \ni a les 19 h\, 30 min abans de començar\, tastets amb La Galana. \nInscriu-te ara![/vc_column_text][/vc_column][/vc_row]
URL:https://ues.cat/agenda/divendres-culturals-hits-cat/
CATEGORIES:Coral La Carena,Cultura,Culturals
END:VEVENT
BEGIN:VEVENT
DTSTART;TZID=Europe/Madrid:20240515T190000
DTEND;TZID=Europe/Madrid:20240515T203000
DTSTAMP:20260420T200712
CREATED:20240425T172558Z
LAST-MODIFIED:20240425T172558Z
UID:10004744-1715799600-1715805000@ues.cat
SUMMARY:Vídeo.- Els nostres autors: Lluís Fernàndez
DESCRIPTION:[vc_row][vc_column][vc_column_text]DOCUMENTALS DE SABADELL:\nCan Deu i Ribatallada\nRodal de Sabadell\nCamí de Polinyà\nTogores\nPassejant per Sabadell \nDimecres\, 15/5 a les 19 h\, a la sala d’actes. Gratuït.\nDurada de la sessió: 60 minuts[/vc_column_text][/vc_column][/vc_row]
URL:https://ues.cat/agenda/video-els-nostres-autors-lluis-fernandez/
CATEGORIES:Culturals,Vídeo
END:VEVENT
BEGIN:VEVENT
DTSTART;TZID=Europe/Madrid:20240516T190000
DTEND;TZID=Europe/Madrid:20240516T203000
DTSTAMP:20260420T200712
CREATED:20240404T072317Z
LAST-MODIFIED:20240509T084635Z
UID:10004348-1715886000-1715891400@ues.cat
SUMMARY:Projecció 'Jordi Pons\, quan els records pesen més que les esperances'
DESCRIPTION:[vc_row][vc_column][vc_column_text]El documental repassa la trajectòria alpinística de Jordi Pons. L’ascensió portada a terme al cim del Mönch de 4099 m als Alps suïssos\, amb un equip col·laborador\, esdevé el fil conductor que permet donar a conèixer les experiències de més de 75 anys d’aquest alpinista català amb reflexions compartides amb destacats personatges del món de la  muntanya. \nA les 19 h a l’auditori de la Fundació 1859 Caixa Sabadell\, Espai Cultura. Carrer d’en Font\, 25 (Sabadell) \nGratuït. Aforament limitat. Cal fer inscripció prèvia. \nInscriu-te ara!\n[/vc_column_text][/vc_column][/vc_row][vc_row][vc_column][vc_raw_html]JTNDaWZyYW1lJTIwdGl0bGUlM0QlMjJ2aWRlbyUyMDYyODEyNzclMjIlMjBzcmMlM0QlMjJodHRwcyUzQSUyRiUyRnd3dy5jY21hLmNhdCUyRjNjYXQlMkZ2aWRlbyUyRjYyODEyNzclMkZlbWJlZCUyRiUyMiUyMGFsbG93ZnVsbHNjcmVlbiUyMHNjcm9sbGluZyUzRCUyMm5vJTIyJTIwZnJhbWVib3JkZXIlM0QlMjIwJTIyJTIwd2lkdGglM0QlMjI1MDBweCUyMiUyMGhlaWdodCUzRCUyMjI4MXB4JTIyJTNFJTNDJTJGaWZyYW1lJTNF[/vc_raw_html][/vc_column][/vc_row]
URL:https://ues.cat/agenda/projeccio-jordi-pons-quan-els-records-pesen-mes-que-les-esperances/
CATEGORIES:Culturals,Muntanya
END:VEVENT
BEGIN:VEVENT
DTSTART;VALUE=DATE:20240518
DTEND;VALUE=DATE:20240519
DTSTAMP:20260420T200712
CREATED:20231219T153753Z
LAST-MODIFIED:20240430T085915Z
UID:10004665-1715990400-1716076799@ues.cat
SUMMARY:Cultura.- Museu del coure
DESCRIPTION:[vc_row][vc_column][vc_column_text]Visita: El Museu del Coure\, únic en tot Europa\, s’emplaça en l’antiga torre dels Comtes Lacambra\, de principis del s. XX\, que es troba a dins de les instal·lacions de l’empresa La Farga.\nEl Museu disposa d’una passarel·la que permet visitar en viu i en directe el procés productiu d’una fosa i els seus processos de semielaborats de coure; a més de veure com era la colònia antigament i una planta de trefilaria. El Museu consta de 4 àrees principals: La Farga Lacambra\, història d’una empresa\, el coure i els orígens de la metal·lúrgia\, l’element químic coure i la tecnologia i aplicacions del coure.\nCaminada: Ruta de 7\,5 k i 200 m de desnivell +/-. Sortirem de Vinyoles\, poble on va viure Mossèn Cinto Verdaguer durant 2 anys i on podrem trobar versos d’ell per les parets del poble. Visitarem l’ermita de Sant Esteve de Vinyoles. Pujarem fins al Morro del Bou per un pendent suau\, des d’on gaudirem d’unes vistes de 360º de tota la zona osonenca. Baixarem fins a l’ermita de Sant Miquel d’Ordeig i arribarem caminant fins al Museu del Coure. \nEsmorzar: Al bar 4 Carreteres de Tona\nDinar optatiu: Al restaurant Can Coromines de Sora.\nHorari: Sortida a les 7 h de la plaça de les Dones del Tèxtil\, tornada a les 19 h aproximadament\nPreu: Sense dinar\, socis: 35 € no socis: 45 € >> Amb dinar\, socis: 63 € no socis: 73 € \nInscripcions: Del 6 al 15 de maig de 2024 \nImportant: Recordeu que per participar a les activitats cal estar federat o fer l’assegurança al moment de la inscripció.\nÉs recomanable portar bastons\, calçat adequat i estar alerta de la meteorologia\, per tal de no tenir sorpreses[/vc_column_text][/vc_column][/vc_row]
URL:https://ues.cat/agenda/cultura-ava-gardner-a-tossa-de-mar/
CATEGORIES:Cultura,Culturals
END:VEVENT
BEGIN:VEVENT
DTSTART;TZID=Europe/Madrid:20240521T190000
DTEND;TZID=Europe/Madrid:20240521T203000
DTSTAMP:20260420T200712
CREATED:20240314T090546Z
LAST-MODIFIED:20240314T090546Z
UID:10004726-1716318000-1716323400@ues.cat
SUMMARY:Cafè científic.- Comunitats energètiques: Com anar més enllà d’una instal·lació fotovoltaica
DESCRIPTION:[vc_row][vc_column][vc_column_text]Comunitats energètiques: Com anar més enllà d’una instal·lació fotovoltaica\, a càrrec de Eloi Pareja i Sebastià Ribes\, Membres de Som Energia\nOrganitza: ADENC \nQuè és una comunitat energètica. Què suposa socialment i com es podrien promoure a Sabadell? \nA les 19 h a la sala d’actes – gratuït[/vc_column_text][/vc_column][/vc_row]
URL:https://ues.cat/agenda/cafe-cientific-comunitats-energetiques-com-anar-mes-enlla-duna-installacio-fotovoltaica/
CATEGORIES:Culturals,Natura
END:VEVENT
BEGIN:VEVENT
DTSTART;VALUE=DATE:20240525
DTEND;VALUE=DATE:20240526
DTSTAMP:20260420T200712
CREATED:20240131T103531Z
LAST-MODIFIED:20240131T103531Z
UID:10004306-1716595200-1716681599@ues.cat
SUMMARY:Natura.- Quina torre tan bonica!
DESCRIPTION:[vc_row][vc_column][vc_column_text]El nom de Torrebonica ve d’una torre de defensa que al segle XVI s’afegí al mas Viver. A començaments del segle XX\, hi fou construït un conegut sanatori antituberculós. En aquesta matinal de primavera\, passarem vora les masies de Can Figueres del Mas i de Can Canya. Com a arbres singulars\, veurem el pi Gros de Torrebonica i l’alzina del Baixador. Seguirem un tros del torrent de la Betzuca fins al pla de les Figueres i\, si tenim temps\, farem una ullada als horts del camp del Roure. Amb el guiatge d’Àngel M. Hernández Cardona\, delegat a Terrassa de l’Ateneu de Natura. \nDurada: Matinal \nTransport: Transport públic \nDificultat: Baixa \n[/vc_column_text][/vc_column][/vc_row]
URL:https://ues.cat/agenda/natura-quina-torre-tan-bonica/
CATEGORIES:Natura
END:VEVENT
BEGIN:VEVENT
DTSTART;TZID=Europe/Madrid:20240528T193000
DTEND;TZID=Europe/Madrid:20240528T203000
DTSTAMP:20260420T200712
CREATED:20240312T135807Z
LAST-MODIFIED:20240312T141056Z
UID:10004722-1716924600-1716928200@ues.cat
SUMMARY:Foto.- ‘Fallo’ mensual
DESCRIPTION:[vc_row][vc_column][vc_column_text]Cada mes fem valoració o “fallo” de fotografies dels diferents temes mensuals. La participació és obert a tots els socis i sòcies. \nEs poden portar  un màxim de dues fotografies degudament identificades al darrera amb el nom de la persona que les presenti fins a les 19 hores del mateix dia del ‘fallo’. \nLa mida de les fotografies és lliure dins d’una cartulina de 30×40 \nCada participant pot ser present a la valoració i comentari de les fotografies per part del Jurat. \nTema mes de maig: HORA BLAVA \nDefinició d’Hora blava : Es denomina així l’estona que va entre el moment de la posta de sol a l’horitzó i el moment en que ja no hi ha llum residual i comença la negra nit[/vc_column_text][/vc_column][/vc_row]
URL:https://ues.cat/agenda/foto-fallo-mensual-3/
CATEGORIES:Culturals,Fotografia
END:VEVENT
END:VCALENDAR