BEGIN:VCALENDAR
VERSION:2.0
PRODID:-//UES - ECPv6.15.20//NONSGML v1.0//EN
CALSCALE:GREGORIAN
METHOD:PUBLISH
X-ORIGINAL-URL:https://ues.cat
X-WR-CALDESC:Activitats per UES
REFRESH-INTERVAL;VALUE=DURATION:PT1H
X-Robots-Tag:noindex
X-PUBLISHED-TTL:PT1H
BEGIN:VTIMEZONE
TZID:Europe/Madrid
BEGIN:DAYLIGHT
TZOFFSETFROM:+0100
TZOFFSETTO:+0200
TZNAME:CEST
DTSTART:20230326T010000
END:DAYLIGHT
BEGIN:STANDARD
TZOFFSETFROM:+0200
TZOFFSETTO:+0100
TZNAME:CET
DTSTART:20231029T010000
END:STANDARD
BEGIN:DAYLIGHT
TZOFFSETFROM:+0100
TZOFFSETTO:+0200
TZNAME:CEST
DTSTART:20240331T010000
END:DAYLIGHT
BEGIN:STANDARD
TZOFFSETFROM:+0200
TZOFFSETTO:+0100
TZNAME:CET
DTSTART:20241027T010000
END:STANDARD
BEGIN:DAYLIGHT
TZOFFSETFROM:+0100
TZOFFSETTO:+0200
TZNAME:CEST
DTSTART:20250330T010000
END:DAYLIGHT
BEGIN:STANDARD
TZOFFSETFROM:+0200
TZOFFSETTO:+0100
TZNAME:CET
DTSTART:20251026T010000
END:STANDARD
END:VTIMEZONE
BEGIN:VEVENT
DTSTART;VALUE=DATE:20240602
DTEND;VALUE=DATE:20240603
DTSTAMP:20260420T214642
CREATED:20240131T103633Z
LAST-MODIFIED:20240131T103633Z
UID:10004307-1717286400-1717372799@ues.cat
SUMMARY:Natura.- L'altra cara de Montserrat
DESCRIPTION:[vc_row][vc_column][vc_column_text]Cercant alguns dels camins més feréstecs d’aquesta mítica muntanya de la Serrada Prelitoral\, sortirem de Can Maçana vers els paratges màgics de la regió de les Agulles i els Frares Encantats. Un itinerari singular que us desvetllarà l’interès per la vegetació i la fauna del Parc Natural de Montserrat\, una muntanya que mai no ens deixarà de sorprendre i captivar. \nDurada: Matinal \nTransport: Cotxes particulars \nDificultat: Mitjana[/vc_column_text][/vc_column][/vc_row]
URL:https://ues.cat/agenda/natura-laltra-cara-de-montserrat/
CATEGORIES:Natura
END:VEVENT
BEGIN:VEVENT
DTSTART;VALUE=DATE:20240602
DTEND;VALUE=DATE:20240603
DTSTAMP:20260420T214642
CREATED:20240415T162750Z
LAST-MODIFIED:20240516T145730Z
UID:10004741-1717286400-1717372799@ues.cat
SUMMARY:La Carena.- Concert a Sant Joan de les Abadesses
DESCRIPTION:[vc_row][vc_column][vc_column_text] \nMONESTIR DE SANT JOANDE LES ABADESSES \ndirecció: Marc Alguersuari Gil \ndiumenge 2 de juny de 2024\, 12:30 h \ntaquilla inversa \n[/vc_column_text][/vc_column][/vc_row]
URL:https://ues.cat/agenda/la-carena-concert-a-sant-joan-de-les-abadesses/
CATEGORIES:Coral La Carena,Culturals
END:VEVENT
BEGIN:VEVENT
DTSTART;TZID=Europe/Madrid:20240603T080000
DTEND;TZID=Europe/Madrid:20240603T140000
DTSTAMP:20260420T214642
CREATED:20240415T132606Z
LAST-MODIFIED:20240521T165924Z
UID:10004356-1717401600-1717423200@ues.cat
SUMMARY:UES Inclusiva.- Camí de la Font de la Riera\, el Ripoll a Castellar
DESCRIPTION:[vc_row][vc_column][vc_column_text]Itinerari: PR de Sant Llorenç Savall a Castellar del Vallès. \nDistància: 11Km \nDesnivell: +200/-325m \nTrobada a l’estació d’autobusos a les 8 del matí.[/vc_column_text][/vc_column][/vc_row]
URL:https://ues.cat/agenda/ues-inclusiva-cami-de-la-font-de-la-riera-el-ripoll-a-castellar/
CATEGORIES:Culturals,Esportives
END:VEVENT
BEGIN:VEVENT
DTSTART;TZID=Europe/Madrid:20240607T193000
DTEND;TZID=Europe/Madrid:20240607T203000
DTSTAMP:20260420T214642
CREATED:20240207T153829Z
LAST-MODIFIED:20240527T135352Z
UID:10004713-1717788600-1717792200@ues.cat
SUMMARY:Divendres culturals.- Tele Popcorn
DESCRIPTION:[vc_row][vc_column][vc_column_text]Calaïna presenten TelePopcorn \nUna comèdia interpretada per dues actrius en el paper de dues persones d’avançada edat que comparteixen habitació a una residència d’avis. Aquell dia\, a l’hora de la migdiada\, els instal·len una televisió nova amb lliure accés a tots els canals\, inclòs el canal “adults”. Se succeeixen els dobles jocs de paraules\, les situacions inversemblants i és continua la mirada tendra sobre aquestes persones que els comença a afectar la pèrdua de la memòria… \nInterpretació: Maria Cutchet i Elisenda Gutés. Amb la col·laboració d’Isa Costa. \nText: Francesc Cutchet \nTeatre Breu. Durada: 25 minuts \nTaquilla inversa \nI abans de començar\, La Galana ens ofereix el maridatge perfecte amb la cultura. Cultura&Vins\, 15 minuts abans de començar![/vc_column_text][/vc_column][/vc_row]
URL:https://ues.cat/agenda/divendres-culturals-telepopcorn/
CATEGORIES:Cultura,Culturals
END:VEVENT
BEGIN:VEVENT
DTSTART;TZID=Europe/Madrid:20240612T190000
DTEND;TZID=Europe/Madrid:20240612T200000
DTSTAMP:20260420T214642
CREATED:20240527T093131Z
LAST-MODIFIED:20240527T100053Z
UID:10004760-1718218800-1718222400@ues.cat
SUMMARY:Vídeo.- Cicle els nostres autors: Josep Rota\, Descobrint l'Alt Vallespir
DESCRIPTION:[vc_row][vc_column][vc_column_text]Després de la trilogia La Vall de Camprodon (2020-2022)\, Josep Rota ha continuat “nord enllà”\, a la veïna comarca del Vallespir i ens ofereix en rigorosa estrena: \n\nViles i pobles de l’Alt Vallespir 2024-23 min.\nLa Festa de l’Ós a l’Alt Vallespir 2024-22 min.\n\nA les 19 h\, sala d’actes. Gratuït[/vc_column_text][/vc_column][/vc_row]
URL:https://ues.cat/agenda/video-cicle-els-nostres-autors-josep-rota-descobrint-lalt-vallespir/
CATEGORIES:Culturals,Vídeo
END:VEVENT
BEGIN:VEVENT
DTSTART;VALUE=DATE:20240615
DTEND;VALUE=DATE:20240616
DTSTAMP:20260420T214642
CREATED:20231219T153828Z
LAST-MODIFIED:20240530T181859Z
UID:10004666-1718409600-1718495999@ues.cat
SUMMARY:Cultura.- Rocaviva\, laberint màgic entre Pont de Bar i Lles
DESCRIPTION:[vc_row][vc_column][vc_column_text]La terra sent el teu caminar\, singulars presències desvetllen l’esperit… El silenci s’agermana amb la remor del bosc… Una fada et guia! L’aire és transparent\, el paisatge brilla\, s’eixampla l’espai-temps\, et sents viu\, despert\, feliç!\nPassejada de 3 hores\, a més a més de mitja hora per anar-hi i mitja hora per tornar-ne. Passarem per un búnquer de la línea P i per una font abeurador molt bonica.  >> 136 m +/- de desnivell.Sortida: a les 7 h des de la plaça de les Dones del Tèxtil\nEsmorzar: Àrea servei túnel del Cadí\nDinar: Restaurant la Coma de Martinet. Menú a triar\nPreu: Sense dinar\, socis: 38 € no socis: 49€\nAmb dinar\, socis: 65 € no socis: 76€\nInscripcions: Del 3 al 12 de juny de 2024[/vc_column_text][/vc_column][/vc_row]
URL:https://ues.cat/agenda/cultura-rocaviva-laberint-magic-entre-pont-de-bar-i-lles/
CATEGORIES:Cultura,Culturals
END:VEVENT
BEGIN:VEVENT
DTSTART;VALUE=DATE:20240616
DTEND;VALUE=DATE:20240617
DTSTAMP:20260420T214642
CREATED:20240415T162650Z
LAST-MODIFIED:20240415T162655Z
UID:10004740-1718496000-1718582399@ues.cat
SUMMARY:La Carena.- Participació en la Festa de la Cançó de Muntanya
DESCRIPTION:
URL:https://ues.cat/agenda/la-carena-participacio-en-la-festa-de-la-canco-de-muntanya/
CATEGORIES:Coral La Carena,Culturals
END:VEVENT
BEGIN:VEVENT
DTSTART;TZID=Europe/Madrid:20240618T193000
DTEND;TZID=Europe/Madrid:20240618T203000
DTSTAMP:20260420T214642
CREATED:20240314T090802Z
LAST-MODIFIED:20240314T090802Z
UID:10004727-1718739000-1718742600@ues.cat
SUMMARY:Cafè científic.- Poca aigua i molta contaminació
DESCRIPTION:[vc_row][vc_column][vc_column_text]Poca aigua i molta contaminació\, a càrrec d’Antoni Freixes\, Hidròleg\nOrganitza: Secció Natura\, UES \nEls recursos d’aigua subterranis i la contaminació: com la hidrologia ens pot ajudar a millorar la qualitat de l’aigua. \nA les 19 h a la sala d’actes\, gratuït.[/vc_column_text][/vc_column][/vc_row]
URL:https://ues.cat/agenda/cafe-cientific-poca-aigua-i-molta-contaminacio/
CATEGORIES:Culturals,Natura
END:VEVENT
BEGIN:VEVENT
DTSTART;TZID=Europe/Madrid:20240625T193000
DTEND;TZID=Europe/Madrid:20240625T203000
DTSTAMP:20260420T214642
CREATED:20240312T135925Z
LAST-MODIFIED:20240312T135950Z
UID:10004723-1719343800-1719347400@ues.cat
SUMMARY:Foto.- ‘Fallo’ mensual
DESCRIPTION:[vc_row][vc_column][vc_column_text]Cada mes fem valoració o “fallo” de fotografies dels diferents temes mensuals. La participació és obert a tots els socis i sòcies. \nEs poden portar  un màxim de dues fotografies degudament identificades al darrera amb el nom de la persona que les presenti fins a les 19 hores del mateix dia del ‘fallo’. \nLa mida de les fotografies és lliure dins d’una cartulina de 30×40 \nCada participant pot ser present a la valoració i comentari de les fotografies per part del Jurat. \nTema mes juny: LLIURE BLANC I NEGRE \nDefinició de Lliure Blanc i Negre : Tal com diu el seu nom\, expressa l’essència d’aquest tipus d’imatge. La fotografia és acromàtica\, no hi ha color. Els tons expressats van d’un blanc pur fins al negre absolut\, passant per tota l’escala de grisos. És l’expressió més genuïna i pura de la forma a través de zones\, llums i ombres amb tots els seus matisos o gradacions de grisos[/vc_column_text][/vc_column][/vc_row]
URL:https://ues.cat/agenda/foto-fallo-mensual-4/
CATEGORIES:Culturals,Fotografia
END:VEVENT
END:VCALENDAR