BEGIN:VCALENDAR
VERSION:2.0
PRODID:-//UES - ECPv6.15.20//NONSGML v1.0//EN
CALSCALE:GREGORIAN
METHOD:PUBLISH
X-ORIGINAL-URL:https://ues.cat
X-WR-CALDESC:Activitats per UES
REFRESH-INTERVAL;VALUE=DURATION:PT1H
X-Robots-Tag:noindex
X-PUBLISHED-TTL:PT1H
BEGIN:VTIMEZONE
TZID:Europe/Madrid
BEGIN:DAYLIGHT
TZOFFSETFROM:+0100
TZOFFSETTO:+0200
TZNAME:CEST
DTSTART:20250330T010000
END:DAYLIGHT
BEGIN:STANDARD
TZOFFSETFROM:+0200
TZOFFSETTO:+0100
TZNAME:CET
DTSTART:20251026T010000
END:STANDARD
BEGIN:DAYLIGHT
TZOFFSETFROM:+0100
TZOFFSETTO:+0200
TZNAME:CEST
DTSTART:20260329T010000
END:DAYLIGHT
BEGIN:STANDARD
TZOFFSETFROM:+0200
TZOFFSETTO:+0100
TZNAME:CET
DTSTART:20261025T010000
END:STANDARD
BEGIN:DAYLIGHT
TZOFFSETFROM:+0100
TZOFFSETTO:+0200
TZNAME:CEST
DTSTART:20270328T010000
END:DAYLIGHT
BEGIN:STANDARD
TZOFFSETFROM:+0200
TZOFFSETTO:+0100
TZNAME:CET
DTSTART:20271031T010000
END:STANDARD
END:VTIMEZONE
BEGIN:VEVENT
DTSTART;VALUE=DATE:20260915
DTEND;VALUE=DATE:20260916
DTSTAMP:20260421T055604
CREATED:20260302T145732Z
LAST-MODIFIED:20260305T092339Z
UID:10005221-1789430400-1789516799@ues.cat
SUMMARY:Cafès científics.- Del Quark al cosmos: Les dues cares de l'univers
DESCRIPTION:A càrrec de Gonzalo Merino\, físic\, director del Port d’Informació Científica \nSabies que per entendre com funciona l’univers més llunyà també cal estudiar les coses més petites que existeixen? Parlarem de partícules subatòmiques i de gegants còsmics\, d’acceleradors de partícules i de telescopis ben estranys\, d’imatges precioses i de dades captivadores. Tot plegat per entendre com allò infinitament petit i allò quasi infinitament gran estan connectats.  Tens curiositat? \nOrganitza: Fundació Bosch i Cardellach \nA les 19h\, sala d’actes. Gratuït. \n  \n 
URL:https://ues.cat/agenda/cafes-cientifics-pendent-de-concretar/
CATEGORIES:Natura
END:VEVENT
BEGIN:VEVENT
DTSTART;VALUE=DATE:20260920
DTEND;VALUE=DATE:20260921
DTSTAMP:20260421T055604
CREATED:20260202T100745Z
LAST-MODIFIED:20260202T102648Z
UID:10005186-1789862400-1789948799@ues.cat
SUMMARY:Natura.- La Matagalls Montserrat\, a poc a poc\, etapa 7
DESCRIPTION:SANT SALVADOR DE LES ESPASES. En aquesta setena etapa anirem de Vacarisses a Monistrol de Montserrat\, pel massís de les Espases\, el Cul de la Portadora i l’Hostal de la Creu. \nDurada: Tot el dia \nTransport: Autocar \nDificultat: Mitjana
URL:https://ues.cat/agenda/natura-la-matagalls-a-poc-a-poc-etapa-7/
CATEGORIES:Natura
END:VEVENT
BEGIN:VEVENT
DTSTART;VALUE=DATE:20260926
DTEND;VALUE=DATE:20260928
DTSTAMP:20260421T055604
CREATED:20260202T100936Z
LAST-MODIFIED:20260202T100936Z
UID:10005187-1790380800-1790553599@ues.cat
SUMMARY:Natura.- Escapada a l'alta muntanya
DESCRIPTION:Una nova experiència inoblidable al Parc Nacional d’Aigüestortes. El dissabte anirem fins a l’estany de Sant Maurici\, gaudirem de les vistes des del Mirador i visitarem indrets emblemàtics com l’estany de Ratera i el gran estany d’Amitges. El diumenge\, travessarem estanys cristal·lins com els de Barbs i Munyidera\, i culminarem la ruta amb l’ascens al pic de Ratera\, un mirador excepcional per admirar aquest paradís de llacs. Una escapada perfecta per connectar amb la natura de l’alta muntanya! \nDurada: Cap de setmana \nTransport: Cotxes particulars \nDificultat: Mitjana
URL:https://ues.cat/agenda/natura-escapada-a-lalta-muntanya/
CATEGORIES:Natura
END:VEVENT
END:VCALENDAR