BEGIN:VCALENDAR
VERSION:2.0
PRODID:-//UES - ECPv6.15.20//NONSGML v1.0//EN
CALSCALE:GREGORIAN
METHOD:PUBLISH
X-ORIGINAL-URL:https://ues.cat
X-WR-CALDESC:Activitats per UES
REFRESH-INTERVAL;VALUE=DURATION:PT1H
X-Robots-Tag:noindex
X-PUBLISHED-TTL:PT1H
BEGIN:VTIMEZONE
TZID:Europe/Madrid
BEGIN:DAYLIGHT
TZOFFSETFROM:+0100
TZOFFSETTO:+0200
TZNAME:CEST
DTSTART:20230326T010000
END:DAYLIGHT
BEGIN:STANDARD
TZOFFSETFROM:+0200
TZOFFSETTO:+0100
TZNAME:CET
DTSTART:20231029T010000
END:STANDARD
BEGIN:DAYLIGHT
TZOFFSETFROM:+0100
TZOFFSETTO:+0200
TZNAME:CEST
DTSTART:20240331T010000
END:DAYLIGHT
BEGIN:STANDARD
TZOFFSETFROM:+0200
TZOFFSETTO:+0100
TZNAME:CET
DTSTART:20241027T010000
END:STANDARD
BEGIN:DAYLIGHT
TZOFFSETFROM:+0100
TZOFFSETTO:+0200
TZNAME:CEST
DTSTART:20250330T010000
END:DAYLIGHT
BEGIN:STANDARD
TZOFFSETFROM:+0200
TZOFFSETTO:+0100
TZNAME:CET
DTSTART:20251026T010000
END:STANDARD
END:VTIMEZONE
BEGIN:VEVENT
DTSTART;TZID=Europe/Madrid:20240521T190000
DTEND;TZID=Europe/Madrid:20240521T203000
DTSTAMP:20260420T214940
CREATED:20240314T090546Z
LAST-MODIFIED:20240314T090546Z
UID:10004726-1716318000-1716323400@ues.cat
SUMMARY:Cafè científic.- Comunitats energètiques: Com anar més enllà d’una instal·lació fotovoltaica
DESCRIPTION:[vc_row][vc_column][vc_column_text]Comunitats energètiques: Com anar més enllà d’una instal·lació fotovoltaica\, a càrrec de Eloi Pareja i Sebastià Ribes\, Membres de Som Energia\nOrganitza: ADENC \nQuè és una comunitat energètica. Què suposa socialment i com es podrien promoure a Sabadell? \nA les 19 h a la sala d’actes – gratuït[/vc_column_text][/vc_column][/vc_row]
URL:https://ues.cat/agenda/cafe-cientific-comunitats-energetiques-com-anar-mes-enlla-duna-installacio-fotovoltaica/
CATEGORIES:Culturals,Natura
END:VEVENT
END:VCALENDAR