BEGIN:VCALENDAR
VERSION:2.0
PRODID:-//UES - ECPv6.15.20//NONSGML v1.0//EN
CALSCALE:GREGORIAN
METHOD:PUBLISH
X-WR-CALNAME:UES
X-ORIGINAL-URL:https://ues.cat
X-WR-CALDESC:Activitats per UES
REFRESH-INTERVAL;VALUE=DURATION:PT1H
X-Robots-Tag:noindex
X-PUBLISHED-TTL:PT1H
BEGIN:VTIMEZONE
TZID:Europe/Madrid
BEGIN:DAYLIGHT
TZOFFSETFROM:+0100
TZOFFSETTO:+0200
TZNAME:CEST
DTSTART:20250330T010000
END:DAYLIGHT
BEGIN:STANDARD
TZOFFSETFROM:+0200
TZOFFSETTO:+0100
TZNAME:CET
DTSTART:20251026T010000
END:STANDARD
BEGIN:DAYLIGHT
TZOFFSETFROM:+0100
TZOFFSETTO:+0200
TZNAME:CEST
DTSTART:20260329T010000
END:DAYLIGHT
BEGIN:STANDARD
TZOFFSETFROM:+0200
TZOFFSETTO:+0100
TZNAME:CET
DTSTART:20261025T010000
END:STANDARD
BEGIN:DAYLIGHT
TZOFFSETFROM:+0100
TZOFFSETTO:+0200
TZNAME:CEST
DTSTART:20270328T010000
END:DAYLIGHT
BEGIN:STANDARD
TZOFFSETFROM:+0200
TZOFFSETTO:+0100
TZNAME:CET
DTSTART:20271031T010000
END:STANDARD
END:VTIMEZONE
BEGIN:VEVENT
DTSTART;VALUE=DATE:20260704
DTEND;VALUE=DATE:20260705
DTSTAMP:20260421T024539
CREATED:20260202T100649Z
LAST-MODIFIED:20260202T100649Z
UID:10005185-1783123200-1783209599@ues.cat
SUMMARY:Natura.- Comafloriu\, mon amour
DESCRIPTION:Ruta pel massís de la Tosa d’Alp\, al Parc Natural del Cadí-Moixeró\, per gaudir de la flora d’alta muntanya al punt de màxim esclat. Des de coll de Pal\, passarem per la mina de barita\, el mirador dels Orris\, la collada de Comafloriu i els Rocs de Canells\, tot travessant pinedes de pi negre\, prats subalpins i comunitats rupícoles. Una ruta ideal per assaborir el paisatge d’alta muntanya\, la seva geologia desbordant i la biodiversitat de les espècies alpines. Ens acompanyarà Alba Rovira\, guia professional de muntanya i de natura. \nDurada: Tot el dia \nTransport: Autocar \nDificultat: Mitjana
URL:https://ues.cat/agenda/natura-comafloriu-mon-amour/
CATEGORIES:Natura
END:VEVENT
END:VCALENDAR