BEGIN:VCALENDAR
VERSION:2.0
PRODID:-//UES - ECPv6.15.20//NONSGML v1.0//EN
CALSCALE:GREGORIAN
METHOD:PUBLISH
X-WR-CALNAME:UES
X-ORIGINAL-URL:https://ues.cat
X-WR-CALDESC:Activitats per UES
REFRESH-INTERVAL;VALUE=DURATION:PT1H
X-Robots-Tag:noindex
X-PUBLISHED-TTL:PT1H
BEGIN:VTIMEZONE
TZID:Europe/Madrid
BEGIN:DAYLIGHT
TZOFFSETFROM:+0100
TZOFFSETTO:+0200
TZNAME:CEST
DTSTART:20250330T010000
END:DAYLIGHT
BEGIN:STANDARD
TZOFFSETFROM:+0200
TZOFFSETTO:+0100
TZNAME:CET
DTSTART:20251026T010000
END:STANDARD
BEGIN:DAYLIGHT
TZOFFSETFROM:+0100
TZOFFSETTO:+0200
TZNAME:CEST
DTSTART:20260329T010000
END:DAYLIGHT
BEGIN:STANDARD
TZOFFSETFROM:+0200
TZOFFSETTO:+0100
TZNAME:CET
DTSTART:20261025T010000
END:STANDARD
BEGIN:DAYLIGHT
TZOFFSETFROM:+0100
TZOFFSETTO:+0200
TZNAME:CEST
DTSTART:20270328T010000
END:DAYLIGHT
BEGIN:STANDARD
TZOFFSETFROM:+0200
TZOFFSETTO:+0100
TZNAME:CET
DTSTART:20271031T010000
END:STANDARD
END:VTIMEZONE
BEGIN:VEVENT
DTSTART;VALUE=DATE:20260926
DTEND;VALUE=DATE:20260928
DTSTAMP:20260421T074502
CREATED:20260202T100936Z
LAST-MODIFIED:20260202T100936Z
UID:10005187-1790380800-1790553599@ues.cat
SUMMARY:Natura.- Escapada a l'alta muntanya
DESCRIPTION:Una nova experiència inoblidable al Parc Nacional d’Aigüestortes. El dissabte anirem fins a l’estany de Sant Maurici\, gaudirem de les vistes des del Mirador i visitarem indrets emblemàtics com l’estany de Ratera i el gran estany d’Amitges. El diumenge\, travessarem estanys cristal·lins com els de Barbs i Munyidera\, i culminarem la ruta amb l’ascens al pic de Ratera\, un mirador excepcional per admirar aquest paradís de llacs. Una escapada perfecta per connectar amb la natura de l’alta muntanya! \nDurada: Cap de setmana \nTransport: Cotxes particulars \nDificultat: Mitjana
URL:https://ues.cat/agenda/natura-escapada-a-lalta-muntanya/
CATEGORIES:Natura
END:VEVENT
END:VCALENDAR