BEGIN:VCALENDAR
VERSION:2.0
PRODID:-//UES - ECPv6.15.20//NONSGML v1.0//EN
CALSCALE:GREGORIAN
METHOD:PUBLISH
X-WR-CALNAME:UES
X-ORIGINAL-URL:https://ues.cat
X-WR-CALDESC:Activitats per UES
REFRESH-INTERVAL;VALUE=DURATION:PT1H
X-Robots-Tag:noindex
X-PUBLISHED-TTL:PT1H
BEGIN:VTIMEZONE
TZID:Europe/Madrid
BEGIN:DAYLIGHT
TZOFFSETFROM:+0100
TZOFFSETTO:+0200
TZNAME:CEST
DTSTART:20250330T010000
END:DAYLIGHT
BEGIN:STANDARD
TZOFFSETFROM:+0200
TZOFFSETTO:+0100
TZNAME:CET
DTSTART:20251026T010000
END:STANDARD
BEGIN:DAYLIGHT
TZOFFSETFROM:+0100
TZOFFSETTO:+0200
TZNAME:CEST
DTSTART:20260329T010000
END:DAYLIGHT
BEGIN:STANDARD
TZOFFSETFROM:+0200
TZOFFSETTO:+0100
TZNAME:CET
DTSTART:20261025T010000
END:STANDARD
BEGIN:DAYLIGHT
TZOFFSETFROM:+0100
TZOFFSETTO:+0200
TZNAME:CEST
DTSTART:20270328T010000
END:DAYLIGHT
BEGIN:STANDARD
TZOFFSETFROM:+0200
TZOFFSETTO:+0100
TZNAME:CET
DTSTART:20271031T010000
END:STANDARD
END:VTIMEZONE
BEGIN:VEVENT
DTSTART;VALUE=DATE:20260419
DTEND;VALUE=DATE:20260420
DTSTAMP:20260420T232955
CREATED:20260202T093041Z
LAST-MODIFIED:20260202T102415Z
UID:10005178-1776556800-1776643199@ues.cat
SUMMARY:Natura.- La Matagalls Montserrat a poc a poc\, etapa 5
DESCRIPTION:ETAPA 5. LA MATAGALLS-MONTSERRAT A POC A POC.  \nSANT LLORENÇ DEL MUNT. En aquesta cinquena etapa anirem de Sant Llorenç Savall fins a la Barata de Matadepera per la ruta clàssica: canal de Santa Agnès fins a la Cova del Drac i baixada per la canal del Pi Tort. \nDurada: Tot el dia \nTransport: Autocar \nDificultat:  Mitjana
URL:https://ues.cat/agenda/natura-la-matagalls-a-poc-a-poc-etapa-5/
CATEGORIES:Natura
END:VEVENT
BEGIN:VEVENT
DTSTART;VALUE=DATE:20260416
DTEND;VALUE=DATE:20260417
DTSTAMP:20260420T232955
CREATED:20260323T172530Z
LAST-MODIFIED:20260323T172530Z
UID:10005375-1776297600-1776383999@ues.cat
SUMMARY:Natura.- La Matagalls - Montserrat poc a poc\, xerrada introducció
DESCRIPTION:La d’aquesta 5a etapa anirà a càrrec d’Albert Vicens i Llauradó\, biòleg\, historiador i escriptor\, autor de nombrosos llibres de temàtica excursionista i sobre Sant Llorenç del Munt\, com “El vessant desconegut de Sant Llorenç del Munt”\, “La Mola: persones i camins”\, “La vegetació. Parc Natural de Sant Llorenç del Munt”\, “Cent arbres monumentals de Catalunya”\, “Sant Llorenç Savall\, més de mil anys d’història”\, “De porc i de senyor: memòries d’un senglar del Vallès”\, etc.\n\n\n\nSala d’actes de la UES\, 19:30 h
URL:https://ues.cat/agenda/natura-la-matagalls-montserrat-poc-a-poc-xerrada-introduccio-5/
CATEGORIES:Natura
END:VEVENT
BEGIN:VEVENT
DTSTART;VALUE=DATE:20260410
DTEND;VALUE=DATE:20260411
DTSTAMP:20260420T232955
CREATED:20260302T190647Z
LAST-MODIFIED:20260407T141805Z
UID:10005224-1775779200-1775865599@ues.cat
SUMMARY:Presentació del llibre 'Viatge a l'ànima xilena'
DESCRIPTION:Hi intervindran: \nEnric Soler\, editor. \nAssumpta Codina\, autora del pròleg. \nRosa Pi Masvidal\, autora de dos contes que s’inclouen en el llibre. \nConxita Tarruell\, autora. \nEs comptarà amb la participació de la coral La Carena de la UES amb l’acompanyament del músic Pau Tarruell de Bufanúvols que interpretaran cançons xilenes. \nA les 18:30h a la sala d’actes. Gratuït. \n“Aquest relat és una invitació a recórrer Xile amb els sentits desperts i el cor obert\, a deixar-se sorprendre per la seva gent i els seus paisatges\, i a descobrir un món que demana ser viscut amb emoció i passió.” Conxita Tarruell i Llonch
URL:https://ues.cat/agenda/presentacio-del-llibre-viatge-a-lanima-xilena/
CATEGORIES:Coral La Carena,Culturals
END:VEVENT
BEGIN:VEVENT
DTSTART;VALUE=DATE:20260410
DTEND;VALUE=DATE:20260411
DTSTAMP:20260420T232955
CREATED:20260202T092954Z
LAST-MODIFIED:20260202T102300Z
UID:10005177-1775779200-1775865599@ues.cat
SUMMARY:Natura.- Tres turons fan una serra
DESCRIPTION:A Sant Feliu del Racó\, als camps del Mas Olivet\, visita guiada al Viver Tres Turons per a descobrir com produeixen i conserven plantes autòctones d’hàbitats humits (rius\, llacs\, aiguamolls)\, sovint entre les més amenaçades. La seva bassa centenària\, convertida en estany de conservació\, és el primer jardí botànic aquàtic de Catalunya. Farem un taller de multiplicació de plantes (esqueixos) i acabarem amb una passejada pel camí del riu Ripoll fins a la font de la Riera. \nDurada: Matinal \nTransport: Transport públic \nDificultat: Baixa
URL:https://ues.cat/agenda/natura-tres-turons-fan-una-serra/
CATEGORIES:Natura
END:VEVENT
BEGIN:VEVENT
DTSTART;VALUE=DATE:20260407
DTEND;VALUE=DATE:20260408
DTSTAMP:20260420T232955
CREATED:20260327T160312Z
LAST-MODIFIED:20260327T160312Z
UID:10005378-1775520000-1775606399@ues.cat
SUMMARY:Foto.- Comentari de fotografies dels socis.
DESCRIPTION:Obert a tothom. \nLloc: Aula de formació.
URL:https://ues.cat/agenda/foto-comentari-de-fotografies-dels-socis/
CATEGORIES:Fotografia
END:VEVENT
BEGIN:VEVENT
DTSTART;VALUE=DATE:20260325
DTEND;VALUE=DATE:20260326
DTSTAMP:20260420T232955
CREATED:20260202T092907Z
LAST-MODIFIED:20260202T092907Z
UID:10005176-1774396800-1774483199@ues.cat
SUMMARY:Natura.- El Regadiu del Poal
DESCRIPTION:Ruta guiada per la gran horta de ponent i nord de Manresa\, regada per l’aigua de la Séquia\, distribuïda en ramals des del Parc de l’Agulla. Caminarem pel ramal del Poal i pels recs secundaris\, entre conreus i feixes\, tot descobrint patrimoni hidràulic (ponts\, aqüeductes\, canals\, ullals i altres elements de regadiu) i bones panoràmiques amb Montserrat de fons. Visitarem també el centre d’interpretació de la Séquia\, al Parc de l’Agulla\, on farem un tast de productes locals. Ens hi acompanyaran guies del Parc de la Séquia. \nDurada: Tot el dia \nTransport: Transport públic \nDificultat: Baixa
URL:https://ues.cat/agenda/natura-el-regadiu-del-poal/
CATEGORIES:Natura
END:VEVENT
BEGIN:VEVENT
DTSTART;VALUE=DATE:20260324
DTEND;VALUE=DATE:20260325
DTSTAMP:20260420T232955
CREATED:20260311T135856Z
LAST-MODIFIED:20260318T083341Z
UID:10005245-1774310400-1774396799@ues.cat
SUMMARY:Natura.- Xerrada informativa sobre la comunitat energètica de Sabadell
DESCRIPTION:Energia solar compartida\, local i comunitària (km 0)\nXerrada informativa amb membres de l’Associació Comunitat Energètica de Sabadell que ens explicaran el projecte que estan impulsant. \nLa Comunitat Energètica de Sabadell és una associació sense ànim de lucre que impulsa un model d’energia renovable\, local i democràtica. \nL’objectiu de l’associació és fomentar l’ús de fonts d’energia sostenible per mitigar els efectes del canvi climàtic i promoure un desenvolupament energètic responsable perquè volem contribuir a la transformació ecosocial\, l’empoderament energètic i la democratització de l’energia. \nPer aconseguir-ho una de les primeres passes és l’impuls de projecte d’autoconsum col·lectiu\, que ha començat per una instal·lació de plaques fotovoltaiques a la coberta d’una nau industrial al barri de l’Eixample. \nA les 19 h\, sala d’actes. Gratuït.
URL:https://ues.cat/agenda/natura-xerrada-informativa-sobre-la-comunitat-energetica-de-sabadell/
CATEGORIES:Natura
END:VEVENT
BEGIN:VEVENT
DTSTART;VALUE=DATE:20260324
DTEND;VALUE=DATE:20260325
DTSTAMP:20260420T232955
CREATED:20260225T154424Z
LAST-MODIFIED:20260225T190033Z
UID:10005214-1774310400-1774396799@ues.cat
SUMMARY:Foto.-  Fallo públic del concurs mensual de fotografia. Tema: Llibreries (interior\, exterior).
DESCRIPTION:A les 19h\, obert a tothom.
URL:https://ues.cat/agenda/foto-fallo-public-del-concurs-mensual-de-fotografia-tema-llibreries-interior-exterior/
CATEGORIES:Fotografia
END:VEVENT
BEGIN:VEVENT
DTSTART;VALUE=DATE:20260322
DTEND;VALUE=DATE:20260323
DTSTAMP:20260420T232955
CREATED:20260202T092829Z
LAST-MODIFIED:20260202T102228Z
UID:10005175-1774137600-1774223999@ues.cat
SUMMARY:Natura.- La Matagalls Montserrat a poc a poc\, etapa 4
DESCRIPTION:ELS CINGLES DE GALLIFA. En aquesta quarta etapa anirem del pont de les Ferreries (al riu Tenes) fins a Sant Llorenç Savall\, passant per l’espai natural de Gallifa\, sota els cingles de Sant Sadurní. \nDurada: Tot el dia \nTransport: Autocar \nDificultat:  Mitjana
URL:https://ues.cat/agenda/natura-la-matagalls-a-poc-a-poc-etapa-4/
CATEGORIES:Natura
END:VEVENT
BEGIN:VEVENT
DTSTART;VALUE=DATE:20260317
DTEND;VALUE=DATE:20260318
DTSTAMP:20260420T232955
CREATED:20260302T145346Z
LAST-MODIFIED:20260302T145346Z
UID:10005217-1773705600-1773791999@ues.cat
SUMMARY:Cafès Científics.- L'organització del sistema sanitari públic i privat
DESCRIPTION:A càrrec de Josep Farrés\, exgestor del sistema sanitari i expert en Salut Pública \nDret a la salut o dret a l’assistència sanitària? Quan i quant paguem per l’assistència sanitària. Algunes referències per transitar pel sistema sanitari. \nOrganitza: Filial del Vallès Occidental de l’Acadèmia de Ciències Mèdiques. \nA les 19h\, sala d’actes. Gratuït.
URL:https://ues.cat/agenda/cafes-cientifics-lorganitzacio-del-sistema-sanitari-public-i-privat/
CATEGORIES:Natura
END:VEVENT
BEGIN:VEVENT
DTSTART;VALUE=DATE:20260317
DTEND;VALUE=DATE:20260318
DTSTAMP:20260420T232955
CREATED:20260225T154358Z
LAST-MODIFIED:20260225T185946Z
UID:10005213-1773705600-1773791999@ues.cat
SUMMARY:Foto.- Xerrada: Com adreçar les fotografies a càrrec de Txema Lacunza. Com utilitzar les eines d’edició fotogràfica per millorar les nostres imatges.
DESCRIPTION:A les 19h\, obert a tothom.
URL:https://ues.cat/agenda/foto-xerrada-com-adrecar-les-fotografies-a-carrec-de-txema-lacunza-com-utilitzar-les-eines-dedicio-fotografica-per-millorar-les-nostres-imatges/
CATEGORIES:Fotografia
END:VEVENT
BEGIN:VEVENT
DTSTART;VALUE=DATE:20260315
DTEND;VALUE=DATE:20260316
DTSTAMP:20260420T232955
CREATED:20260305T152836Z
LAST-MODIFIED:20260305T154654Z
UID:10005239-1773532800-1773619199@ues.cat
SUMMARY:Concert per la Pau amb La Carena
DESCRIPTION:CONCERT PER LA PAU \n  \nCORAL LA CARENA DE LA UES. Direcció: Marc Alguersuari \nCORAL RESSÓ. Direcció: Miquel Garcia \nParroquia de la Santíssima Trinitat \nDiumenge 15 de març a les 18:30 h \nTaquilla inversa
URL:https://ues.cat/agenda/concert-per-la-pau-amb-la-carena/
CATEGORIES:Coral La Carena,Culturals
END:VEVENT
BEGIN:VEVENT
DTSTART;VALUE=DATE:20260313
DTEND;VALUE=DATE:20260314
DTSTAMP:20260420T232955
CREATED:20260128T141817Z
LAST-MODIFIED:20260205T102959Z
UID:10005167-1773360000-1773446399@ues.cat
SUMMARY:Divendres culturals.- Les llengües de Miquel Martí i Pol (recital)
DESCRIPTION:En motiu del Dia Mundial de la Poesia\, que se celebra el 21 de març \nMiquel Martí i Pol és un dels poetes contemporanis més llegits en llengua catalana. L’autor de Roda de Ter també va conrear\, però\, altres gèneres literaris i\, en una faceta menys coneguda\, va ser traductor d’un bon grapat de llibres. Alhora\, compta amb una gran projecció internacional\, atès que la seva obra ha estat traduïda a una quinzena de llengües d’arreu del món. \nAmb aquest espectacle\, a dues veus\, repassem la seva faceta com a traductor i com a autor traduït\, i ho fem recitant alguns dels seus poemes en català i en diverses de les\nllengües a què ha estat traduït\, tot plegat d’una manera interactiva amb el públic\, amb els quals volem respondre una pregunta: era Miquel Martí i Pol un llenguaferit? \nA càrrec de Jessica Neuquelman i David Vila i Ros. \nA les 19 h a la sala d’actes. Taquilla inversa. \nDurada: 60 min \nJessica Neuquelman (Dunkerque\, 1983). Soc una francesa del nord que vaig deixar les gèlides terres nadiues per satisfer la meva curiositat lingüística en contrades catalanes. Llicenciada en Filologia Hispànica\, vaig descobrir el català gràcies als cursos del Consorci per a la Normalització Lingüística de Sabadell i a la sèrie Ventdelplà. \nDavid Vila i Ros (Sabadell\, 1977). Soc escriptor i professor i he publicat llibres de narrativa\, de poesia i de divulgació lingüística. He estat membre actiu de diverses\nentitats de foment del català\, com la CAL\, la Fundació Reeixida\, Tallers per la Llengua o Òmnium Cultura. \nJunts som els Llenguaferits i anem amunt i avall buscant curiositats lingüístiques i reivindicant el català.
URL:https://ues.cat/agenda/divendres-culturals-les-llengues-de-miquel-marti-i-pol/
CATEGORIES:Cultura,Culturals
END:VEVENT
BEGIN:VEVENT
DTSTART;VALUE=DATE:20260311
DTEND;VALUE=DATE:20260312
DTSTAMP:20260420T232955
CREATED:20260210T131459Z
LAST-MODIFIED:20260210T161527Z
UID:10005203-1773187200-1773273599@ues.cat
SUMMARY:Vídeo.- Cicle força Itàlia. 4a sessió
DESCRIPTION:CICLE FORÇA ITÀLIA: Documentals de viatges i muntanya de socis de la UES \nVOLCANS DE LA MEDITERRÀNIA ( 2018) 20 min.\nÀngel Artigas\nCOMACCIO i BOLONYA (2023) 12 min.\nJosep Rota\nUNA VOLTA PER LA TOSCANA (2024) 25 min.\nNúria Casas i Xavier Cabeza\nLA PULLA\, DE LA TERRA AL MAR (2025) 24 min.\nJosep Rota \n\nA les 19 h a la sala d’actes. Gratuït.
URL:https://ues.cat/agenda/video-cicle-forca-italia-4a-sessio/
CATEGORIES:Culturals,Vídeo
END:VEVENT
BEGIN:VEVENT
DTSTART;VALUE=DATE:20260311
DTEND;VALUE=DATE:20260312
DTSTAMP:20260420T232955
CREATED:20260202T092734Z
LAST-MODIFIED:20260202T092734Z
UID:10005174-1773187200-1773273599@ues.cat
SUMMARY:Natura.- Natura entre setmana
DESCRIPTION:Rutes per a gaudir de la natura\, sense presses\, als millors miradors vers el Parc Natural de Sant Llorenç del Munt. Recorregut per la Torrota de la Roca\, testimoni del potent sistema defensiu feudal de la vall d’Horta\, i el molí de l’Agell\, antic molí fariner en un paratge engorjat\, a la confluència del Ripoll amb la riera de Mascarell. \nDurada: Matinal \nTransport: Transport públic \nDificultat: Mitjana
URL:https://ues.cat/agenda/natura-natura-entre-setmana-2/
CATEGORIES:Natura
END:VEVENT
BEGIN:VEVENT
DTSTART;VALUE=DATE:20260310
DTEND;VALUE=DATE:20260311
DTSTAMP:20260420T232955
CREATED:20260225T154325Z
LAST-MODIFIED:20260225T185858Z
UID:10005212-1773100800-1773187199@ues.cat
SUMMARY:Foto.- Xerrada: Fotografia de carrer\, dues visions a càrrec de Miquel Traveria. Presentació de l’obra fotogràfica de dos fotògrafs actuals.
DESCRIPTION:A les 19h\, obert a tothom.
URL:https://ues.cat/agenda/foto-xerrada-fotografia-de-carrer-dues-visions-a-carrec-de-miquel-traveria-presentacio-de-lobra-fotografica-de-dos-fotografs-actuals/
CATEGORIES:Fotografia
END:VEVENT
BEGIN:VEVENT
DTSTART;VALUE=DATE:20260310
DTEND;VALUE=DATE:20260311
DTSTAMP:20260420T232955
CREATED:20251202T135106Z
LAST-MODIFIED:20260115T134848Z
UID:10005095-1773100800-1773187199@ues.cat
SUMMARY:Caminades saludables +60 matinal.- Vall del Llobregat: del Burés a Monistrol de Montserrat
DESCRIPTION:Bages \nContinuem resseguint la Vall del Llobregat. Sortirem de la colònia tèxtil del Burés\, pujarem fins a l’ermita de Sant Antolí i acabarem a Monistrol de Montserrat. \nDistància: 7 km >> Desnivell: 175 m
URL:https://ues.cat/agenda/caminades-saludables-60-matinal/
CATEGORIES:Culturals,Esportives,Gent Gran,Socials
END:VEVENT
BEGIN:VEVENT
DTSTART;VALUE=DATE:20260307
DTEND;VALUE=DATE:20260308
DTSTAMP:20260420T232955
CREATED:20260202T092658Z
LAST-MODIFIED:20260202T092658Z
UID:10005173-1772841600-1772927999@ues.cat
SUMMARY:Natura.- El secret de les fonts perpètues
DESCRIPTION:Ruta per un entorn típicament mediterrani\, però no per això menys espectacular i bonic. Des de Santa Perpètua de Gaià\, petit llogarret medieval perdut entre turons i torrents\, damunt l’engorjat del riu Gaià\, ens endinsarem a la vall de Sant Magí\, un indret eremític envoltat per la serra de Brufaganya\, on enmig de la duresa de l’entorn destaquen vivament les fonts de Sant Magí\, d’aigua abundosa i molt preada pels tarragonins. Amb el guiatge d’Àngel Bistué\, biòleg i guia de l’associació Flora Catalana. \nDurada: Tot el dia \nTransport: Autocar \nDificultat:  Mitjana
URL:https://ues.cat/agenda/natura-el-secret-de-les-fonts-perpetues-2/
CATEGORIES:Natura
END:VEVENT
BEGIN:VEVENT
DTSTART;VALUE=DATE:20260304
DTEND;VALUE=DATE:20260305
DTSTAMP:20260420T232955
CREATED:20260210T131321Z
LAST-MODIFIED:20260210T131321Z
UID:10005202-1772582400-1772668799@ues.cat
SUMMARY:Vídeo.- Cicle força Itàlia. 3a sessió
DESCRIPTION:CICLE FORÇA ITÀLIA: Documentals de viatges i muntanya de socis de la UES \nVENÈCIA i JO. (1984/1998/2016) 20 min.\nJosep Rota\nLUCCA (2018) 20 min.\nAntoni Viñas\nDOLOMITES – ESQUÍ. (2018) 25 min.\nÀngel Artigas\nLA PUGLIA (2022) 20 min.\nNúria Casas i Xavier Cabeza \nA les 19 h a la sala d’actes. Gratuït.
URL:https://ues.cat/agenda/video-cicle-forca-italia-3a-sessio/
CATEGORIES:Culturals,Vídeo
END:VEVENT
BEGIN:VEVENT
DTSTART;VALUE=DATE:20260303
DTEND;VALUE=DATE:20260304
DTSTAMP:20260420T232955
CREATED:20260225T154259Z
LAST-MODIFIED:20260225T185823Z
UID:10005211-1772496000-1772582399@ues.cat
SUMMARY:Foto.- Comentari de fotografies presentades pels socis.
DESCRIPTION:A les 19h\, obert a tothom.
URL:https://ues.cat/agenda/foto-comentari-de-fotografies-presentades-pels-socis/
CATEGORIES:Fotografia
END:VEVENT
BEGIN:VEVENT
DTSTART;VALUE=DATE:20260301
DTEND;VALUE=DATE:20260302
DTSTAMP:20260420T232955
CREATED:20251202T134554Z
LAST-MODIFIED:20260128T111419Z
UID:10005093-1772323200-1772409599@ues.cat
SUMMARY:Festa de l'Arbre - Anul·lada
DESCRIPTION:Activitat anul·lada per les restriccions de la peste porcina africana.
URL:https://ues.cat/agenda/festa-de-larbre-2/
CATEGORIES:Esplai La Ganyota,Natura,Socials
END:VEVENT
BEGIN:VEVENT
DTSTART;VALUE=DATE:20260227
DTEND;VALUE=DATE:20260228
DTSTAMP:20260420T232955
CREATED:20260130T105123Z
LAST-MODIFIED:20260130T105123Z
UID:10005170-1772150400-1772236799@ues.cat
SUMMARY:Divendres culturals.- Concert d'hivern
DESCRIPTION:Amb la Coral Òmnium Sabadell\, amb la direcció d’Eulàlia Llargués\, i La Carena\, amb la direcció de Marc Alguersuari. \nA les 19 h a la sala d’actes. Taquilla inversa.
URL:https://ues.cat/agenda/divendres-culturals-concert-dhivern/
CATEGORIES:Coral La Carena,Cultura,Culturals
END:VEVENT
BEGIN:VEVENT
DTSTART;VALUE=DATE:20260225
DTEND;VALUE=DATE:20260226
DTSTAMP:20260420T232955
CREATED:20260129T190229Z
LAST-MODIFIED:20260210T131131Z
UID:10005169-1771977600-1772063999@ues.cat
SUMMARY:Vídeo.- Cicle força Itàlia. 2a sessió
DESCRIPTION:CICLE FORÇA ITÀLIA: Documentals de viatges i muntanya de socis de la UES \nSICÍLIA\, GRESOL DE CIVILITZACIONS (2011) 16 min.\nJosep Rota\nEL LLAC DE COMO (2014) 19 min.\nAntoni Viñas\nNÀPOLS i ELS NAPOLITANS (2016) 19 min.\nJosep Rota\nLES FONTS DE ROMA (2014/2017) 22 min.\nMiquel Cervera \nA les 19 h a la sala d’actes. Gratuït.
URL:https://ues.cat/agenda/video-cicle-forca-italia-2a-sessio/
CATEGORIES:Culturals,Vídeo
END:VEVENT
BEGIN:VEVENT
DTSTART;VALUE=DATE:20260222
DTEND;VALUE=DATE:20260223
DTSTAMP:20260420T232955
CREATED:20260202T092609Z
LAST-MODIFIED:20260202T092609Z
UID:10005172-1771718400-1771804799@ues.cat
SUMMARY:Natura.- La millor ratafia del món
DESCRIPTION:Veniu a viure una experiència aromàtica i molt del país a Centelles. Ens endinsarem en el món de la ratafia amb un taller pràctic a Mas Agrobotiga\, una empresa familiar que ens farà descobrir els secrets de la seva ratafia artesanal\, guanyadora d’innombrables premis. Elaborada amb nous verdes i prop de 70 herbes aromàtiques que ells mateixos recol·lecten i cultiven. Coneixerem les herbes i les seves qualitats\, esmorzarem amb degustació dels seus productes artesanals i cadascú s’endurà l’ampolla de ratafia personalitzada que haurà preparat. \nDurada: Matinal \nTransport: Cotxes particulars \nDificultat: Apta per a infants caminadors
URL:https://ues.cat/agenda/natura-la-millor-ratafia-del-mon/
CATEGORIES:Natura
END:VEVENT
BEGIN:VEVENT
DTSTART;VALUE=DATE:20260218
DTEND;VALUE=DATE:20260219
DTSTAMP:20260420T232955
CREATED:20260129T190047Z
LAST-MODIFIED:20260210T131008Z
UID:10005168-1771372800-1771459199@ues.cat
SUMMARY:Vídeo.- Cicle força Itàlia. 1a sessió
DESCRIPTION:CICLE FORÇA ITÀLIA: Documentals de viatges i muntanya de socis de la UES \nNAVEGANT PELS LLACS LLOMBARDS ( 2004) 19 min.\nJosep Rota\nVIATGE A LA TOSCANA. (2013) 20 min.\nAntoni Viñas\nLA BELLESA ETERNA (Roma) (2009) 17 min.\nJosep Rota\nÒSTIA ANTICA (2014/2016) 18 min.\nMiquel Cervera\nUN TOMB PER LA PLAÇA DELS MIRACLES (2018) 5 min\nAntoni Viñas \nA les 19 h a la sala d’actes. Gratuït.
URL:https://ues.cat/agenda/video-cicle-forca-italia-1a-sessio/
CATEGORIES:Culturals,Vídeo
END:VEVENT
BEGIN:VEVENT
DTSTART;VALUE=DATE:20260213
DTEND;VALUE=DATE:20260214
DTSTAMP:20260420T232955
CREATED:20260202T092504Z
LAST-MODIFIED:20260202T092504Z
UID:10005171-1770940800-1771027199@ues.cat
SUMMARY:Natura.- Aigua i Sabó
DESCRIPTION:Visita guiada a la Depuradora del Besòs\, una infraestructura clau del sanejament metropolità\, una de les depuradores cobertes més grans del món. Per a entendre bé el procés de tractament de l’aigua residual. Tot seguit\, passejarem per l’espai natural de la desembocadura del riu Besòs\, a Sant Adrià: aiguamolls\, avifauna i paisatge litoral recuperat. Amb la col·laboració de l’Àrea de Serveis Ambientals de l’Àrea Metropolitana de Barcelona. \nDurada: Matinal \nTransport: Transport públic \nDificultat: Baixa
URL:https://ues.cat/agenda/natura-aigua-i-sabo/
CATEGORIES:Natura
END:VEVENT
BEGIN:VEVENT
DTSTART;VALUE=DATE:20260130
DTEND;VALUE=DATE:20260131
DTSTAMP:20260420T232955
CREATED:20251113T095911Z
LAST-MODIFIED:20251113T095939Z
UID:10005067-1769731200-1769817599@ues.cat
SUMMARY:Natura.- Presentació calendari 2026
DESCRIPTION:Trobada dels Amics de la Secció Natura. Presentació del calendari d’excursions 2026. \nA 2/4 de 8 del vespre. A la sala d’actes. Gratuït.
URL:https://ues.cat/agenda/natura-presentacio-calendari-2026/
CATEGORIES:Culturals,Natura
END:VEVENT
BEGIN:VEVENT
DTSTART;VALUE=DATE:20260128
DTEND;VALUE=DATE:20260129
DTSTAMP:20260420T232955
CREATED:20251202T133142Z
LAST-MODIFIED:20260108T084821Z
UID:10005087-1769558400-1769644799@ues.cat
SUMMARY:Vídeo.- Mostra social de vídeo de la UES
DESCRIPTION:A les 18:30 h a la sala d’actes. Gratuït. \nPrograma de projeccions: \n\nA l’entorn de Birmingham. 16 min. Josep Rota\nEl Ripoll VII: del Besòs fins al mar. 10 min. Lluís Fernàndez\nImatges de Sabadell del segle 20. 19 min. Miquel Cervera\nLa gran barrera de corall. 9 min. Isabel Hernández\nL’Escala: diari d’unes estades. 18 min. Antoni Viñas\nL’escala de Serradets a Gavernie. 11 min. Àngel Artigas\nTona. El castell. 7 min. Lluís Fernàndez
URL:https://ues.cat/agenda/video-mostra-social-de-video-de-la-ues/
CATEGORIES:Culturals,Vídeo
END:VEVENT
BEGIN:VEVENT
DTSTART;VALUE=DATE:20260118
DTEND;VALUE=DATE:20260119
DTSTAMP:20260420T232955
CREATED:20250616T165047Z
LAST-MODIFIED:20260108T094739Z
UID:10004975-1768694400-1768780799@ues.cat
SUMMARY:POSPOSADA Natura.-La Matagalls Montserrat a poc a poc
DESCRIPTION:4a etapa \nPosposada al 22 de març\, a causa de les restriccions de la pesta porcina africana. \nA causa de les restriccions d’accés al medi natural a tota l’àrea de risc de la pesta porcina africana\, que ens prohibeixen a les entitats d’organitzar-hi excursions\, ens veiem obligats a suspendre l’etapa del proper diumenge 18 de gener\, que transcorre gairebé en la seva totalitat per aquesta àrea (termes municipals de Sant Feliu de Codines\, Gallifa i Sant Llorenç Savall).  \nEn aquests moments no s’ha proporcionat més informació per part de la Generalitat de la durada de les restriccions ni de possibles canvis\, però és molt probable que es mantinguin almenys fins al 28 de febrer\, tal com ha recomanat la Comissió Europea. Davant d’això\, hem decidit suspendre les dues properes sortides\, la del 18 de gener i la del 22 de febrer\, i posposar-les per a més endavant\, fent córrer el calendari previst. Totes les etapes que ens queden (excepte l’última\, la de Montserrat) es troben de ple en l’àrea prohibida.   \nLes xerrades-entrevistes d’introducció a cada etapa també queden posposades. Esperem que a partir del març puguem reprendre la travessa\, i en aquest cas la xerrada amb l’Amàlia Bosch sobre Gallifa seria el dijous 19 de març\, i l’excursió de la 4a etapa el diumenge 22 de març. Si això es pot complir\, i per no coincidir amb la calor estiuenca\, les darreres etapes les efectuaríem el mes de setembre i d’octubre.
URL:https://ues.cat/agenda/natura-la-matagalls-montserrat-a-poc-a-poc/
CATEGORIES:Natura
END:VEVENT
BEGIN:VEVENT
DTSTART;VALUE=DATE:20260111
DTEND;VALUE=DATE:20260112
DTSTAMP:20260420T232955
CREATED:20250117T110309Z
LAST-MODIFIED:20260108T194453Z
UID:10004894-1768089600-1768175999@ues.cat
SUMMARY:Natura.- Cremant Neules i Torrons (anul·lada PPA)
DESCRIPTION:Pla de Reixac
URL:https://ues.cat/agenda/natura-cremant-neules-i-torrons-3/
CATEGORIES:Natura
END:VEVENT
END:VCALENDAR