BEGIN:VCALENDAR
VERSION:2.0
PRODID:-//UES - ECPv6.15.20//NONSGML v1.0//EN
CALSCALE:GREGORIAN
METHOD:PUBLISH
X-ORIGINAL-URL:https://ues.cat
X-WR-CALDESC:Activitats per UES
REFRESH-INTERVAL;VALUE=DURATION:PT1H
X-Robots-Tag:noindex
X-PUBLISHED-TTL:PT1H
BEGIN:VTIMEZONE
TZID:Europe/Madrid
BEGIN:DAYLIGHT
TZOFFSETFROM:+0100
TZOFFSETTO:+0200
TZNAME:CEST
DTSTART:20230326T010000
END:DAYLIGHT
BEGIN:STANDARD
TZOFFSETFROM:+0200
TZOFFSETTO:+0100
TZNAME:CET
DTSTART:20231029T010000
END:STANDARD
BEGIN:DAYLIGHT
TZOFFSETFROM:+0100
TZOFFSETTO:+0200
TZNAME:CEST
DTSTART:20240331T010000
END:DAYLIGHT
BEGIN:STANDARD
TZOFFSETFROM:+0200
TZOFFSETTO:+0100
TZNAME:CET
DTSTART:20241027T010000
END:STANDARD
BEGIN:DAYLIGHT
TZOFFSETFROM:+0100
TZOFFSETTO:+0200
TZNAME:CEST
DTSTART:20250330T010000
END:DAYLIGHT
BEGIN:STANDARD
TZOFFSETFROM:+0200
TZOFFSETTO:+0100
TZNAME:CET
DTSTART:20251026T010000
END:STANDARD
END:VTIMEZONE
BEGIN:VEVENT
DTSTART;TZID=Europe/Madrid:20241030T190000
DTEND;TZID=Europe/Madrid:20241030T203000
DTSTAMP:20260421T142955
CREATED:20240923T183659Z
LAST-MODIFIED:20240930T070630Z
UID:10004808-1730314800-1730320200@ues.cat
SUMMARY:Vídeo.- Premis Miquel Fàbregues\, 5a sessió
DESCRIPTION:[vc_row][vc_column][vc_column_text]5a sessió \nDimecres\, 30 d’octubre 19h. a la Sala d’Actes\, gratuït \nDOS PER ASTÚRIES (V) 24 min Ramon Font (A) – Castelldefels\nAPUNTES PARA SILVIA (S) 8 min P. Ortiz\, Á.Martínez y A.Gómez (I) – Huelva\nLA PLAÇA DEL MERCADAL (C) 10 min Antoni Viñas (A) – (UES)\nLA GUINDA DEL PASTEL (M) 20 min Alberto Collantes (I) – Madrid \nPrograma sessions[/vc_column_text][/vc_column][/vc_row]
URL:https://ues.cat/agenda/video-premis-miquel-fabregues-9/
CATEGORIES:Culturals,Vídeo
END:VEVENT
END:VCALENDAR