BEGIN:VCALENDAR
VERSION:2.0
PRODID:-//UES - ECPv6.15.20//NONSGML v1.0//EN
CALSCALE:GREGORIAN
METHOD:PUBLISH
X-WR-CALNAME:UES
X-ORIGINAL-URL:https://ues.cat
X-WR-CALDESC:Activitats per UES
REFRESH-INTERVAL;VALUE=DURATION:PT1H
X-Robots-Tag:noindex
X-PUBLISHED-TTL:PT1H
BEGIN:VTIMEZONE
TZID:Europe/Madrid
BEGIN:DAYLIGHT
TZOFFSETFROM:+0100
TZOFFSETTO:+0200
TZNAME:CEST
DTSTART:20250330T010000
END:DAYLIGHT
BEGIN:STANDARD
TZOFFSETFROM:+0200
TZOFFSETTO:+0100
TZNAME:CET
DTSTART:20251026T010000
END:STANDARD
BEGIN:DAYLIGHT
TZOFFSETFROM:+0100
TZOFFSETTO:+0200
TZNAME:CEST
DTSTART:20260329T010000
END:DAYLIGHT
BEGIN:STANDARD
TZOFFSETFROM:+0200
TZOFFSETTO:+0100
TZNAME:CET
DTSTART:20261025T010000
END:STANDARD
BEGIN:DAYLIGHT
TZOFFSETFROM:+0100
TZOFFSETTO:+0200
TZNAME:CEST
DTSTART:20270328T010000
END:DAYLIGHT
BEGIN:STANDARD
TZOFFSETFROM:+0200
TZOFFSETTO:+0100
TZNAME:CET
DTSTART:20271031T010000
END:STANDARD
END:VTIMEZONE
BEGIN:VEVENT
DTSTART;VALUE=DATE:20260225
DTEND;VALUE=DATE:20260226
DTSTAMP:20260421T161411
CREATED:20260129T190229Z
LAST-MODIFIED:20260210T131131Z
UID:10005169-1771977600-1772063999@ues.cat
SUMMARY:Vídeo.- Cicle força Itàlia. 2a sessió
DESCRIPTION:CICLE FORÇA ITÀLIA: Documentals de viatges i muntanya de socis de la UES \nSICÍLIA\, GRESOL DE CIVILITZACIONS (2011) 16 min.\nJosep Rota\nEL LLAC DE COMO (2014) 19 min.\nAntoni Viñas\nNÀPOLS i ELS NAPOLITANS (2016) 19 min.\nJosep Rota\nLES FONTS DE ROMA (2014/2017) 22 min.\nMiquel Cervera \nA les 19 h a la sala d’actes. Gratuït.
URL:https://ues.cat/agenda/video-cicle-forca-italia-2a-sessio/
CATEGORIES:Culturals,Vídeo
END:VEVENT
BEGIN:VEVENT
DTSTART;VALUE=DATE:20260227
DTEND;VALUE=DATE:20260228
DTSTAMP:20260421T161411
CREATED:20260130T105123Z
LAST-MODIFIED:20260130T105123Z
UID:10005170-1772150400-1772236799@ues.cat
SUMMARY:Divendres culturals.- Concert d'hivern
DESCRIPTION:Amb la Coral Òmnium Sabadell\, amb la direcció d’Eulàlia Llargués\, i La Carena\, amb la direcció de Marc Alguersuari. \nA les 19 h a la sala d’actes. Taquilla inversa.
URL:https://ues.cat/agenda/divendres-culturals-concert-dhivern/
CATEGORIES:Coral La Carena,Cultura,Culturals
END:VEVENT
BEGIN:VEVENT
DTSTART;VALUE=DATE:20260301
DTEND;VALUE=DATE:20260302
DTSTAMP:20260421T161411
CREATED:20251202T134554Z
LAST-MODIFIED:20260128T111419Z
UID:10005093-1772323200-1772409599@ues.cat
SUMMARY:Festa de l'Arbre - Anul·lada
DESCRIPTION:Activitat anul·lada per les restriccions de la peste porcina africana.
URL:https://ues.cat/agenda/festa-de-larbre-2/
CATEGORIES:Esplai La Ganyota,Natura,Socials
END:VEVENT
END:VCALENDAR