BEGIN:VCALENDAR
VERSION:2.0
PRODID:-//UES - ECPv6.15.20//NONSGML v1.0//EN
CALSCALE:GREGORIAN
METHOD:PUBLISH
X-ORIGINAL-URL:https://ues.cat
X-WR-CALDESC:Activitats per UES
REFRESH-INTERVAL;VALUE=DURATION:PT1H
X-Robots-Tag:noindex
X-PUBLISHED-TTL:PT1H
BEGIN:VTIMEZONE
TZID:Europe/Madrid
BEGIN:DAYLIGHT
TZOFFSETFROM:+0100
TZOFFSETTO:+0200
TZNAME:CEST
DTSTART:20250330T010000
END:DAYLIGHT
BEGIN:STANDARD
TZOFFSETFROM:+0200
TZOFFSETTO:+0100
TZNAME:CET
DTSTART:20251026T010000
END:STANDARD
BEGIN:DAYLIGHT
TZOFFSETFROM:+0100
TZOFFSETTO:+0200
TZNAME:CEST
DTSTART:20260329T010000
END:DAYLIGHT
BEGIN:STANDARD
TZOFFSETFROM:+0200
TZOFFSETTO:+0100
TZNAME:CET
DTSTART:20261025T010000
END:STANDARD
BEGIN:DAYLIGHT
TZOFFSETFROM:+0100
TZOFFSETTO:+0200
TZNAME:CEST
DTSTART:20270328T010000
END:DAYLIGHT
BEGIN:STANDARD
TZOFFSETFROM:+0200
TZOFFSETTO:+0100
TZNAME:CET
DTSTART:20271031T010000
END:STANDARD
END:VTIMEZONE
BEGIN:VEVENT
DTSTART;VALUE=DATE:20260303
DTEND;VALUE=DATE:20260304
DTSTAMP:20260421T212954
CREATED:20260225T154259Z
LAST-MODIFIED:20260225T185823Z
UID:10005211-1772496000-1772582399@ues.cat
SUMMARY:Foto.- Comentari de fotografies presentades pels socis.
DESCRIPTION:A les 19h\, obert a tothom.
URL:https://ues.cat/agenda/foto-comentari-de-fotografies-presentades-pels-socis/
CATEGORIES:Fotografia
END:VEVENT
BEGIN:VEVENT
DTSTART;VALUE=DATE:20260304
DTEND;VALUE=DATE:20260305
DTSTAMP:20260421T212954
CREATED:20260210T131321Z
LAST-MODIFIED:20260210T131321Z
UID:10005202-1772582400-1772668799@ues.cat
SUMMARY:Vídeo.- Cicle força Itàlia. 3a sessió
DESCRIPTION:CICLE FORÇA ITÀLIA: Documentals de viatges i muntanya de socis de la UES \nVENÈCIA i JO. (1984/1998/2016) 20 min.\nJosep Rota\nLUCCA (2018) 20 min.\nAntoni Viñas\nDOLOMITES – ESQUÍ. (2018) 25 min.\nÀngel Artigas\nLA PUGLIA (2022) 20 min.\nNúria Casas i Xavier Cabeza \nA les 19 h a la sala d’actes. Gratuït.
URL:https://ues.cat/agenda/video-cicle-forca-italia-3a-sessio/
CATEGORIES:Culturals,Vídeo
END:VEVENT
BEGIN:VEVENT
DTSTART;VALUE=DATE:20260307
DTEND;VALUE=DATE:20260308
DTSTAMP:20260421T212954
CREATED:20260202T092658Z
LAST-MODIFIED:20260202T092658Z
UID:10005173-1772841600-1772927999@ues.cat
SUMMARY:Natura.- El secret de les fonts perpètues
DESCRIPTION:Ruta per un entorn típicament mediterrani\, però no per això menys espectacular i bonic. Des de Santa Perpètua de Gaià\, petit llogarret medieval perdut entre turons i torrents\, damunt l’engorjat del riu Gaià\, ens endinsarem a la vall de Sant Magí\, un indret eremític envoltat per la serra de Brufaganya\, on enmig de la duresa de l’entorn destaquen vivament les fonts de Sant Magí\, d’aigua abundosa i molt preada pels tarragonins. Amb el guiatge d’Àngel Bistué\, biòleg i guia de l’associació Flora Catalana. \nDurada: Tot el dia \nTransport: Autocar \nDificultat:  Mitjana
URL:https://ues.cat/agenda/natura-el-secret-de-les-fonts-perpetues-2/
CATEGORIES:Natura
END:VEVENT
END:VCALENDAR