BEGIN:VCALENDAR
VERSION:2.0
PRODID:-//UES - ECPv6.15.20//NONSGML v1.0//EN
CALSCALE:GREGORIAN
METHOD:PUBLISH
X-WR-CALNAME:UES
X-ORIGINAL-URL:https://ues.cat
X-WR-CALDESC:Activitats per UES
REFRESH-INTERVAL;VALUE=DURATION:PT1H
X-Robots-Tag:noindex
X-PUBLISHED-TTL:PT1H
BEGIN:VTIMEZONE
TZID:Europe/Madrid
BEGIN:DAYLIGHT
TZOFFSETFROM:+0100
TZOFFSETTO:+0200
TZNAME:CEST
DTSTART:20250330T010000
END:DAYLIGHT
BEGIN:STANDARD
TZOFFSETFROM:+0200
TZOFFSETTO:+0100
TZNAME:CET
DTSTART:20251026T010000
END:STANDARD
BEGIN:DAYLIGHT
TZOFFSETFROM:+0100
TZOFFSETTO:+0200
TZNAME:CEST
DTSTART:20260329T010000
END:DAYLIGHT
BEGIN:STANDARD
TZOFFSETFROM:+0200
TZOFFSETTO:+0100
TZNAME:CET
DTSTART:20261025T010000
END:STANDARD
BEGIN:DAYLIGHT
TZOFFSETFROM:+0100
TZOFFSETTO:+0200
TZNAME:CEST
DTSTART:20270328T010000
END:DAYLIGHT
BEGIN:STANDARD
TZOFFSETFROM:+0200
TZOFFSETTO:+0100
TZNAME:CET
DTSTART:20271031T010000
END:STANDARD
END:VTIMEZONE
BEGIN:VEVENT
DTSTART;VALUE=DATE:20260310
DTEND;VALUE=DATE:20260311
DTSTAMP:20260421T182140
CREATED:20251202T135106Z
LAST-MODIFIED:20260115T134848Z
UID:10005095-1773100800-1773187199@ues.cat
SUMMARY:Caminades saludables +60 matinal.- Vall del Llobregat: del Burés a Monistrol de Montserrat
DESCRIPTION:Bages \nContinuem resseguint la Vall del Llobregat. Sortirem de la colònia tèxtil del Burés\, pujarem fins a l’ermita de Sant Antolí i acabarem a Monistrol de Montserrat. \nDistància: 7 km >> Desnivell: 175 m
URL:https://ues.cat/agenda/caminades-saludables-60-matinal/
CATEGORIES:Culturals,Esportives,Gent Gran,Socials
END:VEVENT
BEGIN:VEVENT
DTSTART;VALUE=DATE:20260310
DTEND;VALUE=DATE:20260311
DTSTAMP:20260421T182140
CREATED:20260225T154325Z
LAST-MODIFIED:20260225T185858Z
UID:10005212-1773100800-1773187199@ues.cat
SUMMARY:Foto.- Xerrada: Fotografia de carrer\, dues visions a càrrec de Miquel Traveria. Presentació de l’obra fotogràfica de dos fotògrafs actuals.
DESCRIPTION:A les 19h\, obert a tothom.
URL:https://ues.cat/agenda/foto-xerrada-fotografia-de-carrer-dues-visions-a-carrec-de-miquel-traveria-presentacio-de-lobra-fotografica-de-dos-fotografs-actuals/
CATEGORIES:Fotografia
END:VEVENT
BEGIN:VEVENT
DTSTART;VALUE=DATE:20260311
DTEND;VALUE=DATE:20260312
DTSTAMP:20260421T182140
CREATED:20260202T092734Z
LAST-MODIFIED:20260202T092734Z
UID:10005174-1773187200-1773273599@ues.cat
SUMMARY:Natura.- Natura entre setmana
DESCRIPTION:Rutes per a gaudir de la natura\, sense presses\, als millors miradors vers el Parc Natural de Sant Llorenç del Munt. Recorregut per la Torrota de la Roca\, testimoni del potent sistema defensiu feudal de la vall d’Horta\, i el molí de l’Agell\, antic molí fariner en un paratge engorjat\, a la confluència del Ripoll amb la riera de Mascarell. \nDurada: Matinal \nTransport: Transport públic \nDificultat: Mitjana
URL:https://ues.cat/agenda/natura-natura-entre-setmana-2/
CATEGORIES:Natura
END:VEVENT
BEGIN:VEVENT
DTSTART;VALUE=DATE:20260311
DTEND;VALUE=DATE:20260312
DTSTAMP:20260421T182140
CREATED:20260210T131459Z
LAST-MODIFIED:20260210T161527Z
UID:10005203-1773187200-1773273599@ues.cat
SUMMARY:Vídeo.- Cicle força Itàlia. 4a sessió
DESCRIPTION:CICLE FORÇA ITÀLIA: Documentals de viatges i muntanya de socis de la UES \nVOLCANS DE LA MEDITERRÀNIA ( 2018) 20 min.\nÀngel Artigas\nCOMACCIO i BOLONYA (2023) 12 min.\nJosep Rota\nUNA VOLTA PER LA TOSCANA (2024) 25 min.\nNúria Casas i Xavier Cabeza\nLA PULLA\, DE LA TERRA AL MAR (2025) 24 min.\nJosep Rota \n\nA les 19 h a la sala d’actes. Gratuït.
URL:https://ues.cat/agenda/video-cicle-forca-italia-4a-sessio/
CATEGORIES:Culturals,Vídeo
END:VEVENT
BEGIN:VEVENT
DTSTART;VALUE=DATE:20260313
DTEND;VALUE=DATE:20260314
DTSTAMP:20260421T182140
CREATED:20260128T141817Z
LAST-MODIFIED:20260205T102959Z
UID:10005167-1773360000-1773446399@ues.cat
SUMMARY:Divendres culturals.- Les llengües de Miquel Martí i Pol (recital)
DESCRIPTION:En motiu del Dia Mundial de la Poesia\, que se celebra el 21 de març \nMiquel Martí i Pol és un dels poetes contemporanis més llegits en llengua catalana. L’autor de Roda de Ter també va conrear\, però\, altres gèneres literaris i\, en una faceta menys coneguda\, va ser traductor d’un bon grapat de llibres. Alhora\, compta amb una gran projecció internacional\, atès que la seva obra ha estat traduïda a una quinzena de llengües d’arreu del món. \nAmb aquest espectacle\, a dues veus\, repassem la seva faceta com a traductor i com a autor traduït\, i ho fem recitant alguns dels seus poemes en català i en diverses de les\nllengües a què ha estat traduït\, tot plegat d’una manera interactiva amb el públic\, amb els quals volem respondre una pregunta: era Miquel Martí i Pol un llenguaferit? \nA càrrec de Jessica Neuquelman i David Vila i Ros. \nA les 19 h a la sala d’actes. Taquilla inversa. \nDurada: 60 min \nJessica Neuquelman (Dunkerque\, 1983). Soc una francesa del nord que vaig deixar les gèlides terres nadiues per satisfer la meva curiositat lingüística en contrades catalanes. Llicenciada en Filologia Hispànica\, vaig descobrir el català gràcies als cursos del Consorci per a la Normalització Lingüística de Sabadell i a la sèrie Ventdelplà. \nDavid Vila i Ros (Sabadell\, 1977). Soc escriptor i professor i he publicat llibres de narrativa\, de poesia i de divulgació lingüística. He estat membre actiu de diverses\nentitats de foment del català\, com la CAL\, la Fundació Reeixida\, Tallers per la Llengua o Òmnium Cultura. \nJunts som els Llenguaferits i anem amunt i avall buscant curiositats lingüístiques i reivindicant el català.
URL:https://ues.cat/agenda/divendres-culturals-les-llengues-de-miquel-marti-i-pol/
CATEGORIES:Cultura,Culturals
END:VEVENT
BEGIN:VEVENT
DTSTART;VALUE=DATE:20260315
DTEND;VALUE=DATE:20260316
DTSTAMP:20260421T182140
CREATED:20260305T152836Z
LAST-MODIFIED:20260305T154654Z
UID:10005239-1773532800-1773619199@ues.cat
SUMMARY:Concert per la Pau amb La Carena
DESCRIPTION:CONCERT PER LA PAU \n  \nCORAL LA CARENA DE LA UES. Direcció: Marc Alguersuari \nCORAL RESSÓ. Direcció: Miquel Garcia \nParroquia de la Santíssima Trinitat \nDiumenge 15 de març a les 18:30 h \nTaquilla inversa
URL:https://ues.cat/agenda/concert-per-la-pau-amb-la-carena/
CATEGORIES:Coral La Carena,Culturals
END:VEVENT
END:VCALENDAR