BEGIN:VCALENDAR
VERSION:2.0
PRODID:-//UES - ECPv6.15.20//NONSGML v1.0//EN
CALSCALE:GREGORIAN
METHOD:PUBLISH
X-ORIGINAL-URL:https://ues.cat
X-WR-CALDESC:Activitats per UES
REFRESH-INTERVAL;VALUE=DURATION:PT1H
X-Robots-Tag:noindex
X-PUBLISHED-TTL:PT1H
BEGIN:VTIMEZONE
TZID:Europe/Madrid
BEGIN:DAYLIGHT
TZOFFSETFROM:+0100
TZOFFSETTO:+0200
TZNAME:CEST
DTSTART:20220327T010000
END:DAYLIGHT
BEGIN:STANDARD
TZOFFSETFROM:+0200
TZOFFSETTO:+0100
TZNAME:CET
DTSTART:20221030T010000
END:STANDARD
BEGIN:DAYLIGHT
TZOFFSETFROM:+0100
TZOFFSETTO:+0200
TZNAME:CEST
DTSTART:20230326T010000
END:DAYLIGHT
BEGIN:STANDARD
TZOFFSETFROM:+0200
TZOFFSETTO:+0100
TZNAME:CET
DTSTART:20231029T010000
END:STANDARD
BEGIN:DAYLIGHT
TZOFFSETFROM:+0100
TZOFFSETTO:+0200
TZNAME:CEST
DTSTART:20240331T010000
END:DAYLIGHT
BEGIN:STANDARD
TZOFFSETFROM:+0200
TZOFFSETTO:+0100
TZNAME:CET
DTSTART:20241027T010000
END:STANDARD
END:VTIMEZONE
BEGIN:VEVENT
DTSTART;VALUE=DATE:20230603
DTEND;VALUE=DATE:20230604
DTSTAMP:20260421T122559
CREATED:20221201T143708Z
LAST-MODIFIED:20230518T133923Z
UID:10004150-1685750400-1685836799@ues.cat
SUMMARY:Muntanya.- Via Ferrada Roc d'Esquers (Andorra)
DESCRIPTION:La VF Roc d’Esquers està situada en la Parròquia d’Escaldes Engordany\, és una via ferrada llarga i espectacular de granit amb un desnivell de 250 mts vertical vorejat de bosc i directe a la cima\, de dificultat mitjana més aviat per la durada de la ferrada que per la dificultat tècnica i el retorn és per una llarga\, tranquil·la i cultural caminada per la Vall del Madriu\, patrimoni mundial per l’UNESCO. \nNivell de dificultat: Mitjana (K3) \nDistància: 5 km \nDesnivell: +250 m \nTemps efectiu aproximat: 5 hores \nSortida en cotxes particulars a les 6 del matí. Aparcament del Parc Catalunya\, davant del Club de Tenis \nMaterial: Casc\, Arnés\, mosquetons dissipadors de via ferrada\, 2 bagues de descancs (30 cm i 60/80 cm) i guants. Esmorzar i dinar \nPreu: Socis/es: 30€ >> soci@web i no socis/es: 39€ \nCal estar federat/ada o bé tramitar assegurança temporal obligatòria (4\,5€/dia) \nInscripcions del 22 de maig a l’1 de juny a ues.cat\, app o presencialment a secretaria (20 places) \nReunió informativa: Dijous 1 de juny a les 19.00 h a la UES
URL:https://ues.cat/agenda/muntanya-roc-desquers-andorra/
CATEGORIES:Esportives,Muntanya
END:VEVENT
BEGIN:VEVENT
DTSTART;VALUE=DATE:20230603
DTEND;VALUE=DATE:20230604
DTSTAMP:20260421T122559
CREATED:20221230T081921Z
LAST-MODIFIED:20221230T081921Z
UID:10004248-1685750400-1685836799@ues.cat
SUMMARY:Orientació.-Rogaine lliga esprint a L'Anoia. Organitza La Nova Fita
DESCRIPTION:
URL:https://ues.cat/agenda/orientacio-rogaine-lliga-esprint-a-lanoia-organitza-la-nova-fita/
CATEGORIES:Esportives,Orientació
END:VEVENT
BEGIN:VEVENT
DTSTART;TZID=Europe/Madrid:20230603T080000
DTEND;TZID=Europe/Madrid:20230604T170000
DTSTAMP:20260421T122600
CREATED:20230425T165612Z
LAST-MODIFIED:20240319T170724Z
UID:10004405-1685779200-1685898000@ues.cat
SUMMARY:Jovent.- Acampada
DESCRIPTION:Sortida de 2 dies a Sadernes (LaGarrotxa) \nEs dorm al càmping de Masia Sadernes (S’ha de portar tenda de campanya cada dues persones) \nEl 1r dia: Cim de la Bassegoda (100 cims) \n\nDistància: 18\,2 km\nDesnivell: +1230 -1240\nDurada: 8 hores\nDificultat: mitja-alta\n\nEl 2n dia: Salt de Brull i Gorg Blau \n\nDistància: 16\,5 km\nDesnivell: +572 -572\nDurada: 5h aprox\nDificultat: Moderada\n\nSocis/es: 17€ (inclou: allotjament\, guiatge i gestió) + 6€ (assegurança) \nSoci@web i no socis: 20€ (inclou: allotjament\, guiatge i gestió) + 6€ (assegurança)
URL:https://ues.cat/agenda/jovent-acampada/
CATEGORIES:Aventura,Esportives,Jovent
END:VEVENT
BEGIN:VEVENT
DTSTART;VALUE=DATE:20230604
DTEND;VALUE=DATE:20230605
DTSTAMP:20260421T122600
CREATED:20230505T085610Z
LAST-MODIFIED:20230505T090055Z
UID:10004407-1685836800-1685923199@ues.cat
SUMMARY:Senders.- Terres del Gaià: de Santa Coloma de Queralt al mar
DESCRIPTION:[vc_row][vc_column][vc_column_text]Camí de les terres del riu Gaià \nAmb aquesta 4ta etapa arribem al mar tot resseguint el curs del riu Gaià. Iniciarem la caminada al petit poble d’Ardenya i arribarem al mar a la platja de Tamariu\, tot travessant la Reserva natural de fauna salvatge de la desembocadura del riu Gaià. \nAllargarem el recorregut per la platja i passarem per Tamariu i el seu castell. Passejarem pel camí de ronda fins a la platja de la Mora\, on tindrem temps de fer un bany. \nItinerari: Ardenya – el Castellot – Tamarit – platja de la Móra. Distància: 10 km i +50 m/-100 m de desnivell\, anirem per camins i corriols amb trams de PR i GR. \nAcabarem la diada amb un dinar\, opcional\, a un bar restaurant de la Mora. \nD’aquesta manera finalitzarem el recorregut de les Terres del riu Gaià que vam comença al gener a Santa Coloma de Queralt. \nInscripcions del 8 al 29 de maig[/vc_column_text][/vc_column][/vc_row]
URL:https://ues.cat/agenda/senders-terres-del-gaia-de-santa-coloma-de-queralt-al-mar/
CATEGORIES:Esportives,Senders
END:VEVENT
BEGIN:VEVENT
DTSTART;TZID=Europe/Madrid:20230606T190000
DTEND;TZID=Europe/Madrid:20230606T200000
DTSTAMP:20260421T122600
CREATED:20230316T170749Z
LAST-MODIFIED:20230316T170749Z
UID:10004362-1686078000-1686081600@ues.cat
SUMMARY:Xerrades obertes sobre temes de muntanya.- Bicicleta i manta: sis anys fent la volta al món
DESCRIPTION:Bicicleta i manta: sis anys fent la volta al món\, per Raimon Escapa\, cicloturista. \nEl que molts somien durant tota la vida (i potser acompleixen amb la jubilació) aquest\nsabadellenc de cognom suggeridor ho va fer entre els 26 i els 32 anys. Més enllà de moltes\nganes i alguna gran renúncia\, la seva recepta és prou senzilla: una idea\, uns estalvis\, una tenda\nde campanya i un fogonet. La resta\, tot baixada. \nA les 7 de la tarda\, virtual.
URL:https://ues.cat/agenda/xerrades-obertes-sobre-temes-de-muntanya-bicicleta-i-manta-sis-anys-fent-la-volta-al-mon/
CATEGORIES:Esportives,Muntanya
END:VEVENT
BEGIN:VEVENT
DTSTART;VALUE=DATE:20230607
DTEND;VALUE=DATE:20230608
DTSTAMP:20260421T122600
CREATED:20221219T105818Z
LAST-MODIFIED:20230503T134306Z
UID:10004182-1686096000-1686182399@ues.cat
SUMMARY:Senders.- Senders Km0\, els torrents de la Riereta i de Gotelles
DESCRIPTION:[vc_row][vc_column][vc_column_text] \nRecorregut amb inici i final al parc del Torrent de la Romeua\, i que ens permet conèixer bé dos dels torrents localitzats a tramuntana de la ciutat. La Riereta neix a l’aiguabarreig dels torrents del Fangar i de la Murtra\, a sota de Ca n’Ustrell. El torrent de Gotelles (o de Botelles\, com també és conegut) neix uns metres més amunt de la font de Gotelles\, aproximadament al dret del quilòmetre 5 de la carretera de Matadepera. \nPunt i hora de trobada: Parc de la Romeua (carrer de Budapest/carrer Nàpols)\, a les 8 del matí \nDistància: 10km >> Desnivell: +/- 200 m \nEs pot fer caminant o amb bastons de marxa nòrdica. Hora aproximada de finalització: 13 h \nMaterial: Cal portar aigua\, esmorzar i roba adequada a les condicions climatològiques i calçat per caminar. \nActivitat gratuïta per a socis/es >> Soci@web i no socis: 5€ \nItinerari 13 del llibre Excursions per conèixer el rodal de Sabadell \n[/vc_column_text][/vc_column][/vc_row]
URL:https://ues.cat/agenda/senders-senders-km0-els-torrents-de-la-riereta-i-de-gotelles/
CATEGORIES:Esportives,Senders
END:VEVENT
BEGIN:VEVENT
DTSTART;TZID=Europe/Madrid:20230608T193000
DTEND;TZID=Europe/Madrid:20230608T203000
DTSTAMP:20260421T122600
CREATED:20230509T080439Z
LAST-MODIFIED:20230522T182457Z
UID:10004408-1686252600-1686256200@ues.cat
SUMMARY:Presentació del llibre 'Impuls' de Xavier Ortega
DESCRIPTION:[vc_row][vc_column][vc_column_text] \nXavier Ortega\, instructor i entrenador esportiu i instructor tècnic de marxa nòrdica del Club Marxa Nòrdica Collserola\, ens presentarà el llibre “Impuls” de marxa nòrdica. \nDescobrirem els beneficis d’aquest esport tan complet per a la nostra salut i gaudirem de les seves experiències de marxa nòrdica en alçada amb la projecció de la seva última expedició a l’Aconcagua (6.962m) i el Chimborazo (6.263m). \nA les 19:30h a la sala d’actes[/vc_column_text][/vc_column][/vc_row]
URL:https://ues.cat/agenda/presentacio-del-llibre-impuls-de-xavier-ortega/
CATEGORIES:Culturals,Esportives,Marxa Nòrdica
END:VEVENT
BEGIN:VEVENT
DTSTART;VALUE=DATE:20230610
DTEND;VALUE=DATE:20230611
DTSTAMP:20260421T122600
CREATED:20221219T105926Z
LAST-MODIFIED:20230522T082049Z
UID:10004183-1686355200-1686441599@ues.cat
SUMMARY:Senders.- Gr210 Ruta del Ter\, de Roda del Ter a Vilanova de Sau
DESCRIPTION:[vc_row][vc_column][vc_column_text]ETAPA: RODA DE TER – VILANOVA DE SAU \nSortirem de Roda de Ter vers Les Masies de Roda\, itinerari envoltat de camps de conreu i de grans arbres\, tot resseguint el Ter que\, per meandres (ara amb poca aigua)\, flueix cap a l’embassament de Sau. Al mirador del pàrquing del Terrades\, ja podrem gaudir de les panoràmiques del pantà\, de les restes de Sant Romà de Sau i de les espectaculars  cingleres que l’envolten. Baixarem cap a la Platja de la Rovira i\, per amples pistes\, arribarem a Vilanova de Sau\, on ens esperarà el bus que ens durà fins a Sant Julià de  Vilatorta per gaudir d’un dinar de germanor (OPCIONAL) i acomiadarem la temporada. \nItinerari: Roda de Ter – Resclosa de Samelassa – Font de les Bruixes – Pou de Glaç de Salou – Can Ton Xic – Collet de Passarella (539 m) – Puig de Ter (517m) – Fussimanya Jardí – Torrent de l’Infern (454m) – Coll de Terrades (533m) – Parking Mirador del Coll de Terrades – Mirador al Puig de la Força (462m) – Platja de la Rovira – Torrent dels Romanins – Vilanova de Sau. \nDistància: 16\,50 km i + 416 / – 365 de desnivell.\nHora i lloc de sortida en autocar: 07:00 h – davant l’Hotel Sabadell \nEl dinar OPCIONAL constarà de: \n1er. A COMPARTIR: Amanida de formatges\, plates d’embotits i escalivades. \n2n. GRAELLADA DE CARN A LA BRASA: xai\, xurrasco\, botifarra i cansalada\, acompanyat de patates \nAigua\, vi i postres \nPREU DINAR: 25€[/vc_column_text][/vc_column][/vc_row]
URL:https://ues.cat/agenda/senders-gr210-ruta-del-ter-de-roda-del-ter-a-vilanova-de-sau/
CATEGORIES:Esportives,Senders
END:VEVENT
BEGIN:VEVENT
DTSTART;VALUE=DATE:20230614
DTEND;VALUE=DATE:20230615
DTSTAMP:20260421T122600
CREATED:20230322T154300Z
LAST-MODIFIED:20230503T140216Z
UID:10004391-1686700800-1686787199@ues.cat
SUMMARY:Les excursions del dimecres.- Vall de la Tossa i font de l'Home Mort (Ripollès)
DESCRIPTION:[vc_row][vc_column][vc_column_text]Distància: 12\,6 km Desnivell:+/- 660 m \nComarca: El Ripollès \nItinerari: La vall de la Tossa és una vall secundària que recull les aigües dels cims del Puigmal i la Tossa del Pas dels Lladres. Està situada a la capçalera de la vall de Ribes\, a tocar del poble de Queralbs\, entre el massís del Puigmal i el puig de Dòrria. L’excursió que us proposem comença al bonic poble de Queralbs i ressegueix el  vessant  meridional recorrent els prats de pastura dels Plaus i per sota els cingles de l’Andreu fins a arribar a la font de l’Home Mort. La tornada la farem per l’antic camí de les Vagonetes passant per la mina Saragossa i creuant el riu de la Tossa sota el vessant nord de la serra Estremera. \nCal portar dinar\, aigua i la roba adient a les condicions climatològiques. \n[/vc_column_text][/vc_column][/vc_row]
URL:https://ues.cat/agenda/les-excursions-del-dimecres-el-ripolles/
CATEGORIES:Esportives,Excursions dimecres
END:VEVENT
BEGIN:VEVENT
DTSTART;TZID=Europe/Madrid:20230615T183000
DTEND;TZID=Europe/Madrid:20230615T210000
DTSTAMP:20260421T122600
CREATED:20230612T075152Z
LAST-MODIFIED:20230612T081108Z
UID:10004143-1686853800-1686862800@ues.cat
SUMMARY:Assemblea General de socis i sòcies
DESCRIPTION:[vc_row][vc_column][vc_column_text]CONVOCATÒRIA D’ASSEMBLEA GENERAL ORDINÀRIA\nPer acord de la junta directiva\, us convoquem a l’assemblea GENERAL ORDINÀRIA de la Unió Excursionista de Sabadell\, que se celebrarà el DIJOUS 15 de juny de 2023\, a 2/4 de 7 de la tarda en primera convocatòria\, i a les 7 de la tarda en segona\, al local de l’entitat (carrer Salut\, 1416 de Sabadell). \nVeure a la convocatòria \n[/vc_column_text][/vc_column][/vc_row]
URL:https://ues.cat/agenda/assemblea-general-de-socis-i-socies/
CATEGORIES:Culturals,Esportives,Socials
END:VEVENT
BEGIN:VEVENT
DTSTART;VALUE=DATE:20230616
DTEND;VALUE=DATE:20230617
DTSTAMP:20260421T122600
CREATED:20220927T085834Z
LAST-MODIFIED:20230526T092709Z
UID:10004113-1686873600-1686959999@ues.cat
SUMMARY:BTT.- Volta per l'Empordanet
DESCRIPTION:[vc_row][vc_column][vc_column_text] \nItinerari : Ruta circular\, amb sortida i arribada a Torroella de Montgrí\, passant per Gualta\, Llabià\, Ullastret\, Castell d’Empordà\, la Bisbal d’Empordà\, Vullpellac\, Canapost\, Peratallda\, Palau-Sator\, Fontclara\, Fontanilles i Gualta. \nDificultat: Baixa. Es circula per camins en bon estat i carreteres locals. \nHora i punt de trobada:Torroella de Montgrí\, a 2/4 de 9 a l’aparcament davant Carrefour\, un cop passat el pont sobre el Ter. \nEsmorzar: Torroella de Montgrí\, casa Moner. Sortir a pedalar a les 9\,15h \nDinar: Gualta\, al Restaurant Horta del Patxei. Menú 20 euros\, tot inclòs. \nÉs obligatori portar casc\, càmera de recanvi\, manxa i eines bàsiques. \nInscripcions a ues.cat o a secretaria fins el dimecres 14 de juny \nMàxim 16 places. \nCal estar federat/ada o tramitar una assegurança temporal de dia (4\,5€) \nPreu amb dinar: socis/es22€ – soci@web i no socis: 27€ \nPreus sense dinar: socis/es 2€ – soci@web i no socis: 7€ \nMés info: btt@ues.cat \n[/vc_column_text][/vc_column][/vc_row]
URL:https://ues.cat/agenda/btt-emporda/
CATEGORIES:BTT,Esportives
END:VEVENT
BEGIN:VEVENT
DTSTART;TZID=Europe/Madrid:20230617T080000
DTEND;TZID=Europe/Madrid:20230618T170000
DTSTAMP:20260421T122600
CREATED:20230411T083744Z
LAST-MODIFIED:20230413T145903Z
UID:10004127-1686988800-1687107600@ues.cat
SUMMARY:Muntanya.- Pica d'Estats pel refugi de l'estany de Pinet
DESCRIPTION:[vc_row][vc_column][vc_column_text]Sortida de dos dies.\n1r dia Del lloc de l’Artigue a la vall de Vicdesós pujarem al refugi de Pinet; 3 hores; 1200 m de desnivell; Ibp 115 \n2n dia. Del refugi de Pinet\, sortirem cap a la Pica d’Estats per un itinerari exent de dificultat però amb desnivell. Depenent de les condicions de neu\, haurem de utilitzar crampons o no. Si el temps ho permet\, ens arribarem a la punta Verdaguer.\nLa baixada la farem cap al refugi i després de una aturada\, continuarem fins a l’Artigue. 8 hores; Ibp 150 \n21 km totals. 1r dia: 1100 m de desnivell / 2n dia: 950 m. Baixada: 2.500 m[/vc_column_text][/vc_column][/vc_row]
URL:https://ues.cat/agenda/muntanya-pica-destats-pel-refugi-de-lestany-de-pinet/
CATEGORIES:Esportives,Muntanya
END:VEVENT
BEGIN:VEVENT
DTSTART;VALUE=DATE:20230618
DTEND;VALUE=DATE:20230619
DTSTAMP:20260421T122600
CREATED:20230605T082304Z
LAST-MODIFIED:20230605T092411Z
UID:10004425-1687046400-1687132799@ues.cat
SUMMARY:Marxa Nòrdica.- Massís de Cadiretes
DESCRIPTION:[vc_row][vc_column][vc_column_text]Massís de Cadiretes i l’Ardenya \nDistància: 11\,80 km i +/- 430 m de desnivell \nÚltim sortida de curs\, amb muntanya i platja. \nRecorregut pel Massís de Cadiretes i l’Ardenya. Iniciarem la caminada seguint el GR92\, tot passant pel castell de Montagut i fins arribar al Puig de les Cols (417 m. un dels 100 Cims de la FEEC). Baixarem cap a la costa per camins boscosos\, trobant-nos amb diferents miradors amb excel·lents vistes a la Costa Brava. Acabarem a la Platja del Canyet\, on\, qui ho vulgui\, podrà acabar la jornada amb un bon bany. \nSortida a les 7 del matí\, a la plaça de les Dones del Tèxtil. \nSortida en autocar. Tot el dia \nMaterial: Bastons\, tacs de goma dels bastons\, esmorzar\, dinar\, aigua i roba adequada a les condicions climatològiques. Banyador\, tovallola i crema solar. \n[/vc_column_text][/vc_column][/vc_row]
URL:https://ues.cat/agenda/marxa-nordica-massis-de-cadiretes/
CATEGORIES:Esportives,Marxa Nòrdica
END:VEVENT
BEGIN:VEVENT
DTSTART;TZID=Europe/Madrid:20230620T190000
DTEND;TZID=Europe/Madrid:20230620T200000
DTSTAMP:20260421T122600
CREATED:20230316T163219Z
LAST-MODIFIED:20230322T090448Z
UID:10004114-1687287600-1687291200@ues.cat
SUMMARY:Xerrades obertes sobre temes de muntanya.- Iniciació al retoc de fotografies de paisatge
DESCRIPTION:Iniciació al retoc de fotografies de paisatge\, a càrrec d’en Txema Lacunza. \nEl Txema és un reconegut fotògraf i especialista en el retoc de fotos; fa cursos i xerrades sobre\naquest tema arreu de l’estat espanyol. Ha fet moltes exposicions de les seves creacions\, la\ndarrera al casal Pere Quart de la nostra ciutat el passat més de Febrer. Ha obtingut diferents\ndistincions en certàmens fotogràfics. És membre actiu de la secció de fotografia de la UES amb la que col·labora assíduament. \nA les 7 de la tarda\, virtual.
URL:https://ues.cat/agenda/xerrades-obertes-sobre-temes-de-muntanya-iniciacio-al-retoc-de-fotografies-de-paisatge/
CATEGORIES:Esportives,Muntanya
END:VEVENT
BEGIN:VEVENT
DTSTART;TZID=Europe/Madrid:20230621T193000
DTEND;TZID=Europe/Madrid:20230621T203000
DTSTAMP:20260421T122600
CREATED:20230602T150441Z
LAST-MODIFIED:20230620T080511Z
UID:10004423-1687375800-1687379400@ues.cat
SUMMARY:Presentació del projecte 'Jordi Pons. 90 anys'
DESCRIPTION:[vc_row][vc_column][vc_column_text]Jordi Pons és molt més que un alpinista català\, és una figura destacada de la nostra societat\, molt conegut arreu del país i un referent pels muntanyencs catalans. \nAra\, als seus 90 anys  i en aquest moment de la seva trajectòria i envoltat per un equip amb alguns dels millors alpinistes del país\, és l’hora de deixar constància del llegat d’aquest muntanyenc català\, imprescindible per comprendre la història del nostre esport\, en un documental produït per PIXPEAK. Amb el repte de l’ascenció a l’Eiger per l’aresta Mittellegi com a fil conductor\, aquest documental explicarà la història i la trajectòria d’en Jordi Pons\, que porta setanta-cinc anys en actiu pujant muntanyes a tots els continents\, convertit-lo en un dels alpinistes més coneguts arreu. \n  \nEl dimecres 21 de juny l’equip de PIXPEAK i en Jordi Pons ens explicaran aquest projecte documental i els detalls de l’ascenció a l’Eiger en un acte que tindrà lloc a la sala d’actes a 2/4 de 8 del vespre. \nPodeu col·laborar en aquest projecte a través de Verkami[/vc_column_text][/vc_column][/vc_row]
URL:https://ues.cat/agenda/presentacio-del-projecte-jordi-pons-90-anys/
CATEGORIES:Culturals,Esportives,Muntanya,Socials
END:VEVENT
BEGIN:VEVENT
DTSTART;TZID=Europe/Madrid:20230628T180000
DTEND;TZID=Europe/Madrid:20230628T220000
DTSTAMP:20260421T122600
CREATED:20230612T081956Z
LAST-MODIFIED:20230627T084959Z
UID:10004145-1687975200-1687989600@ues.cat
SUMMARY:Senders.- Rodal i senders a la fresca
DESCRIPTION:[vc_row][vc_column][vc_column_text]Excursions per gaudir-les a l’estiu\,  prop de casa\, pel Rodal i serres properes\, i pensades per anar hi en transport públic i gaudir-les caminant o amb bastons de marxa nòrdica. \nDimecres 28 de juny: Rodal pels Plans de Can Bonvilar i Mas Canal\, volta al golf de Terrassa \nRecorregut circular que dona la volta al camp de golf de Terrassa i ens permet conèixer els Plans de Can Bonvilar i de mas Canals. \nDistància: 10 km >> Desnivella: +/- 130 m \nPunt de trobada: Aparcament del carrer Zuric – barri de Can Llongh \nHora de trobada: 6 de la tarda – Hora de finalització: 10 de la nit (aproximadament) \nCal portar aigua\, sopar\, frontal i roba adequada a les condicions climatològiques. \nInscripcions 7 dies abans de la sortida a web\, app i presencialment a secretaria.  \nProperes sortides: \n\nDivendres 7 de juliol: Tibidabo\, el mirador de Barcelona\nDimecres 12 de juliol: Rodal per ponent del terme\, Torrebonica – Can Canya – Can Gambús\nDivendres 21 de juliol: Passeig de les Aigües\, Barcelona als teus peus\nDimecres 26 de juliol: Serra de Galliners\, Camí dels Mussols\n\nL’hora d’inici de totes les excursions serà a les 6 de la tarda i finalitzaran a les 10 de la nit aproximadament[/vc_column_text][/vc_column][/vc_row]
URL:https://ues.cat/agenda/senders-rodal-i-senders-a-la-fresca/
CATEGORIES:Esportives,Senders
END:VEVENT
END:VCALENDAR