BEGIN:VCALENDAR
VERSION:2.0
PRODID:-//UES - ECPv6.15.20//NONSGML v1.0//EN
CALSCALE:GREGORIAN
METHOD:PUBLISH
X-WR-CALNAME:UES
X-ORIGINAL-URL:https://ues.cat
X-WR-CALDESC:Activitats per UES
REFRESH-INTERVAL;VALUE=DURATION:PT1H
X-Robots-Tag:noindex
X-PUBLISHED-TTL:PT1H
BEGIN:VTIMEZONE
TZID:Europe/Madrid
BEGIN:DAYLIGHT
TZOFFSETFROM:+0100
TZOFFSETTO:+0200
TZNAME:CEST
DTSTART:20240331T010000
END:DAYLIGHT
BEGIN:STANDARD
TZOFFSETFROM:+0200
TZOFFSETTO:+0100
TZNAME:CET
DTSTART:20241027T010000
END:STANDARD
BEGIN:DAYLIGHT
TZOFFSETFROM:+0100
TZOFFSETTO:+0200
TZNAME:CEST
DTSTART:20250330T010000
END:DAYLIGHT
BEGIN:STANDARD
TZOFFSETFROM:+0200
TZOFFSETTO:+0100
TZNAME:CET
DTSTART:20251026T010000
END:STANDARD
BEGIN:DAYLIGHT
TZOFFSETFROM:+0100
TZOFFSETTO:+0200
TZNAME:CEST
DTSTART:20260329T010000
END:DAYLIGHT
BEGIN:STANDARD
TZOFFSETFROM:+0200
TZOFFSETTO:+0100
TZNAME:CET
DTSTART:20261025T010000
END:STANDARD
END:VTIMEZONE
BEGIN:VEVENT
DTSTART;TZID=Europe/Madrid:20250108T080000
DTEND;TZID=Europe/Madrid:20250108T150000
DTSTAMP:20260422T164615
CREATED:20241122T105833Z
LAST-MODIFIED:20241216T092808Z
UID:10004829-1736323200-1736348400@ues.cat
SUMMARY:Senders Km0.- Al Puig de Castellar
DESCRIPTION:[vc_row][vc_column][vc_column_text]Iniciem una nova temporada de les sortides #Senders Km0. Aquesta temporada de l’any 2025 tindrem l’ocasió de conèixer el Parc Natural de Collserola. \nEl dia 8 farem un recorregut per cim del Puig Castellar\, encara que no pertany a la Serra de Collserola ens permet visionar la serra des de fora i amb una proximitat extraordinària. Al cim tindrem l’ocasió de visitar el poblat iber i visitar dues petites ermites que miren al mar. \nPunt i hora de trobada: Estació de metro L9 nord Can Zam . Santa Coloma Gramenet a les 9 h \nSortida conjunta des de Sabadell en Renfe a les 8 h per agafar els següents trens: \nSabadell Nord: 8:07 >> Sabadell Centre: 8:10 >> Sabadell Sud: 8:13 h \nDistància: 10\,1 km >> Desnivell: +/- 350 m \nHora aproximada de finalització a Montcada: 14 h \nMaterial: Cal portar aigua\, esmorzar i roba adequada a les condicions climatològiques i calçat per caminar per muntanya. \nActivitats gratuïta per a socis/es. \nSoci@web i no socis: 5€ \nEl desplaçament es farà en transport públic i és càrrec de cada participant. \nConsulteu  la ruta al Wikiloc de la UES \nInscripcions a partir del 18/12[/vc_column_text][/vc_column][/vc_row]
URL:https://ues.cat/agenda/senders-km0-al-puig-de-castellar/
CATEGORIES:Esportives,Senders
END:VEVENT
BEGIN:VEVENT
DTSTART;TZID=Europe/Madrid:20250109T180000
DTEND;TZID=Europe/Madrid:20250109T190000
DTSTAMP:20260422T164615
CREATED:20241127T161836Z
LAST-MODIFIED:20241127T162419Z
UID:10004857-1736445600-1736449200@ues.cat
SUMMARY:Caminant per la Vall de Benasc\, reunió informativa
DESCRIPTION:[vc_row][vc_column][vc_column_text]Del 9 al 15 de juny de 2025 \nLa vall de Benasc\, situada a la comarca de la Ribagorça\, és un dels paratges més espectaculars del Pirineu aragonès. Aquesta vall pirinenca destaca pel seu impressionant paisatge d´alta muntanya i la seva rica oferta turística durant tot l´any. La Vall de Benasc es troba al cor del Parc Natural Posets-Maladeta\, on hi trobem l’Aneto\, que amb els seus 3.404 metres és el cim més elevat del Pirineu. \nLa vall destaca per la seva bellesa i riquesa natural i geològica\, amb nombrosos estanys d’alta muntanya\, glaceres\, crestes\, cims\, boscos\, i una gran diversitat de flora i de fauna. Aquesta riquesa i diversitat de paisatges  fa de la Vall de Benasc un paradís per als amants de la natura i el senderisme. \nLa vall de Benasc ofereix múltiples possibilitats per al senderisme: excursions a llocs emblemàtics com la cascada del Forau d’Aigualluts\, les gorgues d’Alba o les tres cascades d’Ardonés\, o la visita a pobles de la vall com Anciles\, Villanova o Castejón de Sos. \nReunió informativa dijous 9 de gener a les 18 h\, per zoom (demaneu-nos l’enllaç) o bé podeu venir presencialment a la UES (aula formació) \nInscripcions a partir del 10 de gener de 2025\, a les 17 h.[/vc_column_text][/vc_column][/vc_row]
URL:https://ues.cat/agenda/caminant-per-la-vall-de-benasc-reunio-informativa/
CATEGORIES:Culturals,Esportives,Excursions dimecres,Gent Gran,Socials
END:VEVENT
BEGIN:VEVENT
DTSTART;VALUE=DATE:20250111
DTEND;VALUE=DATE:20250112
DTSTAMP:20260422T164615
CREATED:20241122T110009Z
LAST-MODIFIED:20241218T095454Z
UID:10004830-1736553600-1736639999@ues.cat
SUMMARY:Senders.- GR1 Sender històric: de Sant Martí d'Empúries a Camallera
DESCRIPTION:[vc_row][vc_column][vc_column_text]Etapa inaugural del sender Transversal GR 1\, també anomenat històric\, que ens porta des de les proximitats de l’antiga colònia grecoromana d’Empòrion\, ubicada a l’extrem sud del golf de Roses\, fins a l’interior de la plana empordanesa\, tot creuant bonics camps d’oliveres\, conreus de cereals i bosquets de pins i alzines. Durant tot el recorregut gaudim d’àmplies vistes del massís del Montgrí i del majestuós cim del Canigó\, que veurem cobert de neu fins ben entrada la primavera. A més a més\, el fet de transitar pel límit meridional del Parc Natural dels Aiguamolls de l’Empordà ens permet gaudir de l’observació d’aus tan significatives i singulars com l’agró roig\, el blauet o la reintroduïda polla blava. \nEtapa 1: de Sant Martí d’Empúries a Camallera \nDistància: 18\,61 km >> Desnivell_ +224/ – 146 m \nSortida les 7 h davant l’Hotel Sabadell\, sortida en autocar.[/vc_column_text][/vc_column][/vc_row]
URL:https://ues.cat/agenda/senders-per-determinar/
CATEGORIES:Esportives,Senders
END:VEVENT
BEGIN:VEVENT
DTSTART;VALUE=DATE:20250111
DTEND;VALUE=DATE:20250112
DTSTAMP:20260422T164615
CREATED:20241128T184738Z
LAST-MODIFIED:20241223T105457Z
UID:10004858-1736553600-1736639999@ues.cat
SUMMARY:Muntanya.- El cavallet de la Mola. Sant Llorenç del Munt
DESCRIPTION:[vc_row][vc_column][vc_column_text] \nComencem l’any amb una sortida crema torrons i retrobament per la muntanya que tenim més a prop. LA MOLA DE SANT LLORENÇ. \nLa proposta és molt curiosa i es tracta d’un recorregut molt complert que ens portarà a conèixer i unir molts racons i llocs d’interès dins del Parc Natural de Sant Llorenç de Munt forman al finalitzar la excursió una figura on es dibuixarà sobre el track el contorn de un cavallet. Es tracta d’un recorregut sense dificultats tècniques i apta per a tothom\, participeu i segur que gaudireu de llocs que no coneixeu. \nDistància: 15\, 50 km >> Desnivell: +/- 865m >> Recorregut circular \nNivell de dificultat: Moderat. Mitja muntanya >> Temps efectiu: 5/6 h \nMaterial: Porteu calçat còmode\, aigua\, esmorzar i dinar\, (torrons i neules. ..que hagin quedat per casa)\, Recordeu que el restaurant dalt de la Mola no està obert. \nTrobada a les 7 h a l’aparcament del Parc Catalunya\, davant Club de Tenis. \nPreu: Socis/es: 8€ >> soci@web i no socis/es: 139€ (inclou les despeses de cotxe compartit) \nCal estar federat/ada o bé tramitar assegurança temporal obligatòria de dia. \nInscripcions obertes fins el 21/01 a ues.cat\, app o presencialment a secretaria. \nVocal sortida: Enric Malvesí \n[/vc_column_text][/vc_column][/vc_row]
URL:https://ues.cat/agenda/muntanya-el-cavallet-de-la-mola-sant-llorenc-del-munt/
CATEGORIES:Muntanya
END:VEVENT
BEGIN:VEVENT
DTSTART;VALUE=DATE:20250112
DTEND;VALUE=DATE:20250113
DTSTAMP:20260422T164615
CREATED:20241122T110216Z
LAST-MODIFIED:20250102T165122Z
UID:10004831-1736640000-1736726399@ues.cat
SUMMARY:Marxa Nòrdica.- Via Verda 1- Vall de Bianya i pujada al Montsacopa
DESCRIPTION:[vc_row][vc_column][vc_column_text]D’Hostalnou de Bianya a Olot \nRuta per la via verda de la Vall de Bianya amb pujada al volcà de Montsacopa. Ruta planera\, excepte la pujada al volcà. \nDistància: 10\,16 km >> Desnivell: +289 m \nSortida a les 7:30 del matí des de la Plaça de les Dones del Tèxtil. \nSortida amb autocar de tot el dia. \nCal portar esmorzar i dinar\, aigua \n[/vc_column_text][/vc_column][/vc_row]
URL:https://ues.cat/agenda/marxa-nordica-via-verda-1-vall-de-bianya-i-pujada-al-montsacopa-i-garrinada/
CATEGORIES:Esportives,Marxa Nòrdica
END:VEVENT
BEGIN:VEVENT
DTSTART;VALUE=DATE:20250112
DTEND;VALUE=DATE:20250113
DTSTAMP:20260422T164615
CREATED:20250109T125808Z
LAST-MODIFIED:20250109T125808Z
UID:10004872-1736640000-1736726399@ues.cat
SUMMARY:Orientació.- The Wild Boar Rogaine\, organitza UES
DESCRIPTION:
URL:https://ues.cat/agenda/orientacio-the-wild-boar-rogaine-organitza-ues/
CATEGORIES:Esportives,Orientació
END:VEVENT
BEGIN:VEVENT
DTSTART;TZID=Europe/Madrid:20250114T190000
DTEND;TZID=Europe/Madrid:20250114T210000
DTSTAMP:20260422T164615
CREATED:20241216T150041Z
LAST-MODIFIED:20250108T094644Z
UID:10004869-1736881200-1736888400@ues.cat
SUMMARY:Xerrades obertes sobre temes de muntanya.- La vida a la Colomina durant les obres hidràuliques de la vall Fosca
DESCRIPTION:[vc_row][vc_column][vc_column_text]a càrrec d’Albert Sangenís \nComencem l’any amb tot un personatge històric; n’Albert Keller -caracteritzat per l’Albert Sangenís i amb una extraordinària semblança- va néixer el gener de 1881 a Suïssa. Ha estat el cap d’Obres d’Energia Elèctrica de Catalunya a la Vall Fosca durant les obres als llacs que alimenten la central de Cabdella i va residir durant aquest període de la seva vida a la casa Keller (avui refugi Colomina). Ens farà la seva presentació des d’un edifici que coneix prou bé\, la central hidroelèctrica de Cabdella. \nVirtual (zoom) a les 19 h[/vc_column_text][/vc_column][/vc_row]
URL:https://ues.cat/agenda/xerrades-obertes-sobre-temes-de-muntanya-la-vida-a-la-colomina-durant-les-obres-hidrauliques-de-la-vall-fosca/
CATEGORIES:Esportives,Muntanya
END:VEVENT
BEGIN:VEVENT
DTSTART;VALUE=DATE:20250118
DTEND;VALUE=DATE:20250119
DTSTAMP:20260422T164615
CREATED:20250103T192938Z
LAST-MODIFIED:20250103T193328Z
UID:10004871-1737158400-1737244799@ues.cat
SUMMARY:Espeleo.- Espeleo-xocolatada a l'avenc dels Topogràfs
DESCRIPTION:[vc_row][vc_column][vc_column_text]Ens trobarem tots plegats a la benzinera de l’urbanització El Lledoner\, situada a Vallirana. Després d’un bon cafè i de conèixer-nos en persona\, anirem en cotxes particulars fins al carrer del Riu Flamisell\, on iniciarem una aproximació d’uns 20 minuts que ens durà a la boca de l’avenc. En aquesta ocasió visitarem l’avenc dels Topògrafs i per celebrar la primera sortida de l’any menjarem la xocolata amb melindros a la seva sala principal\, envoltats d’estalactites\, estalagmites i grans banderes que ens acompanyaran en tot moment. \n\n\n\nDesnivell i recorregut (de l’avenc):  \n -25m i 131 m r\n\n\nTemps efectiu:  \n 4/5 hores aproximadament \n\n\nNivell de dificultat: \nEls assistents han de comptar amb el nivell 1 d’espeleologia assolit (per progressar de manera autònoma) i experiència en passos estrets. \n\n\nMaterial: \nMaterial personal de progressió vertical d’espeleologia (arnés i aparells d’ascens i descens)\, casc amb frontal (si pot ser potent\, millor)\, frontal de recanvi\, aigua i alguna cosa per picar al llarg de la sortida.  \nEn aquesta ocasió\, també cal portar un got i una cullera per la xocolata. \n\n\nHora de trobada:  \n 8:30h\n\n\nLloc de trobada:  \nBenzinera Petronieves Ordal-Vallirana (Urbanització el Lledoner) \nCrta. N-340\, PK. 1229.7.  \nhttps://maps.app.goo.gl/TksYMDeEQ6iSSNFu7?g_st=ac \n\n\nNombre de places:   \n 10\n\n\n\nEl desplaçament fins al punt de trobada és en cotxes particulars. Si algú no té possibilitat de transport fins al lloc de trobada\, ens ho dieu i ens organitzem.  \nSi us falta algun material de progressió\, feu-nos-ho saber per poder-vos ajudar a aconseguir-ho.  \nL’organització portarà la xocolata i els melindros per a tots els assistents (sense gluten i sense lactosa). No us descuideu el vostre got i cullera.  \nPer qualsevol dubte podeu escriure’ns al mail  \nespeleoclub@ues.cat[/vc_column_text][/vc_column][/vc_row]
URL:https://ues.cat/agenda/espeleo-espeleo-xocolatada-a-lavenc-dels-topografs/
CATEGORIES:Espeleo Club,Esportives
END:VEVENT
BEGIN:VEVENT
DTSTART;VALUE=DATE:20250118
DTEND;VALUE=DATE:20250119
DTSTAMP:20260422T164615
CREATED:20250109T125851Z
LAST-MODIFIED:20250109T125851Z
UID:10004873-1737158400-1737244799@ues.cat
SUMMARY:Orientació.- Rogaine del Berguedà a Avià. Organitza COB
DESCRIPTION:
URL:https://ues.cat/agenda/orientacio-rogaine-del-bergueda-a-avia-organitza-cob/
CATEGORIES:Esportives,Orientació
END:VEVENT
BEGIN:VEVENT
DTSTART;TZID=Europe/Madrid:20250118T093000
DTEND;TZID=Europe/Madrid:20250118T130000
DTSTAMP:20260422T164615
CREATED:20241205T150815Z
LAST-MODIFIED:20241205T153655Z
UID:10004868-1737192600-1737205200@ues.cat
SUMMARY:Marxa Nòrdica.- Tastet de marxa nòrdica inclusiva
DESCRIPTION:[vc_row][vc_column][vc_column_text] \nLloc: Bosc de Can Deu \nLloc de trobada: aparcament del bosc de Can Deu \nHorari: 9:30 h a 13 h \nActivitats: \n\nVivenciar amb antifaç la marxa nòrdica a nivell individual.\nAprendre i practicar el guiatge amb persones amb discapacitat visual\, amb i sense dispositiu NW Blind.\n\nCal portar: \n\nBastons de marxa nòrdica (si no en teniu\, us els facilitarem).\nCalçat i roba adequada.\nAigua i esmorzar (optatiu).\nI sobretot moltes GANES D’APRENDRE I EXPERIMENTAR\n\nA càrrec de Leonor Valero\, instructora de marxa nòrdica i instructora d’inclusió per la FEEC\, i el suport dels guies de marxa nòrdica inclusiva de la UES. \nActivitat gratuïta. En cas de no estar federat/ada\, cal tramitar assegurança temporal (3\,5€) \nMàxim limitades a 12 persones. \nInscripcions fins el 16 de gener de 2025. \n[/vc_column_text][/vc_column][/vc_row]
URL:https://ues.cat/agenda/marxa-nordica-tastet-de-marxa-nordica-inclusiva/
CATEGORIES:Esportives,Marxa Nòrdica
END:VEVENT
BEGIN:VEVENT
DTSTART;VALUE=DATE:20250119
DTEND;VALUE=DATE:20250120
DTSTAMP:20260422T164615
CREATED:20241122T111102Z
LAST-MODIFIED:20241223T102117Z
UID:10004436-1737244800-1737331199@ues.cat
SUMMARY:Senders.- de la muntanya al mar: del Pla de Sant Joan a Girona
DESCRIPTION:[vc_row][vc_column][vc_column_text]De la Muntanya al Mar és una ruta senderista que s’inicia a Olot i finalitza a la platja de Pals. Transcorre per les comarques de la Garrotxa\, el Gironès i el Baix Empordà. \nEn aquesta etapa continuem caminat per la Vall de la Llémena en direcció al Gironès. Caminarem pel Camí Ral de la Vall de la Llémena que ens portarà a la ciutat de Girona. \nItinerari: Pla de Sant Joan – Port Sacreu – Sant Gregori – Girona \nDistància: 18 km . Desnivell: +130 m/-315 m. Dificultat moderada. \nCal portar: aigua\, esmorzar\, dinar\, 2 bastons\, calçat de muntanya i roba adient a les condicions climatològiques. \nSortida a les 7 del matí\, davant l’hotel Sabadell. \nInscripcions del 30 de desembre al 15 de gener \nSortida de tot el dia\, en autocar.[/vc_column_text][/vc_column][/vc_row]
URL:https://ues.cat/agenda/seneders-a-determinar/
CATEGORIES:Esportives,Senders
END:VEVENT
BEGIN:VEVENT
DTSTART;VALUE=DATE:20250122
DTEND;VALUE=DATE:20250123
DTSTAMP:20260422T164615
CREATED:20240923T132755Z
LAST-MODIFIED:20250116T102925Z
UID:10004798-1737504000-1737590399@ues.cat
SUMMARY:BTT.- Volta Vinaixa - L'Albí
DESCRIPTION:[vc_row][vc_column][vc_column_text] \nVolta per Vinaixa\, ametllers de Sant Bonifaci i l’Albi \nDistància: 42 km – desnivell: + 510 m \nDificultat: \nModerada-baixa. Camins amples\, en bon estat i el 70 % asfaltats. Creuem i circulem un curt tram per la carretera N-240. \nRecorregut: Sortint de Vinaixa per la riera farem la Vall fins a l’ermita de Sant Bonifaci pel mig d’ametllers i oliveres. Pujarem a Els Omellons i seguirem per la Vall passant per tallers\, pedreres i barraques fins a La Floresta i el seu castell. Girem i comencem la pujada fins a la carretera que travessarem amb compte. Aviat arribem a l’Albi on dinem i tornem per una bona baixada i al cap de curta distància arribem a les piscines municipals de Vinaixa on hem deixat els cotxes. \nLloc i hora de trobada: Al Nou Bar Sol de Vinaixa a 2/4 de 9 del matí. A uns 400 m hi ha les piscines municipals on es pot aparcar. \nDinar (optatiu): Al Restaurant Ca la Margarida de l’Albi. Preu menú 16\,50 €. Es pagarà in situ. Cal indicar si voleu dinar en el moment de fer la inscripció. El lloc de dinar és abans d’acabar el recorregut. Porteu candau ja que hem de deixar les bicicletes fora. \n[/vc_column_text][/vc_column][/vc_row]
URL:https://ues.cat/agenda/btt-volta-vinaixa-lalbi/
CATEGORIES:BTT,Esportives
END:VEVENT
BEGIN:VEVENT
DTSTART;VALUE=DATE:20250122
DTEND;VALUE=DATE:20250123
DTSTAMP:20260422T164615
CREATED:20241122T110541Z
LAST-MODIFIED:20241220T173236Z
UID:10004832-1737504000-1737590399@ues.cat
SUMMARY:Les excursions dels dimecres.- Castell de Montgrí
DESCRIPTION:[vc_row][vc_column][vc_column_text]Castell de Montgrí (Baix Empordà) \nItinerari que ressegueix la serra de Montgrí amb espectaculars vistes de la Costa Brava. \nDistància: 11\,70 km >> Desnivell: + 535 / – 580 m \nSortida de tot el dia en autocar. Cal portar esmorzar i dinar[/vc_column_text][/vc_column][/vc_row]
URL:https://ues.cat/agenda/les-excursions-dels-dimecres-a-determinar/
CATEGORIES:Esportives,Excursions dimecres
END:VEVENT
BEGIN:VEVENT
DTSTART;VALUE=DATE:20250126
DTEND;VALUE=DATE:20250127
DTSTAMP:20260422T164615
CREATED:20241122T104734Z
LAST-MODIFIED:20241126T173331Z
UID:10004828-1737849600-1737935999@ues.cat
SUMMARY:LA LLANERA TRAIL
DESCRIPTION:[vc_row][vc_column][vc_column_text] \na Llanera Trail és un cursa que es desenvolupa entre els termes municipals de Sabadell\, Castellar del Vallès i Sentmenat i que transcorre per corriols inèdits i sorprenents que ens menen cap a dalt el cim del Puig de la Creu. Son camins boscants i inspiradors\, plens d’històries personals dels nostres avantpassats que els recorrien habitualment i ara estan pràcticament oblidats. \nOferim tres recorreguts ben diferenciats en format de Marató\, Mitja marató i 14k\, que comparteixen bona part de l’atractiu traçat\, facilitant la logística i el control. És per això que aquest recorregut que pot semblar inicialment molt accessible sorprèn pel que suggereix i per l’esforç que requereix. \nAmb sortida i arribada a la Plaça del Dr. Robert\, en ple centre de Sabadell\, volem que l’edició del 2024 torni a ser una festa participativa\, oberta a tothom i on els corredors puguin gaudir d’una jornada esportiva en plena natura a tocar d’una gran ciutat. \nA més\, és important per nosaltres aprofitar l’esdeveniment  per donar ressò a iniciatives solidàries que ajudin als que més ho necessiten o fomentin la pràctica esportiva a tots els nivells. És per això que enguany tornem a col.laborar amb l’associació sabadellenca Obrir-se al Món. \nConsulta tota la informació[/vc_column_text][/vc_column][/vc_row]
URL:https://ues.cat/agenda/la-llanera-trail-6/
CATEGORIES:Esportives,La Llanera,Trail
END:VEVENT
BEGIN:VEVENT
DTSTART;TZID=Europe/Madrid:20250128T190000
DTEND;TZID=Europe/Madrid:20250128T210000
DTSTAMP:20260422T164615
CREATED:20241216T150210Z
LAST-MODIFIED:20250108T094601Z
UID:10004870-1738090800-1738098000@ues.cat
SUMMARY:Xerrades obertes sobre temes de muntanya.-De Hèlsinki al cap Nord en BTT
DESCRIPTION:[vc_row][vc_column][vc_column_text]a càrrec d’en Pere Garcia \nL’estiu passat en Pere junt amb el seu company el Sagal\, van fer aquesta travessa amb tot a sobre; durant pràcticament un mes van pedalar al llarg de 2211\,5 km\, 11113 metres de desnivell i 25 dies\, travessant diverses regions fineses i noruegues. Llacs\, rius\, mar\, boscos\, gent del país. Tot això i més\, ho podrem veure al vídeo que ha fet i que ens explicarà i projectarà\, en aquesta ocasió a la sala d’actes. \nSala d’actes de la UES a les 19:00h[/vc_column_text][/vc_column][/vc_row]
URL:https://ues.cat/agenda/xerrades-obertes-sobre-temes-de-muntanya-de-helsinki-al-cap-nord-en-btt/
CATEGORIES:Culturals,Esportives,Muntanya
END:VEVENT
BEGIN:VEVENT
DTSTART;VALUE=DATE:20250130
DTEND;VALUE=DATE:20250131
DTSTAMP:20260422T164615
CREATED:20241220T164357Z
LAST-MODIFIED:20241220T173358Z
UID:10004476-1738195200-1738281599@ues.cat
SUMMARY:Caminades saludables +60\, tot el dia.- De Begur a Sant Feliu de Boada
DESCRIPTION:[vc_row][vc_column][vc_column_text]De Begur a Sant Feliu de Boada (BAIX EMPORDÀ) \nExcursió des de la muntanya de Begur a Sant Feliu de Boada passant pel bonic poble medieval de Pals. \nDistància: 10 km >> Desnivell: +75 m/- 230 m \nSortida de tot el dia en autocar. Cal portar esmorzar. Dinar optatiu a restaurant o es pot portar carmanyola.[/vc_column_text][/vc_column][/vc_row]
URL:https://ues.cat/agenda/caminades-saludables-60-tot-el-dia-de-begur-a-sant-feliu-de-boada/
CATEGORIES:Esportives,Gent Gran,Socials
END:VEVENT
END:VCALENDAR