BEGIN:VCALENDAR
VERSION:2.0
PRODID:-//UES - ECPv6.15.20//NONSGML v1.0//EN
CALSCALE:GREGORIAN
METHOD:PUBLISH
X-WR-CALNAME:UES
X-ORIGINAL-URL:https://ues.cat
X-WR-CALDESC:Activitats per UES
REFRESH-INTERVAL;VALUE=DURATION:PT1H
X-Robots-Tag:noindex
X-PUBLISHED-TTL:PT1H
BEGIN:VTIMEZONE
TZID:Europe/Madrid
BEGIN:DAYLIGHT
TZOFFSETFROM:+0100
TZOFFSETTO:+0200
TZNAME:CEST
DTSTART:20240331T010000
END:DAYLIGHT
BEGIN:STANDARD
TZOFFSETFROM:+0200
TZOFFSETTO:+0100
TZNAME:CET
DTSTART:20241027T010000
END:STANDARD
BEGIN:DAYLIGHT
TZOFFSETFROM:+0100
TZOFFSETTO:+0200
TZNAME:CEST
DTSTART:20250330T010000
END:DAYLIGHT
BEGIN:STANDARD
TZOFFSETFROM:+0200
TZOFFSETTO:+0100
TZNAME:CET
DTSTART:20251026T010000
END:STANDARD
BEGIN:DAYLIGHT
TZOFFSETFROM:+0100
TZOFFSETTO:+0200
TZNAME:CEST
DTSTART:20260329T010000
END:DAYLIGHT
BEGIN:STANDARD
TZOFFSETFROM:+0200
TZOFFSETTO:+0100
TZNAME:CET
DTSTART:20261025T010000
END:STANDARD
END:VTIMEZONE
BEGIN:VEVENT
DTSTART;VALUE=DATE:20250201
DTEND;VALUE=DATE:20250202
DTSTAMP:20260422T150610
CREATED:20241128T184839Z
LAST-MODIFIED:20250116T112439Z
UID:10004859-1738368000-1738454399@ues.cat
SUMMARY:Muntanya.- Puig del Pam (hivernal)
DESCRIPTION:[vc_row][vc_column][vc_column_text]El Puig del Pam (100 CIMS)\, és una muntanya de 2.470 m d’altitud dels contraforts orientals del massís del Carlit\, a cavall dels termes comunals dels Angles i de Formiguera\, tots dos a la comarca del Capcir\, de la Catalunya del Nord. \nSortida d’iniciació a les raquetes de neu\, es tracta d’un recorregut apte per a tothom amb una preparació òptima. \nMaterial necessari: Raquetes de neu\,  grampons\, bastons\, ulleres de sol\, guants\, polaines i roba d’abric. \nDificultat moderada \nDesnivell positiu 750 m >> Distancia 14’5 km >> Temps aproximat 7/8 hores. \nSortida des del Parc Catalunya a les 6 del matí \nCotxes particulars.[/vc_column_text][/vc_column][/vc_row]
URL:https://ues.cat/agenda/muntanya-puig-del-pam-hivernal/
CATEGORIES:Esportives,Muntanya
END:VEVENT
BEGIN:VEVENT
DTSTART;VALUE=DATE:20250201
DTEND;VALUE=DATE:20250202
DTSTAMP:20260422T150610
CREATED:20250109T125928Z
LAST-MODIFIED:20250109T125928Z
UID:10004874-1738368000-1738454399@ues.cat
SUMMARY:Orientació.- Campionat de Catalunya Esprint a Palau Savadera-Perelada. Organitza Aligots
DESCRIPTION:
URL:https://ues.cat/agenda/orientacio-campionat-de-catalunya-esprint-a-palau-savadera-perelada-organitza-aligots/
CATEGORIES:Esportives,Orientació
END:VEVENT
BEGIN:VEVENT
DTSTART;TZID=Europe/Madrid:20250201T080000
DTEND;TZID=Europe/Madrid:20250201T150000
DTSTAMP:20260422T150610
CREATED:20250115T165807Z
LAST-MODIFIED:20250131T192042Z
UID:10004885-1738396800-1738422000@ues.cat
SUMMARY:Espeleologia.- Descoberta al forat Micó
DESCRIPTION:Sortida matinal de descoberta de l’espeleologia. Farem un itinerari horitzontal\, sense pasos complexos\, per poder de gaudir de les formacions de sal i els petits tresors que ens ofereix la muntanya de Cardona i les profunditats de la terra. És una sortida apta per a tots els públics\, grans i petits. Us esperem!! \nDistància: 640m de recorregut \nTemps efectiu: 3h \nNivell dificultat: 0 \nMaterial: Casc i frontal (amb bateries o piles de recanvi) i roba per embrutar. Aigua i alguna cosa per picar.  \nHora i lloc de sortida: 9h \, Parc Cultural de la Muntanya de Sal\, c/de la Mina\, s/n\, 08261 Cardona\, Barcelona\, Espanya \nEl desplaçament fins al punt de trobada és en cotxes particulars. Si algú no té possibilitat de transport fins al lloc de trobada\, ens ho dieu i ens organitzem.  \nSortida no apta per persones amb claustrofòbia.  \nPer qualsevol dubte podeu escriure’ns al mail espeleoclub@ues.cat
URL:https://ues.cat/agenda/espeleologia-descoberta-al-forat-mico/
CATEGORIES:Espeleo Club,Esportives
END:VEVENT
BEGIN:VEVENT
DTSTART;VALUE=DATE:20250202
DTEND;VALUE=DATE:20250203
DTSTAMP:20260422T150610
CREATED:20241125T155125Z
LAST-MODIFIED:20250116T162440Z
UID:10004438-1738454400-1738540799@ues.cat
SUMMARY:Marxa Nòrdica.- La Vall de’n Bas: D’Olot a Sant Miquel de Pineda
DESCRIPTION:[vc_row][vc_column][vc_column_text] \nDistància: 15\,50 km >> Desnivell: -68 m \nSortida a les 7:30 del matí des de la Plaça de les Dones del Tèxtil. \nSortida amb autocar de tot el dia. Cal portar esmorzar i dinar\, aigua. \nActivitat oberta a tothom que practica marxa nòrdica. Cal estar federat/ada o tramitar una assegurança temporal de dia. \nInscripcions del 20 al 30 de gener de 2025.[/vc_column_text][/vc_column][/vc_row]
URL:https://ues.cat/agenda/marxa-nordica-a-determinar/
CATEGORIES:Esportives,Marxa Nòrdica
END:VEVENT
BEGIN:VEVENT
DTSTART;VALUE=DATE:20250202
DTEND;VALUE=DATE:20250203
DTSTAMP:20260422T150610
CREATED:20250109T130002Z
LAST-MODIFIED:20250109T130002Z
UID:10004875-1738454400-1738540799@ues.cat
SUMMARY:Orientació.-Campionat de Catalunya relleus mixtes a Castelló d'Empúries. Organitza Aligots
DESCRIPTION:
URL:https://ues.cat/agenda/orientacio-campionat-de-catalunya-relleus-mixtes-a-castello-dempuries-organitza-aligots/
CATEGORIES:Esportives,Orientació
END:VEVENT
BEGIN:VEVENT
DTSTART;VALUE=DATE:20250202
DTEND;VALUE=DATE:20250203
DTSTAMP:20260422T150610
CREATED:20250128T105944Z
LAST-MODIFIED:20250128T121223Z
UID:10004900-1738454400-1738540799@ues.cat
SUMMARY:Joves.- Via Ferrada: Agulles i Frares Encantats
DESCRIPTION:[vc_row][vc_column][vc_column_text]Sortida des de Sabadell en cotxes particulars i conduirem fins a Can Maçana\, al massís de Montserrat. Seguirem la ruta equipada dels Frares Encantats\, pujant pel pas de la Portella i carenant diverses agulles abans d’arribar a coll de Port i iniciar el descens de tornada. \nDistància: 8\, 30 km \nDesnivell: +/- 650 m \nDificultat: Mitjana \nMaterial: Casc\, arnès\, dissipador\, guants\, calçat ferm. \nHora i punt de trobada: A les 8:30 h\, plaça de les Dones del Tèxtil. També es pot quedar directament a Can Maçana a les 9h30.[/vc_column_text][/vc_column][/vc_row]
URL:https://ues.cat/agenda/joves-via-ferrada-agulles-i-frares-encantats/
CATEGORIES:Esportives,Jovent
END:VEVENT
BEGIN:VEVENT
DTSTART;TZID=Europe/Madrid:20250205T080000
DTEND;TZID=Europe/Madrid:20250205T150000
DTSTAMP:20260422T150610
CREATED:20241125T155300Z
LAST-MODIFIED:20250122T145958Z
UID:10004440-1738742400-1738767600@ues.cat
SUMMARY:Senders Km0.-  Els 3 turons de Barcelona
DESCRIPTION:[vc_row][vc_column][vc_column_text]Els tres turons de Barcelona (el de la Rovira\, d’en Mora o del Carmel\, i el de Creueta del Jou) formen un extraordinari mirador sobre la ciutat de Barcelona i la vessant sud de la serra de Collserola. \nPunt i hora de trobada: \nEstació de metro L4 Guinardó-Hospital de Sant Pau a les 9 del matí. Sortida conjunta des de Sabadell en RENFE a les 8 del matí. \nSabadell Nord: 7:52 // Sabadell Centre: 7:55 // Sabadell Sud: 07:58 \nDistància: 7 km >> Desnivell: +365 m / -330 m \nHora aproximada de finalització a L3 Vallcarca: 14 h \nMaterial: cal portar aigua\, esmorzar i roba adequada a les condicions climatològiques i calçat per caminar per muntanya i farmaciola personal. \nActivitat gratuïta per a socis/es. Soci@web i no socis: 5€[/vc_column_text][/vc_column][/vc_row]
URL:https://ues.cat/agenda/senders-km0-a-determinar/
CATEGORIES:Esportives,Senders
END:VEVENT
BEGIN:VEVENT
DTSTART;VALUE=DATE:20250208
DTEND;VALUE=DATE:20250209
DTSTAMP:20260422T150610
CREATED:20241125T155409Z
LAST-MODIFIED:20250129T113455Z
UID:10004441-1738972800-1739059199@ues.cat
SUMMARY:Senders.- GR 1 sender històric: de Camallera a Vilavenut
DESCRIPTION:[vc_row][vc_column][vc_column_text]Aquesta Etapa creua de manera plàcida la plana de l’Empordà. El paisatge molt modificat per la mà del home\,  les sureres i alzines van donant pas als boscos de pins i a plantacions de vinyes. Visitarem el nuclis de població  de Llampaies i Orriols. \nItinerari: Camallera – Llampales – Orriols – Vilavenut \nDistància: 17\, 30 km i +280/-125 m desnivell \nSortida a les 7 h en autocar davant de l’Hotel Sabadell \nCal portar: aigua\, esmorzar i dinar\, i la roba i calçat adients a l’activitat. Es recomana portar bastons. \n[/vc_column_text][/vc_column][/vc_row]
URL:https://ues.cat/agenda/senders-a-determinar/
CATEGORIES:Esportives,Senders
END:VEVENT
BEGIN:VEVENT
DTSTART;VALUE=DATE:20250210
DTEND;VALUE=DATE:20250214
DTSTAMP:20260422T150610
CREATED:20241016T155037Z
LAST-MODIFIED:20241114T191455Z
UID:10004814-1739145600-1739491199@ues.cat
SUMMARY:Sortida de raquetes de neu a la Vall d'Aran
DESCRIPTION:4 dies a la Vall d’Aran per fer sortides amb raquetes\, una d’elles nocturna coincidint que hi haurà lluna plena. \nConsulta el programa aquí.
URL:https://ues.cat/agenda/sortida-de-raquetes-de-neu-a-la-vall-daran/
CATEGORIES:Esportives,Excursions dimecres
END:VEVENT
BEGIN:VEVENT
DTSTART;TZID=Europe/Madrid:20250211T080000
DTEND;TZID=Europe/Madrid:20250211T150000
DTSTAMP:20260422T150610
CREATED:20241125T162800Z
LAST-MODIFIED:20241220T185055Z
UID:10004443-1739260800-1739286000@ues.cat
SUMMARY:Caminades saludables +60 (matinal).- Roques blaves
DESCRIPTION:[vc_row][vc_column][vc_column_text]Roques blaves (Baix Llobregat) \nRuta circular\, pels voltants del poble d’Esparreguera \, per tal de conèixer el patrimoni geològic i arquitectònic d’aquesta vila del Baix Llobregat \nDistància: 10 km >> Desnivell: 260 m \nSortida matinal en autocar.[/vc_column_text][/vc_column][/vc_row]
URL:https://ues.cat/agenda/caminades-saludables-60-matinal-a-determinar-2/
CATEGORIES:Esportives,Gent Gran,Socials
END:VEVENT
BEGIN:VEVENT
DTSTART;VALUE=DATE:20250215
DTEND;VALUE=DATE:20250216
DTSTAMP:20260422T150610
CREATED:20241128T184925Z
LAST-MODIFIED:20250129T111523Z
UID:10004860-1739577600-1739663999@ues.cat
SUMMARY:Muntanya.- Pic dels Pedrons\, Alta Cerdanya (hivernal)
DESCRIPTION:[vc_row][vc_column][vc_column_text] \nEl Pic de Pedrons és una muntanya de 2.677\,7 metres d’altitud situada al sud-oest del Massís del Carlit\, en el terme comunal de Porta\, a l’Alta Cerdanya\, de la Catalunya del Nord. \nUna ascensió fàcil amb bones vistes del Pirineu. Sortida amb raquetes de neu \nDistància: 8\,50 km >> Desnivell: +/- 800 m \nNivell de dificultat: Moderat. Hivernal >> Temps efectiu: 6/7 h \nMaterial: Raquetes de neu\, grampons\, bastons\, piolet\, ulleres de sol\, guants\, polaines i roba d’abric. Aigua\, esmorzar i dinar. \nTrobada a les 6 h a l’aparcament del Parc Catalunya\, davant Club de Tenis. \nPreu: Socis/es: 40€ >> soci@web i no socis/es: 51€ (inclou les despeses de cotxe compartit). \nCal estar federat/ada o bé tramitar assegurança temporal obligatòria de dia. \nInscripcions obertes fins el 15/02 a ues.cat\, app o presencialment a secretaria. Màxim 20 places. \nReunió prèvia el dijous 15/02 a les 19 h a la UES. \nVocal sortida: Jordi Curto. \n [/vc_column_text][/vc_column][/vc_row]
URL:https://ues.cat/agenda/muntanya-pic-dels-pedrons-alta-cerdanya-hivernal/
CATEGORIES:Esportives,Muntanya
END:VEVENT
BEGIN:VEVENT
DTSTART;TZID=Europe/Madrid:20250218T183000
DTEND;TZID=Europe/Madrid:20250218T203000
DTSTAMP:20260422T150610
CREATED:20241126T112928Z
LAST-MODIFIED:20241126T112928Z
UID:10004465-1739903400-1739910600@ues.cat
SUMMARY:Formació.- Taller bàsic d'orientació: mapa i brúixola
DESCRIPTION:[vc_row][vc_column][vc_column_text]Taller presencial  \n A càrrec de Manolo Barcia\, tècnic de senders. \nEn aquest taller aprendreu els coneixements bàsics del mapa i la brúixola per a realitzar una excursió a la muntanya amb seguretat. \nFarem quatre sessions a l’aula i una pràctica a la muntanya dissabte al matí. \nPlaces limitades: 10 cursetistes. \nHorari de les seccions: \nde 18:30 h a 20:30 h els dies 18 – 20 – 25 i 27 de febrer (4 sessions) a l’aula de formació. \nDissabte 1 de març: sortida pràctica a la Serra de l’Obac (horari de 08:00 a 14:00) \nAssessorament mitjançat grup de WhatsApp fins a 30 dies desprès de finalitzar el curs. \nDurant el taller es farà ús de brúixola plana transparent i mapa excursionista de la Mola i l’Obac (editorial Alpina 2021-2022) així com altres materials inclosos en el taller. \nObjectius del taller: \nEl taller va dirigit a totes aquelles persones que practiquen activitats a l’aire lliure i desitgen iniciar-se en la lectura de mapes excursionistes i el ús de la brúixola\, no cal tenir experiència prèvia. \nConèixer les possibilitats de planificació i elaboració d’itineraris de baixa\, mitja i alta muntanya amb un mapa i brúixola. Crear fitxes o full de ruta per fer les excursions més segures. \nPrograma: \n\nPresentació del taller i els seus objectius.\nDocumentació i recursos.\nQuè puc fer amb una brúixola plana ?\nCom puc entendre que hi ha dibuixat en un mapa excursionista ?\nI ara\, què faig amb el meu mapa i la brúixola ?\nI si ho anoto tot\, puc fer una fitxa de la meva excursió !!!!\n\n[/vc_column_text][/vc_column][/vc_row]
URL:https://ues.cat/agenda/formacio-taller-basic-dorientacio-mapa-i-bruixola/
CATEGORIES:Altres cursos i tallers,Esportives,Formació
END:VEVENT
BEGIN:VEVENT
DTSTART;VALUE=DATE:20250219
DTEND;VALUE=DATE:20250220
DTSTAMP:20260422T150610
CREATED:20241125T163025Z
LAST-MODIFIED:20241220T173046Z
UID:10004446-1739923200-1740009599@ues.cat
SUMMARY:Les excursions del dimecres.- Serra de Marboleny i Torre de Murrià
DESCRIPTION:[vc_row][vc_column][vc_column_text]Serra de Marboleny i Torre de Murrià (GARROTXA) \nExcursió pel vessant meridional de la serra de Marboleny per camins de remences. \nDistància: 11\,20 km >> Desnivell: 500 m \nSortida de tot el dia en autocar. Cal portar esmorzar i dinar[/vc_column_text][/vc_column][/vc_row]
URL:https://ues.cat/agenda/les-excursions-del-dimecres-a-determinar/
CATEGORIES:Esportives,Excursions dimecres
END:VEVENT
BEGIN:VEVENT
DTSTART;TZID=Europe/Madrid:20250219T080000
DTEND;TZID=Europe/Madrid:20250219T170000
DTSTAMP:20260422T150610
CREATED:20240923T132902Z
LAST-MODIFIED:20250204T131339Z
UID:10004799-1739952000-1739984400@ues.cat
SUMMARY:BTT.- Volta Castells del Sió\, Les Pallagues
DESCRIPTION:[vc_row][vc_column][vc_column_text]Distància de 34 Km. i uns 350 m de desnivell positiu \nLloc i hora de trobada: A Lo Cafè de les Pallargues a les 9h del matí per esmorzar. Hi ha lloc d’aparcament a la mateixa plaça o als voltants. \nDificultat: Moderat-baixa. Ruta circular\, planera i per camins de terra en bon estat\, llevat de dos trams pedregosos però curts i els trams de carretera a prop de Guissona. \nDinar (opcional) al mateix lloc de trobada\, Lo Cafè. Preu del menú de uns 15 € que es pagaran in situ. Cal indicar si voleu dinar en el moment de fer la inscripció. \nRecorregut/Descripció: Sortim de Les Pallargues\, cap i casal del municipi dels Plans de Sió\, tot passant davant del castell – palau típic de La Segarra\, documentat des del 1061. Creuem el canal Segarra-Garrigues i seguim cap a Florejacs que rodegem i entrem al nucli clos on hi ha el castell. Reprenem el camí per anar al castell de les Sitges\, romànic i gòtic Be Cultural d’Interès Nacional. Seguim pel camí\, primer força pedregós\, fins carretera i creuem amb compte la C-14 i seguim cap a Palau on hi pugem. Seguim per bon camí fins la Creu de Condomines i amen baixant en direcció a Guissona. Entrem per la porta de l’Àngel i travessem la vila per la plaça Major\, la col·legiata de Santa Maria\, el carrer dels Botiguers\, instal·lacions de la Cooperativa i travessada la rotonda sortim cap a l’ermita de la Mare de Deu de les Flors de Maig\, vigilant a l’hora de travessar la C-75\, seguim el bon camí cap a Gra\, després de travessar amb compte la C-14\, continuem el camí\, primer bastant pedregós\, cap a Concabella on veurem l’església i el castell amb elements ornamentals d’interès i obra constructiva de notable perfecció. Sortim per la carretera i girem a l’esquerra cap al castell de Ratera\, documentat des del segle XI i l’antic molí fariner del segle XVI. Continuem cap a Sisteró. Podem pujar a Pelagalls\, a 0\,50 km per veure l’església romànica de Sant Esteve i la seva porta\, Be Cultural d’Interès Nacional de 1982. Tornem a Sisteró i cap a Les Pallargues. Places limitades: No hi ha límit de ciclistes però al restaurant hem reservat per a 15 persones. Caldrà estar federat\, portar els estris de sempre i roba d’abric suficient. \n[/vc_column_text][/vc_column][/vc_row]
URL:https://ues.cat/agenda/btt-volta-castells-del-sio-les-pallagues/
CATEGORIES:BTT,Esportives
END:VEVENT
BEGIN:VEVENT
DTSTART;TZID=Europe/Madrid:20250219T080000
DTEND;TZID=Europe/Madrid:20250219T170000
DTSTAMP:20260422T150610
CREATED:20250219T172646Z
LAST-MODIFIED:20250219T172722Z
UID:10004911-1739952000-1739984400@ues.cat
SUMMARY:Senders a la fresca.- Anella verda de Terrassa III
DESCRIPTION:
URL:https://ues.cat/agenda/senders-a-la-fresca-anella-verda-de-terrassa-iii/
CATEGORIES:Esportives,Senders
END:VEVENT
BEGIN:VEVENT
DTSTART;VALUE=DATE:20250223
DTEND;VALUE=DATE:20250224
DTSTAMP:20260422T150610
CREATED:20241125T162856Z
LAST-MODIFIED:20250131T114146Z
UID:10004444-1740268800-1740355199@ues.cat
SUMMARY:Marxa Nòrdica.- La Sèquia de Manresa
DESCRIPTION:[vc_row][vc_column][vc_column_text]Parc de la Agulla – Sèquia de Manresa- Aiguamoll de la Bòbila \nDistància: 10 km >> Desnivell: +/- 60 m \nSortida en autocar. Trobada a les 8 a la plaça de les dones del tèxtil. \nCal portar esmorzar\, dinar i aigua. Roba i calçat adequat\, i els bastons de marxa nòrdica![/vc_column_text][/vc_column][/vc_row]
URL:https://ues.cat/agenda/marxa-nordica-la-sequia-de-manresa/
CATEGORIES:Esportives,Marxa Nòrdica
END:VEVENT
BEGIN:VEVENT
DTSTART;VALUE=DATE:20250223
DTEND;VALUE=DATE:20250224
DTSTAMP:20260422T150610
CREATED:20241125T163132Z
LAST-MODIFIED:20250131T122403Z
UID:10004448-1740268800-1740355199@ues.cat
SUMMARY:Senders.- de la muntanya al mar: de Girona a Àngels
DESCRIPTION:[vc_row][vc_column][vc_column_text]5a etapa de la ruta des de la Muntanya al Mar. \nDe la Muntanya al Mar és una ruta senderista que s’inicia a Olot i finalitza a la platja de Pals. Transcorre per les comarques de la Garrotxa\, el Gironès i el Baix Empordà. \nEn aquesta etapa sortirem de la ciutat de Girona per les muralles i la Vall de Sant Daniel. Ens toca creuar la Serra de les Gavarres gironines on visitarem el castell de Sant Miquel (100 cims de la FEEC) i el santuari de la Mare de Déu dels Àngels (100 cims de la FEEC). \nDistància: 15 km per camins de la Serra de les Gavarres >> Desnivell: +680/-265 m \nInscripcions del 3 al 17 de febrer. \nCal portar: aigua\, esmorzar\, dinar\, bastons\, calçat de muntanya\, roba adient a les condicions climatològiques.[/vc_column_text][/vc_column][/vc_row]
URL:https://ues.cat/agenda/senders-a-determinar-2/
CATEGORIES:Esportives,Senders
END:VEVENT
BEGIN:VEVENT
DTSTART;VALUE=DATE:20250227
DTEND;VALUE=DATE:20250228
DTSTAMP:20260422T150610
CREATED:20241220T180214Z
LAST-MODIFIED:20241220T180244Z
UID:10004477-1740614400-1740700799@ues.cat
SUMMARY:Caminades saludables +60 (tot el dia).- Gorgs de la vall d’Hostoles
DESCRIPTION:[vc_row][vc_column][vc_column_text]Gorgs de la vall d’Hostoles (LA GARROTXA) \nExcursió per les gorgues del Brugent\, a la vall d’Hostoles\, al Parc Natural de la Zona Volcànica de la Garrotxa. \nDistància: 10 km >> Desnivell: +160 m/- 275 m \nSortida de tot el dia en autocar. Cal portar esmorzar. Dinar optatiu a restaurant o es pot portar carmanyola.[/vc_column_text][/vc_column][/vc_row]
URL:https://ues.cat/agenda/caminades-saludables-60-tot-el-dia-gorgs-de-la-vall-dhostoles/
CATEGORIES:Esportives,Gent Gran
END:VEVENT
END:VCALENDAR