BEGIN:VCALENDAR
VERSION:2.0
PRODID:-//UES - ECPv6.15.20//NONSGML v1.0//EN
CALSCALE:GREGORIAN
METHOD:PUBLISH
X-ORIGINAL-URL:https://ues.cat
X-WR-CALDESC:Activitats per UES
REFRESH-INTERVAL;VALUE=DURATION:PT1H
X-Robots-Tag:noindex
X-PUBLISHED-TTL:PT1H
BEGIN:VTIMEZONE
TZID:Europe/Madrid
BEGIN:DAYLIGHT
TZOFFSETFROM:+0100
TZOFFSETTO:+0200
TZNAME:CEST
DTSTART:20250330T010000
END:DAYLIGHT
BEGIN:STANDARD
TZOFFSETFROM:+0200
TZOFFSETTO:+0100
TZNAME:CET
DTSTART:20251026T010000
END:STANDARD
BEGIN:DAYLIGHT
TZOFFSETFROM:+0100
TZOFFSETTO:+0200
TZNAME:CEST
DTSTART:20260329T010000
END:DAYLIGHT
BEGIN:STANDARD
TZOFFSETFROM:+0200
TZOFFSETTO:+0100
TZNAME:CET
DTSTART:20261025T010000
END:STANDARD
BEGIN:DAYLIGHT
TZOFFSETFROM:+0100
TZOFFSETTO:+0200
TZNAME:CEST
DTSTART:20270328T010000
END:DAYLIGHT
BEGIN:STANDARD
TZOFFSETFROM:+0200
TZOFFSETTO:+0100
TZNAME:CET
DTSTART:20271031T010000
END:STANDARD
END:VTIMEZONE
BEGIN:VEVENT
DTSTART;VALUE=DATE:20260131
DTEND;VALUE=DATE:20260202
DTSTAMP:20260421T191635
CREATED:20260119T142619Z
LAST-MODIFIED:20260130T085558Z
UID:10005139-1769817600-1769990399@ues.cat
SUMMARY:POSPOSADA Esquí de muntanya.- Petit Peric\, Mortiers i Vall de Galba
DESCRIPTION:Programa:\nDia 31/1/26: 12\,85 km\, ascensió 1.345. Cota màxima: 2681. Sortida de l’estació de Formigueres (França) (1763). Aparcarem al pàrquing superior de l’estació\, coordenades N 42.624119\, E 2.069986. Si voleu agafem el forfait de randoneur per 8€ que ens durà fins la part superior de l’estació fent entremig una mica de pista per connectar dos remuntadors\, o també podem pujar pel costat de l’estació i arribarem a la part superior en una hora i mitja aprox. Des de la sortida del remuntador enfilem per un ample llom fins al capdamunt de la Serra de Mauri (2.428). (S2). Descens per bosc fins al refugi de Camporrells on podem deixar material (sac\,roba per canviar\, menjar etc). Travessem l’estany del mig i ens dirigim cap al sud entre boscos amb poc desnivell fins\na trobar l’aresta del Petit Peric\, per on anirem ascendint fins culminar el cim del Petit Peric (2690). Optatiu: si hi ha ganes\, descens fins el coll dels Perics (2610) on deixarem esquís i atac al pic Peric (2810). Probablement siguin precisos grampons i piolet. De tornada\, baixarem des del cim del Petit Peric per la ampla pala sud-est cap al refugi. Dia 1/2/26: 13\,30 km\, ascensió 567. Cota màxima: 2652 \nHavent esmorzat ens dirigim per amplis pendents cap el cim del Mortiers (2605) i des del cim iniciarem el descens per la vall de Galba per la Peyra Escrita fins el Pont dels Plans de l’Orriet\, on posarem de nou pells per tornat a l’estació de Formigueres. \nAspectes tècnics (passos equipats\, canals): Itinerari que no presenta grans dificultats més enllà de la longitud del recorregut. Material necessari indispensable : Arva\, pala\, sonda\, frontal\, grampons\, piolet\, ganivetes\, esquis\, pells\, bastons. Pel refugi sac llençol. Material aconsellable(roba d’abric\, farmaciola\, manta tèrmica\, menjar\, beguda) Públic al què va dirigida: Esquiadors amb resistència (jornada llarga) i domini de tot tipus de neus. Els pendents en general són amples i sense complicacions (S2\, S3). La dificultat està en la llargada del recorregut. Riscos generals a muntanya: Tingeu en compte la meteo i el BPA. Feu seguiment durant la setmana de l’evolució del temps i de les nevades. \n Cal estar federat amb la modalitat D o bé tenir una assegurança que cobreixi rescats. 
URL:https://ues.cat/agenda/esqui-de-muntanya-petit-peric-mortiers-i-vall-de-galba/
CATEGORIES:Esquí,Esquí de Muntanya
END:VEVENT
BEGIN:VEVENT
DTSTART;VALUE=DATE:20260201
DTEND;VALUE=DATE:20260202
DTSTAMP:20260421T191635
CREATED:20251202T132023Z
LAST-MODIFIED:20260108T085250Z
UID:10005077-1769904000-1769990399@ues.cat
SUMMARY:Senders.- GR1 sender històric: d'Alpens a Lluçà
DESCRIPTION:Continuem avançant en la llarga travessia del GR 1 amb una nova etapa per la comarca del Lluçanès\, entre Alpens i Lluçà. Caminarem per camins careners que\, temps enrere\, recorrien els pastors amb els seus ramats durant la transhumància cap als prats dels Pirineus. \nAl llarg del recorregut visitarem el Monestir de Santa Maria de Lluçà\, una autèntica joia del romànic de la comarca. \nItinerari: Alpens – Sant Joan del Graell – Santa Eulàlia de Puig-Oriola – Lluçà. \nDistància: 16 km >> Desnivell: +275/-385 m >> Dificultat: moderada \nSortida en autocar de tot el dia. Cal portar esmorzar i dinar. Trobada les 7:30 h davant de l’Hotel Sabadell. \nInscripcions del 12 al 26 de gener.
URL:https://ues.cat/agenda/senders-gr1-sender-historic-dalpens-a-lluca/
CATEGORIES:Esportives,Senders
END:VEVENT
BEGIN:VEVENT
DTSTART;VALUE=DATE:20260201
DTEND;VALUE=DATE:20260202
DTSTAMP:20260421T191635
CREATED:20260115T133442Z
LAST-MODIFIED:20260115T135501Z
UID:10005127-1769904000-1769990399@ues.cat
SUMMARY:Curses d'Orientació.- Trail-O
DESCRIPTION:La comissió de Trail-O de la Federació (FCOC) conjuntament amb la UES organitza una Diada de Trail-O a Sabadell \nLa Trail-Orientació\, també coneguda com a Orientació de Precisió\, és una modalitat de les Curses d’Orientació que permet competir en igualtat de condicions a les persones de tots els nivells físics\, incloent-hi aquelles amb problemes de mobilitat que han de traslladar-se en cadira de rodes. \nA Catalunya\, aquesta modalitat està reconeguda per la Federació de Curses d’Orientació de Catalunya (FCOC)\, adscrita a la Federación Española del Deporte de Orientación (FEDO) i\, a través d’aquesta\, a la International Orienteering Federation (IOF)\, que és qui té la potestat de generar les normatives que regeixen l’esport. \nÉs la modalitat de l’orientació més inclusiva\, ja que la categoria en la qual es participa no depèn de l’edat\, el sexe o la forma física de les persones que en prenen part; tothom fa el mateix recorregut i ha de resoldre les mateixes proves. \nPer primera vegada es realitza el Campionat de Catalunya d’aquesta modalitat de curses d’orientació\, i la secció de curses d’orientació de la UES és l’encarregada d’organitzar el campionat a Sabadell. En un únic dia\, el diumenge 1 de febrer de 2026 es realitzaran tres competicions (de les tres modalitats de Trail-0)\, totes tres\, campionats de Catalunya. Es realitzaran dues proves al Parc de Catalunya i una al parc de Can Gambús. A part del centre de competició s’instal·laran fites en els dos parc. \nConsulteu més informació
URL:https://ues.cat/agenda/curses-dorientacio-trail-o/
CATEGORIES:Esportives,Orientació
END:VEVENT
BEGIN:VEVENT
DTSTART;VALUE=DATE:20260204
DTEND;VALUE=DATE:20260205
DTSTAMP:20260421T191635
CREATED:20251202T132116Z
LAST-MODIFIED:20260126T153652Z
UID:10005078-1770163200-1770249599@ues.cat
SUMMARY:Senders km 0.- ANUL·LADA GR173 de Cerdanyola a Sant Cugat
DESCRIPTION:Anul·lada a causa de les restriccions per la pesta porcina africana.
URL:https://ues.cat/agenda/senders-km-0-gr173-de-cerdanyola-a-sant-cugat/
CATEGORIES:Esportives,Senders
END:VEVENT
BEGIN:VEVENT
DTSTART;VALUE=DATE:20260207
DTEND;VALUE=DATE:20260209
DTSTAMP:20260421T191635
CREATED:20260121T145455Z
LAST-MODIFIED:20260130T085630Z
UID:10005159-1770422400-1770595199@ues.cat
SUMMARY:Esquí de muntanya.- Ruta a concretar
DESCRIPTION:
URL:https://ues.cat/agenda/esqui-de-muntanya-sacroux-des-de-llanos-del-hospital/
CATEGORIES:Esquí de Muntanya
END:VEVENT
BEGIN:VEVENT
DTSTART;VALUE=DATE:20260209
DTEND;VALUE=DATE:20260210
DTSTAMP:20260421T191635
CREATED:20260115T104617Z
LAST-MODIFIED:20260115T104617Z
UID:10005125-1770595200-1770681599@ues.cat
SUMMARY:Marxa Nòrdica Inclusiva.- Sortida a l'Estació d'esquí de Tuixent
DESCRIPTION:Vine amb la secció de Marxa nòrdica\, gaudirem de la neu i també intentarem arribar al cim de la Tossa Pelada\, si tens ganes i vols conèixer com ho fem per a caminar amb raquetes fent guiatge a persones amb discapacitat visual / auditiva\, ens pots acompanyar fins al cim de La Tossa Pelada de 2383 metres\, o bé gaudir de uns racons molt bonics i passar una bona estona. \nSegons la proposta d’ esforç farem servir diferents eines de progressió (Dispositiu NW Blind o barra direccional) o bé passejar / jugar amb la neu. \nCal portar: \n\nBastons amb arandeles/rosetes\nCalçat i roba adequada.\nProtecció solar i ulleres de sol.\nAigua \, esmorzar i dinar..\nRecomanable : calçat de recanvi i polaines.\n\nLloc de trobada: 6:30h\, a l’Hotel Sabadell \nTransport: Autocar
URL:https://ues.cat/agenda/marxa-nordica-inclusiva-sortida-a-lestacio-desqui-de-tuixent/
CATEGORIES:Inclusiva,Marxa Nòrdica
END:VEVENT
BEGIN:VEVENT
DTSTART;VALUE=DATE:20260210
DTEND;VALUE=DATE:20260211
DTSTAMP:20260421T191635
CREATED:20251202T134109Z
LAST-MODIFIED:20260115T134653Z
UID:10005089-1770681600-1770767999@ues.cat
SUMMARY:Caminades saludables +60 matinals.- Romànic montserratí.
DESCRIPTION:Bages \nRuta circular del romànic montserratí a Marganell que enllaça petites esglésies i masies per camins tranquils amb vistes constants a Montserrat. \nDistància: 8 km >> Desnivell: 125 m
URL:https://ues.cat/agenda/caminades-saludables-60-matinals/
CATEGORIES:Esportives,Gent Gran,Socials
END:VEVENT
BEGIN:VEVENT
DTSTART;VALUE=DATE:20260210
DTEND;VALUE=DATE:20260211
DTSTAMP:20260421T191635
CREATED:20251216T111749Z
LAST-MODIFIED:20260205T103651Z
UID:10005117-1770681600-1770767999@ues.cat
SUMMARY:Xerrades obertes sobre temes de muntanya.- El material de muntanya de segona mà com a alternativa sostenible i de qualitat
DESCRIPTION:Cicle del 1r trimestre de 2026 \nEl material de muntanya de segona mà com a alternativa sostenible i de qualitat\, a càrrec d’Àlex Guimerà\, Chief Technology Officer i Albert Gómez de Tip Top Mountain. \nTip Top Mountain és una app que promociona la compravenda del material de muntanya de segona mà. A la xerrada explicaran com valorar-ne l’estat\, quins avantatges té respecte al material nou i com fomentar la confiança dins la comunitat muntanyenca. \nA les 19h per ZOOM. \nCal inscripció prèvia si es vol rebre per correu electrònic l’enllaç de totes les sessions programades del cicle del 1r trimestre 2026 (s’envia el dilluns previ a cada sessió.) \nEnllaç de connexió per aquesta sessió: \nTema: Xerrades de muntanya\, 10/02\nÚnase a la reunión de Zoom\nhttps://us06web.zoom.us/j/89681509445?pwd=gYuDNWP3hrCL2QLbxZrHsjyfxvBK6i.1 \nID de reunión: 896 8150 9445\nCódigo de acceso: 252631 \n 
URL:https://ues.cat/agenda/xerrades-obertes-sobre-temes-de-muntanya-el-material-de-muntanya-de-segona-ma-com-a-alternativa-sostenible-i-de-qualitat/
CATEGORIES:Muntanya
END:VEVENT
BEGIN:VEVENT
DTSTART;VALUE=DATE:20260214
DTEND;VALUE=DATE:20260215
DTSTAMP:20260421T191635
CREATED:20251103T152835Z
LAST-MODIFIED:20260130T084926Z
UID:10005042-1771027200-1771113599@ues.cat
SUMMARY:Muntanya.- Roc d'Aude
DESCRIPTION:El Roc d’Aude és una muntanya de 2.325 m d’altitud dels contraforts orientals del massís del Carlit\, dins del terme comunal dels Angles\, a la comarca del Capcir\, de la Catalunya del Nord. Està situat a la zona central – occidental del terme dels Angles. \nDistància: 12\,60 km >> Desnivell: +/- 560 m >> Temps efectiu (aprox): 6 h >> Dificultat: Mitjana \nMaterial: Raquetes\, grampons\, piolet\, polaines\, bastons amb roseta\, roba d’abric. Esmorzar i dinar\, aigua. \nSortida en cotxes particulars. \nTrobada a les 6:30 h a l’aparcament del Parc Catalunya\, davant Club de Tenis. \nPreu: Socis/es: 40€ >> soci@web i no socis/es: 52€ (inclou despeses cotxes compartits: benzina i peatges Manresa i túnel Cadí). \nCal estar federat/ada o bé tramitar assegurança temporal obligatòria de dia. \nInscripcions obertes a partir del 2 de febrer a ues.cat\, app o presencialment a secretaria. \nMàxim 20 places. \nReunió informativa: Dijous 12 de gener\, a les 19 h a la UES. Vocal: Juan Martí
URL:https://ues.cat/agenda/muntanya-roc-daude/
CATEGORIES:Muntanya
END:VEVENT
BEGIN:VEVENT
DTSTART;VALUE=DATE:20260214
DTEND;VALUE=DATE:20260215
DTSTAMP:20260421T191635
CREATED:20251202T132213Z
LAST-MODIFIED:20260126T152829Z
UID:10005079-1771027200-1771113599@ues.cat
SUMMARY:Senders.- Súria- Mare de Déu de Viladelleva
DESCRIPTION:Itinerari: Súria (Fusteret)- Sta. Maria de Cererols- Cal Masover- La Closa- Necrópolis de Viladelleva- Mare de Déu de Viladelleva- Mare de Déu de Viladelleva- Mare de Déu de Lourdes- El Portell del llop- Bassa de la canal – Forn de Guix- Súria. \nDistància: 15\, 40Km \nDesnivell: +446m/-435m \nCal portar: aigua\, esmorzar\, dinar\, 2 bastons i roba adient per a l’activitat.
URL:https://ues.cat/agenda/senders-romanic-del-bages-de-callus-a-suria/
CATEGORIES:Esportives,Senders
END:VEVENT
BEGIN:VEVENT
DTSTART;VALUE=DATE:20260215
DTEND;VALUE=DATE:20260216
DTSTAMP:20260421T191635
CREATED:20260121T145608Z
LAST-MODIFIED:20260206T153844Z
UID:10005160-1771113600-1771199999@ues.cat
SUMMARY:Esquí de muntanya.-  Volta Aspres de Banyells\, Sorteny (2.698 m)
DESCRIPTION:Descripció: Sortida d’esquí de muntanya d’una jornada de dificultat mitjana. \nPunt de trobada:  a les 8:30h a l’aparcament de Sorteny a Andorra. \n\nDistància: 11.5 km\nDesnivell positiu: 1.175m\nCota màxima: 2.698m\nCota sortida: 1.780m\nTemps 6 hores aprox\nDificultat:. S2-S3 /\nOrientació: majoritàriament S\, O\, NO.\n\nMaterial necessari: pala\, ARVA\, sonda. Grampons i piolet (potser es necessiten a la part final). Esquís\, pells\, pals\, casc i serretes. Roba adient a les condicions meteorològiques. \nTipus de transport:  Cotxes particulars. \nAspectes tècnics: Itinerari circular de dificultat mitjana\, que no presenta dificultats tècniques\, més enllà de la longitud i desnivell del recorregut i les condicions que trobem de la neu. Pot ser necessari l’ús de grampons i piolet per la part final del cim. \nRecorregut: Sortim de l’aparcament de Sorteny en direcció nord cap al refugi de Rialb. Un cop el passem girem a l’est en direcció al Port de Banyell per pujar per les comes orientades a NO cap el cim del Forn o Aspres de Banyells (2.698m). Des del cim baixem (majoritàriament SO) cap el refugi de Sorteny\, i des d’aquí\, per pista tornem a l’aparcament. \nEn cas que les condicions nivològiques no siguin favorables\, buscarem un itinerari alternatiu. \nRiscos generals a muntanya:  Tingueu en compte la meteo i el butlletí del perill d’allaus (BPA) . Feu seguiment durant la setmana de l’evolució del temps i de les nevades. \nRiscos particulars de la sortida: sortida per terreny majoritàriament simple i exigent\, amb alguns punts concrets de terreny complex\, per tant no exempt de risc d’allaus\, sobretot a la part final per accedir a l’aresta. \nPossibilitat d’haver de fer ús dels grampons i piolet a la part final per accedir al cim. Com és habitual a l’alta muntanya a l’hivern\, hi pot haver vent fort i baixes temperatures. \nPreu: 0€ socis UES\, 5€ no socis i socis web. \nPrioritat d’inscripció: socis\, socis web i no socis\, en aquest ordre. \nNota: Aquesta és una activitat sense guia de muntanya. La participació és voluntària i implica conèixer i acceptar els riscos generals de les activitats que es desenvolupen al medi natural. Els participants es comprometen a col·laborar activament en el bon funcionament de l’activitat.
URL:https://ues.cat/agenda/esqui-de-muntanya-aspres-de-banyells/
CATEGORIES:Esquí de Muntanya
END:VEVENT
BEGIN:VEVENT
DTSTART;VALUE=DATE:20260218
DTEND;VALUE=DATE:20260219
DTSTAMP:20260421T191635
CREATED:20251007T145801Z
LAST-MODIFIED:20251013T072423Z
UID:10005032-1771372800-1771459199@ues.cat
SUMMARY:Espeleologia.- Curset de Nivell 2 d’Espeleologia
DESCRIPTION:del 18 de febrer de 2026 a l’1 de març de 2026 (teòriques i pràctiques compreses entre aquestes dates).  \nObjectius del curs \nEl curs d’iniciació a l’espeleologia – nivell 2 aporta els coneixements teòrics (6h) i pràctics (28h) necessaris per aprendre a instal·lar les cordes a les cavitats\, liderar grups amateurs de descoberta de cavitats i fer-ho amb seguretat i respecte al medi natural. \nNormativa \nL’edat mínima s’estableix en 16 anys i és necessària l’autorització dels pares o tutors legals pels menors de 18 anys. Els cursetistes es comprometen a seguir les instruccions dels monitors\, així com les normes de seguretat que els responsables del curs estableixin. Els cursetistes que no respectin la natura i/o les normes de convivència o no mostrin interès pels continguts del curs\, podran ser exclosos i perdre tots els seus drets si la direcció del curs ho considera necessari. Qualsevol cas no previst serà resolt per la direcció\, la qual podrà efectuar els canvis que consideri oportuns quan les circumstàncies ho aconsellin. \nMaterial bàsic (a càrrec de cada cursetista): \nMono de mecànic o xandall vell\, botes d’aigua o de muntanya. També cal portar llum frontal propi. Si teniu casc homologat propi\, podeu fer servir el vostre. \nNivell esportiu requerit: bona condició física. \nPrograma del Curs (PROPERAMENT) \nEl curs està APROVAT i HOMOLOGAT per la Federació Catalana d’Espeleologia. \nPer obtenir el certificat del curs cal estar federat per la Federació Catalana d’Espeleologia (FCE)
URL:https://ues.cat/agenda/espeleologia-curset-de-nivell-2-despeleologia-2/
CATEGORIES:Espeleo Club,Esportives
END:VEVENT
BEGIN:VEVENT
DTSTART;VALUE=DATE:20260218
DTEND;VALUE=DATE:20260219
DTSTAMP:20260421T191635
CREATED:20251202T134150Z
LAST-MODIFIED:20260209T195147Z
UID:10005090-1771372800-1771459199@ues.cat
SUMMARY:Les excursions del dimecres.- Castell de Farners i el Rocal
DESCRIPTION:Ruta circular des de Santa Coloma de Farners al castell de Farners passant pel Rocal amb àmplies vistes als boscos de les Guilleries\, a la Selva. \nDistància: 12\,60 km >> Desnivell: +/- 500 m \nSortida a les 7:30 h davant de l’hotel Sabadell. \nSortida en autocar de tot el dia. Cal portar esmorzar i dinar.
URL:https://ues.cat/agenda/les-excursions-del-dimecres-4/
CATEGORIES:Esportives,Excursions dimecres
END:VEVENT
BEGIN:VEVENT
DTSTART;VALUE=DATE:20260223
DTEND;VALUE=DATE:20260224
DTSTAMP:20260421T191635
CREATED:20260218T111529Z
LAST-MODIFIED:20260218T134040Z
UID:10005208-1771804800-1771891199@ues.cat
SUMMARY:La Ganyota.- Reunió informativa Colònies de Setmana Santa
DESCRIPTION:Reunió informativa adreçada a famílies \nColònies del 28 de març a 1 d’abril a Can Ribals (Cerdanya). Per a infants nascuts entre 2011 i 2019. \nA les 19 h a la sala d’actes. \nMés informació laganyota@ues.cat
URL:https://ues.cat/agenda/la-ganyota-reunio-informativa-colonies-de-setmana-santa-2/
CATEGORIES:Esplai La Ganyota,Esportives,Socials
END:VEVENT
BEGIN:VEVENT
DTSTART;VALUE=DATE:20260224
DTEND;VALUE=DATE:20260225
DTSTAMP:20260421T191635
CREATED:20251202T134223Z
LAST-MODIFIED:20260202T170326Z
UID:10005091-1771891200-1771977599@ues.cat
SUMMARY:Caminades saludables + 60\, tot el dia.- Voramera
DESCRIPTION:La Selva \nCamí Voramera resseguint el Brugent fins al Pasteral i tornada per la Via Verda del Carrilet\, a Amer (La Selva) \nDistància: 9\,50  km >> Desnivell: 100 m
URL:https://ues.cat/agenda/caminades-saludables-60-tot-el-dia-2/
CATEGORIES:Esportives,Gent Gran,Socials
END:VEVENT
BEGIN:VEVENT
DTSTART;VALUE=DATE:20260224
DTEND;VALUE=DATE:20260225
DTSTAMP:20260421T191635
CREATED:20251216T112240Z
LAST-MODIFIED:20260205T103618Z
UID:10005118-1771891200-1771977599@ues.cat
SUMMARY:Xerrades obertes sobre temes de muntanya.- Elements d'interès fora dels camins montserratins habituals
DESCRIPTION:Cicle del 1r trimestre de 2026 \nElements d’interès fora dels camins montserratins habituals\, a càrrec d’en Joan Vidal. \nEscalador\, bon excursionista i buscador de llocs recòndits i quasi oblidats de la muntanya de Montserrat; amb en Joan descobrirem molts d’aquests elements que habitualment ens passen desapercebuts malgrat caminar-hi pel costat. Ens parlarà de balmes\, coves\, fonts\, ponts de roca \, barraques de pedra seca….etc. \nA les 19h per ZOOM. \nCal inscripció prèvia si es vol rebre per correu electrònic l’enllaç de totes les sessions programades del cicle del 1r trimestre 2026 (s’envia el dilluns previ a cada sessió.) \nEnllaç de connexió per aquesta sessió: \nTema: Xerrades de muntanya 24/02\nHora: 24 feb 2026 07:00 p. m.\nÚnase a la reunión de Zoom\nhttps://us06web.zoom.us/j/83097185567?pwd=BYJUv4BTPSSpEc8tVyixZXVeauacto.1 \nID de reunión: 830 9718 5567\nCódigo de acceso: 412883
URL:https://ues.cat/agenda/xerrades-obertes-sobre-temes-de-muntanya-elements-dinteres-fora-dels-camins-montserratins-habituals/
CATEGORIES:Muntanya
END:VEVENT
BEGIN:VEVENT
DTSTART;VALUE=DATE:20260225
DTEND;VALUE=DATE:20260226
DTSTAMP:20260421T191635
CREATED:20250919T163248Z
LAST-MODIFIED:20260212T095624Z
UID:10005010-1771977600-1772063999@ues.cat
SUMMARY:BTT.- L’Alt Urgell de la serra de Boumort
DESCRIPTION:Distància: 48 Km >> Desnivell aproximat: 900 m >> Dificultat: Mitjana-alta (pistes que es poden fer amb BTT o GRAVEL) \nItinerari: Volta des de Coll de Nargò\, a tocar de Sallent i Boixols. En funció del temps es podria retallar si hi ha fang o neu a les cotes altes. \nLloc i hora de trobada: COLL DE NARGÒ\, Bar Betriu 8\,30h per esmorzar \nDinarem en finalitzar la sortida en el mateix restaurant de l’esmorzar. \nEn el moment de fer la inscripció caldrà confirmar si us quedareu a dinar. \nPlaces limitades a 12.  Inscripcions del 12 al 20 de febrer. \nÉs obligatori portar casc\, càmera de recanvi\, manxa i eines bàsiques. \nCal estar federat/ada o tramitar una assegurança temporal FEEC de dia. \nSocis/es: 2€ // soci@web i no socis/es: 7€. \nMés informació a btt@ues.cat
URL:https://ues.cat/agenda/btt-volta-per-la-conca-de-barbera/
CATEGORIES:BTT,Esportives
END:VEVENT
BEGIN:VEVENT
DTSTART;VALUE=DATE:20260228
DTEND;VALUE=DATE:20260301
DTSTAMP:20260421T191635
CREATED:20251103T152949Z
LAST-MODIFIED:20260212T082935Z
UID:10005043-1772236800-1772323199@ues.cat
SUMMARY:Muntanya.- Llacs Bulloses
DESCRIPTION:2016m. Capcir. Hivernal amb raquetes. \nCIRCUIT LLAC DE LES BULLOSES \nClàssica ruta circular pels cinc llacs que es troben a la part baixa del llac de les Bulloses\, a la riba dreta de la Tet. \nDistància: 11 km >> Desnivell: +/- 375 m >> Dificultat: Moderada \nMaterial: Raquetes\, polaines\, bastons amb roseta\, roba d’abric. Esmorzar i dinar\, aigua. \nSortida en cotxes particulars. \nTrobada a les 6:30 h a l’aparcament del Parc Catalunya\, davant Club de Tenis. \nPreu: Socis/es: 40€ >> soci@web i no socis/es: 52€ (inclou despeses cotxes compartits: benzina i peatges) \nCal estar federat/ada o bé tramitar assegurança temporal obligatòria de dia. \nInscripcions obertes a partir del 16 de febrer a ues.cat\, app o presencialment a secretaria. \nMàxim 20 places. \nReunió informativa: Dijous 26 de febrer\, a les 19 h a la UES.
URL:https://ues.cat/agenda/muntanya-llacs-bulloses/
CATEGORIES:Muntanya
END:VEVENT
BEGIN:VEVENT
DTSTART;VALUE=DATE:20260228
DTEND;VALUE=DATE:20260302
DTSTAMP:20260421T191635
CREATED:20260121T145701Z
LAST-MODIFIED:20260121T145701Z
UID:10005161-1772236800-1772409599@ues.cat
SUMMARY:Esquí de muntanya.- Tres colls de Núria
DESCRIPTION:Sortirem del Santuari de Núria vers la coma de Finestrelles\, pujarem la pala fins arribar al cim de Finestrelles\, d’allà baixarem cap a la Coma d’eina ja a França. Seguirem el fons de la vall per remuntar el coll d’Eina. Un cop al coll baixarem per la Coma de l’infern fins a l’Estanyet\, d’alla ens tocara posa pells i remuntar les clotades de l’Estanyet fins la carena que ens portará al Pic de Nou Fonts. desde le pic de Nou Fonts baixarem la pala del cim cap a la Vall de Nou fonts per arribar al Santuari de Núria.
URL:https://ues.cat/agenda/esqui-de-muntanya-tres-colls-de-nuria/
CATEGORIES:Esquí de Muntanya
END:VEVENT
END:VCALENDAR