BEGIN:VCALENDAR
VERSION:2.0
PRODID:-//UES - ECPv6.15.20//NONSGML v1.0//EN
CALSCALE:GREGORIAN
METHOD:PUBLISH
X-WR-CALNAME:UES
X-ORIGINAL-URL:https://ues.cat
X-WR-CALDESC:Activitats per UES
REFRESH-INTERVAL;VALUE=DURATION:PT1H
X-Robots-Tag:noindex
X-PUBLISHED-TTL:PT1H
BEGIN:VTIMEZONE
TZID:Europe/Madrid
BEGIN:DAYLIGHT
TZOFFSETFROM:+0100
TZOFFSETTO:+0200
TZNAME:CEST
DTSTART:20250330T010000
END:DAYLIGHT
BEGIN:STANDARD
TZOFFSETFROM:+0200
TZOFFSETTO:+0100
TZNAME:CET
DTSTART:20251026T010000
END:STANDARD
BEGIN:DAYLIGHT
TZOFFSETFROM:+0100
TZOFFSETTO:+0200
TZNAME:CEST
DTSTART:20260329T010000
END:DAYLIGHT
BEGIN:STANDARD
TZOFFSETFROM:+0200
TZOFFSETTO:+0100
TZNAME:CET
DTSTART:20261025T010000
END:STANDARD
BEGIN:DAYLIGHT
TZOFFSETFROM:+0100
TZOFFSETTO:+0200
TZNAME:CEST
DTSTART:20270328T010000
END:DAYLIGHT
BEGIN:STANDARD
TZOFFSETFROM:+0200
TZOFFSETTO:+0100
TZNAME:CET
DTSTART:20271031T010000
END:STANDARD
END:VTIMEZONE
BEGIN:VEVENT
DTSTART;VALUE=DATE:20261114
DTEND;VALUE=DATE:20261115
DTSTAMP:20260422T032218
CREATED:20251103T154900Z
LAST-MODIFIED:20251103T154900Z
UID:10005059-1794614400-1794700799@ues.cat
SUMMARY:Muntanya.- Bullidor de la llet
DESCRIPTION:1032m. Cadí-Moixerò. Mitja muntanya. Dificultat mitjana.
URL:https://ues.cat/agenda/muntanya-bullidor-de-la-llet/
CATEGORIES:Muntanya
END:VEVENT
BEGIN:VEVENT
DTSTART;VALUE=DATE:20261115
DTEND;VALUE=DATE:20261116
DTSTAMP:20260422T032218
CREATED:20260115T133814Z
LAST-MODIFIED:20260115T134810Z
UID:10005128-1794700800-1794787199@ues.cat
SUMMARY:64a Marxa Excursionista Infantil de Regulitat
DESCRIPTION:
URL:https://ues.cat/agenda/64a-marxa-excursionista-infantil-de-regulitat/
CATEGORIES:Esplai La Ganyota,Esportives,Marxa Infantil de Regularitat
END:VEVENT
BEGIN:VEVENT
DTSTART;VALUE=DATE:20261128
DTEND;VALUE=DATE:20261129
DTSTAMP:20260422T032218
CREATED:20251103T155010Z
LAST-MODIFIED:20251103T155010Z
UID:10005060-1795824000-1795910399@ues.cat
SUMMARY:Muntanya.- Serra de l'Obac
DESCRIPTION:939m. Vallès Occidental. Mitja muntanya. Dificultat fàcil.
URL:https://ues.cat/agenda/muntanya-serra-de-lobac/
CATEGORIES:Muntanya
END:VEVENT
END:VCALENDAR