BEGIN:VCALENDAR
VERSION:2.0
PRODID:-//UES - ECPv6.15.20//NONSGML v1.0//EN
CALSCALE:GREGORIAN
METHOD:PUBLISH
X-WR-CALNAME:UES
X-ORIGINAL-URL:https://ues.cat
X-WR-CALDESC:Activitats per UES
REFRESH-INTERVAL;VALUE=DURATION:PT1H
X-Robots-Tag:noindex
X-PUBLISHED-TTL:PT1H
BEGIN:VTIMEZONE
TZID:Europe/Madrid
BEGIN:DAYLIGHT
TZOFFSETFROM:+0100
TZOFFSETTO:+0200
TZNAME:CEST
DTSTART:20230326T010000
END:DAYLIGHT
BEGIN:STANDARD
TZOFFSETFROM:+0200
TZOFFSETTO:+0100
TZNAME:CET
DTSTART:20231029T010000
END:STANDARD
BEGIN:DAYLIGHT
TZOFFSETFROM:+0100
TZOFFSETTO:+0200
TZNAME:CEST
DTSTART:20240331T010000
END:DAYLIGHT
BEGIN:STANDARD
TZOFFSETFROM:+0200
TZOFFSETTO:+0100
TZNAME:CET
DTSTART:20241027T010000
END:STANDARD
BEGIN:DAYLIGHT
TZOFFSETFROM:+0100
TZOFFSETTO:+0200
TZNAME:CEST
DTSTART:20250330T010000
END:DAYLIGHT
BEGIN:STANDARD
TZOFFSETFROM:+0200
TZOFFSETTO:+0100
TZNAME:CET
DTSTART:20251026T010000
END:STANDARD
END:VTIMEZONE
BEGIN:VEVENT
DTSTART;VALUE=DATE:20240906
DTEND;VALUE=DATE:20240910
DTSTAMP:20260423T063331
CREATED:20240717T093856Z
LAST-MODIFIED:20240903T094408Z
UID:10004772-1725580800-1725926399@ues.cat
SUMMARY:Activitats de Festa Major: Buscafites de Festa Major!
DESCRIPTION:[vc_row][vc_column][vc_column_text] \nEl Buscafites de la Festa Major de Sabadell és una activitat d’iniciació a les curses d’orientació. L’activitat es pot realitzar sol o acompanyat\, i és una activitat molt recomanable per fer en família. \nL’activitat consisteix en cercar 10 punts (rodones en el mapa)\, anomenats fites\, i que es troben marcats en el mapa que es rep un cop feta la inscripció. Per trobar-les es pot seguir qualsevol ordre i no hi ha un temps límit per trobar-les. \nL’activitat està pensada per fer-la en qualsevol moment al llarg de la Festa Major\, des del divendres 6 i fins el dilluns 9 de setembre. \nCal inscriure’s a ues.cat i imprimir el mapa que es rebrà per correu electrònic. La inscripció és gratuïta. Per fer l’activitat cal tenir instal·lada l’app gratuïta GPS Orienteering Run. \nInscripcions a partir del 26 d’agost \nCONSULTEU TOTA LA INFORMACIÓ SOBRE LA DINÀMICA DE L’ACTIVITAT[/vc_column_text][/vc_column][/vc_row]
URL:https://ues.cat/agenda/activitats-de-festa-major-buscafites-de-festa-major/
CATEGORIES:Esportives,Orientació
END:VEVENT
END:VCALENDAR