BEGIN:VCALENDAR
VERSION:2.0
PRODID:-//UES - ECPv6.15.20//NONSGML v1.0//EN
CALSCALE:GREGORIAN
METHOD:PUBLISH
X-ORIGINAL-URL:https://ues.cat
X-WR-CALDESC:Activitats per UES
REFRESH-INTERVAL;VALUE=DURATION:PT1H
X-Robots-Tag:noindex
X-PUBLISHED-TTL:PT1H
BEGIN:VTIMEZONE
TZID:Europe/Madrid
BEGIN:DAYLIGHT
TZOFFSETFROM:+0100
TZOFFSETTO:+0200
TZNAME:CEST
DTSTART:20230326T010000
END:DAYLIGHT
BEGIN:STANDARD
TZOFFSETFROM:+0200
TZOFFSETTO:+0100
TZNAME:CET
DTSTART:20231029T010000
END:STANDARD
BEGIN:DAYLIGHT
TZOFFSETFROM:+0100
TZOFFSETTO:+0200
TZNAME:CEST
DTSTART:20240331T010000
END:DAYLIGHT
BEGIN:STANDARD
TZOFFSETFROM:+0200
TZOFFSETTO:+0100
TZNAME:CET
DTSTART:20241027T010000
END:STANDARD
BEGIN:DAYLIGHT
TZOFFSETFROM:+0100
TZOFFSETTO:+0200
TZNAME:CEST
DTSTART:20250330T010000
END:DAYLIGHT
BEGIN:STANDARD
TZOFFSETFROM:+0200
TZOFFSETTO:+0100
TZNAME:CET
DTSTART:20251026T010000
END:STANDARD
END:VTIMEZONE
BEGIN:VEVENT
DTSTART;VALUE=DATE:20241112
DTEND;VALUE=DATE:20241115
DTSTAMP:20260422T232200
CREATED:20240523T081126Z
LAST-MODIFIED:20241108T110658Z
UID:10004756-1731369600-1731628799@ues.cat
SUMMARY:Senders.- Camins de l'exili
DESCRIPTION:[vc_row][vc_column][vc_column_text]CAMINS DE L’EXILI\, Camprodon – Molló – Espinavell – Prat de Molló \nTardor pel Ripollès i el Vallespir \n11\, 12 i 13 de novembre \nAmb la caiguda de Barcelona\, el 26 de gener de 1939\, va començar el que\, en l’actualitat\, anomenem la Retirada. Centenars de milers de persones van fugir de les tropes franquistes en direcció a la frontera francesa. El passos principals van ser els de la Cerdanya\, l’Alt Empordà i el Ripollès. \nEntre finals de gener i principis de febrer de 1939 van passar per la vall de Camprodon unes 100.000 persones\, aproximadament. Si bé la gran majoria ho va fer per la mateixa carretera que hi ha ara\, que uneix les poblacions de Molló i Prats de Molló pel coll d’Ares\, també n’hi va haver que van travessar  per senders de muntanya per arribar a les primeres poblacions del Vallespir. \nA la tardor d’aquest any caminarem pels camins i senders que l’any 1939 tantes persones van caminar per fugir del horror de la guerra i del franquisme. Visitarem el Museu “la Retirada” a Camprodon a la vegada que gaudirem de l’impressionat paisatge de tardor que en brinda el Pirineu. \nConsulta el dossier informatiu \nPreinscripcions a partir del 2 d’abril[/vc_column_text][/vc_column][/vc_row]
URL:https://ues.cat/agenda/senders-camins-de-lexili/
CATEGORIES:Esportives,Senders
END:VEVENT
BEGIN:VEVENT
DTSTART;TZID=Europe/Madrid:20241114T193000
DTEND;TZID=Europe/Madrid:20241114T203000
DTSTAMP:20260422T232200
CREATED:20241021T092542Z
LAST-MODIFIED:20241021T092856Z
UID:10004815-1731612600-1731616200@ues.cat
SUMMARY:Wikiloc UES\, presentació
DESCRIPTION:[vc_row][vc_column][vc_column_text]Presentació del perfil ORG de la UES a Wikiloc\, on hi trobareu excursions realitzades per les nostres seccions\, els itineraris del llibre d’Excursions per conèixer el rodal de Sabadell i d’altres rutes proposades pels nostres socis i sòcies\, validades prèviament per una secció. \nAixí mateix\, Àngel Artigas i Manolo Barcia\, explicaran les darreres novetats de Wikiloc\, com la confecció de recorreguts i els mapes 3D. \nA les 19:30 h a la sala d’actes. Gratuït[/vc_column_text][/vc_column][/vc_row]
URL:https://ues.cat/agenda/wikiloc-ues-presentacio/
CATEGORIES:Altres cursos i tallers,Esportives,Formació
END:VEVENT
END:VCALENDAR