BEGIN:VCALENDAR
VERSION:2.0
PRODID:-//UES - ECPv6.15.20//NONSGML v1.0//EN
CALSCALE:GREGORIAN
METHOD:PUBLISH
X-ORIGINAL-URL:https://ues.cat
X-WR-CALDESC:Activitats per UES
REFRESH-INTERVAL;VALUE=DURATION:PT1H
X-Robots-Tag:noindex
X-PUBLISHED-TTL:PT1H
BEGIN:VTIMEZONE
TZID:Europe/Madrid
BEGIN:DAYLIGHT
TZOFFSETFROM:+0100
TZOFFSETTO:+0200
TZNAME:CEST
DTSTART:20230326T010000
END:DAYLIGHT
BEGIN:STANDARD
TZOFFSETFROM:+0200
TZOFFSETTO:+0100
TZNAME:CET
DTSTART:20231029T010000
END:STANDARD
BEGIN:DAYLIGHT
TZOFFSETFROM:+0100
TZOFFSETTO:+0200
TZNAME:CEST
DTSTART:20240331T010000
END:DAYLIGHT
BEGIN:STANDARD
TZOFFSETFROM:+0200
TZOFFSETTO:+0100
TZNAME:CET
DTSTART:20241027T010000
END:STANDARD
BEGIN:DAYLIGHT
TZOFFSETFROM:+0100
TZOFFSETTO:+0200
TZNAME:CEST
DTSTART:20250330T010000
END:DAYLIGHT
BEGIN:STANDARD
TZOFFSETFROM:+0200
TZOFFSETTO:+0100
TZNAME:CET
DTSTART:20251026T010000
END:STANDARD
END:VTIMEZONE
BEGIN:VEVENT
DTSTART;VALUE=DATE:20241117
DTEND;VALUE=DATE:20241118
DTSTAMP:20260423T011134
CREATED:20241105T162409Z
LAST-MODIFIED:20241105T163022Z
UID:10004821-1731801600-1731887999@ues.cat
SUMMARY:Respirem als cims per ‘La Marató (FEEC)
DESCRIPTION:[vc_row][vc_column][vc_column_text]La Federació d’Entitats Excursionistes de Catalunya\, la  Societat Catalana de Pneumologia (SOCAP) i el Barcelona Respiratory Network (BRN)\, organitzen una jornada d’excursionisme\, muntanya i solidaritat per a recaptar fons per a La Marató de Tv3\, dedicada aquest 2024 a les malalties respiratòries. \nPer aquest motiu i amb la intenció de fer visible l’acció\, el pròxim 17 de novembre de 2024\, es pujaran 10 cims repartits per bona part del territori\, i us animem a participar-hi. Cada cim estarà dedicat a una malaltia respiratòria per la qual es farà la recaptació per a treballar en la investigació i recerca. \nLes sortides es faran totes a les 9h del matí des del punt de partida triat per a cada cim que s’informarà en l’apartat informació de la inscripció. \nLa totalitat de la recaptació de les inscripcions anirà dedicada a La Marató de Tv3 en el cas dels federats i un 50% en el cas dels no federats\, ja que es tramitarà la llicència temporal per aquella jornada. \nLes inscripcions es faran mitjançant el web de la FEEC i estaran obertes fins al pròxim 15 de novembre. \nConsulteu la llista de cims i tota la informació \n  \n[/vc_column_text][/vc_column][/vc_row]
URL:https://ues.cat/agenda/respirem-als-cims-per-la-marato-feec/
CATEGORIES:Esportives
END:VEVENT
BEGIN:VEVENT
DTSTART;TZID=Europe/Madrid:20241117T080000
DTEND;TZID=Europe/Madrid:20241117T140000
DTSTAMP:20260423T011134
CREATED:20241003T183232Z
LAST-MODIFIED:20241111T080233Z
UID:10004422-1731830400-1731852000@ues.cat
SUMMARY:Marxa Nòrdica.- Serra de la Portadora
DESCRIPTION:[vc_row][vc_column][vc_column_text] \nDistància: 9\,87 km >> Desnivell: +/-293 m \nSortida a les 8 del matí des de la Plaça de les Dones del Tèxtil (cotxes particulars) \nEl Cul de la Portadora és un turó de 461 metres que es troba entre els municipis d’Esparraguera\, Vacarisses i Monistrol de Montserrat\, punt de sortida de la nostra ruta. Al llarg del camí gaudirem d’unes excel·lents vistes a Montserrat. \nSortida matinal[/vc_column_text][/vc_column][/vc_row]
URL:https://ues.cat/agenda/marxa-nordica-serra-de-la-portadora/
CATEGORIES:Esportives,Marxa Nòrdica
END:VEVENT
END:VCALENDAR