BEGIN:VCALENDAR
VERSION:2.0
PRODID:-//UES - ECPv6.15.20//NONSGML v1.0//EN
CALSCALE:GREGORIAN
METHOD:PUBLISH
X-ORIGINAL-URL:https://ues.cat
X-WR-CALDESC:Activitats per UES
REFRESH-INTERVAL;VALUE=DURATION:PT1H
X-Robots-Tag:noindex
X-PUBLISHED-TTL:PT1H
BEGIN:VTIMEZONE
TZID:Europe/Madrid
BEGIN:DAYLIGHT
TZOFFSETFROM:+0100
TZOFFSETTO:+0200
TZNAME:CEST
DTSTART:20230326T010000
END:DAYLIGHT
BEGIN:STANDARD
TZOFFSETFROM:+0200
TZOFFSETTO:+0100
TZNAME:CET
DTSTART:20231029T010000
END:STANDARD
BEGIN:DAYLIGHT
TZOFFSETFROM:+0100
TZOFFSETTO:+0200
TZNAME:CEST
DTSTART:20240331T010000
END:DAYLIGHT
BEGIN:STANDARD
TZOFFSETFROM:+0200
TZOFFSETTO:+0100
TZNAME:CET
DTSTART:20241027T010000
END:STANDARD
BEGIN:DAYLIGHT
TZOFFSETFROM:+0100
TZOFFSETTO:+0200
TZNAME:CEST
DTSTART:20250330T010000
END:DAYLIGHT
BEGIN:STANDARD
TZOFFSETFROM:+0200
TZOFFSETTO:+0100
TZNAME:CET
DTSTART:20251026T010000
END:STANDARD
END:VTIMEZONE
BEGIN:VEVENT
DTSTART;VALUE=DATE:20241128
DTEND;VALUE=DATE:20241129
DTSTAMP:20260422T213850
CREATED:20240529T165123Z
LAST-MODIFIED:20240529T165140Z
UID:10004375-1732752000-1732838399@ues.cat
SUMMARY:Caminades saludables +60\, tot el dia.- Vall del Llobregat: Viladordis - Pont de Vilomara
DESCRIPTION:[vc_row][vc_column][vc_column_text]Aquest trimestre reprenem el cicle de la Vall del Llobregat (GR 270)\, que al llarg de tres etapes als mesos de setembre\, octubre i novembre\, ens portarà de Sallent al Pont de Vilomara. \nNovembre: Viladordis – Pont de Vilomara Distància: 8 km >> desnivell -190 m \nEn aquesta etapa\, passarem per diverses tines i per la Gola del Bigaire\, un espectacular pas del riu Llobregat a través de les esquerdes a les roques que el mateix riu ha anat erosionant. Passarem pel pont vell de Vilomara\, originari del segle XIII\, però reconstruït al segle XVII destruït per una riera.[/vc_column_text][/vc_column][/vc_row]
URL:https://ues.cat/agenda/caminades-saludables-60-tot-el-dia-vall-del-llobregat-viladordis-pont-de-vilomara-2/
CATEGORIES:Esportives,Gent Gran
END:VEVENT
BEGIN:VEVENT
DTSTART;TZID=Europe/Madrid:20241128T193000
DTEND;TZID=Europe/Madrid:20241128T210000
DTSTAMP:20260422T213850
CREATED:20241111T170242Z
LAST-MODIFIED:20241112T165434Z
UID:10004823-1732822200-1732827600@ues.cat
SUMMARY:Projecció solidària afectades DANA 'LADAKH. Gel en el petit Tibet' amb Rafa Vadillo
DESCRIPTION:[vc_row][vc_column][vc_column_text]Hem recollit el guant de l’alpinista Rafa Vadillo i projectem LADAKH Gel en el petit Tibet en benefici de les persones afectades per la DANA. \nEn una sessió extra del Cicle de Cinema de Muntanya oferim aquest documental que ens proposa la fascinació i la seducció d’endinsar-nos a Ladakh\, conegut també com ‘El Petit Tibet’\, situat al nord de l’Índia\, fent frontera amb el Pakistan a l’oest i el Tibet\, ocupat per la Xina\, al nord. \nUna expedició encapçalada per Rafa Vadillo va explorar i escalar cascades de gel a la vall de Nubra\, al nord de Ladakh\, una vall estratègica per accedir a la qual cal un permís militar\, fins i tot per als mateixos hindús. En aquesta vall acaben les muntanyes de la carena que inclou el K2\, la segona muntanya més alta del planeta. Els expedicionaris van aconseguir l’obertura de cinc noves cascades de gel. El documental també mostra la vida al Ladakh\, amb el budisme tibetà\, autèntic i genuí\, present a cada un dels seus racons\, i les altes muntanyes i les grans cascades glaçades. \nEl documental editat per Job Films\, té una durada de 55 minuts i es presenta personalment pels mateixos protagonistes. \nAmb la participació de Rafa Vadillo\, qui ens ha cedit gratuïtament la projecció del documental. \nAquesta sessió serà taquilla inversa en benefici de les persones afectades per la DANA. Donarem tota la recaptació a la Koordinadora de Kol·lectius Parke\, un projecte comunitari que reuneix un conjunt d’entitats associatives i socials del Parc Alcosa\, un barri del municipi valencià d’Alfafar. Té el seu origen al 1.985 i va sorgir de la motivació i organització de les pròpies veïnes i veïns del barri\, com a eina col·lectiva en defensa dels drets de les i els més vulnerables\, denunciant les seves mancances\, fomentant el suport mutu i l’autogestió dels recursos des de la participació horitzontal i la responsabilitat col·lectiva. Treballen amb persones en situació o risc d’exclusió social a través de diferents projectes social especialment adreçats a joves i infants. \nLa DANA els ha afectat de ple. I ara més mai\, necessiten ajuden. \nSi no pots venir a la projecció (cal inscripció per control d’aforament) però vols col·laborar en aquesta iniciativa\, pots fer la teva aportació inscrivint-te a la FILA 0.[/vc_column_text][/vc_column][/vc_row][vc_row][vc_column][vc_video link=”https://vimeo.com/844249615″][/vc_column][/vc_row]
URL:https://ues.cat/agenda/projeccio-solidaria-afectades-dana-ladakh-gel-en-el-petit-tibet-amb-rafa-vadillo/
CATEGORIES:Culturals,Esportives
END:VEVENT
END:VCALENDAR