BEGIN:VCALENDAR
VERSION:2.0
PRODID:-//UES - ECPv6.15.20//NONSGML v1.0//EN
CALSCALE:GREGORIAN
METHOD:PUBLISH
X-ORIGINAL-URL:https://ues.cat
X-WR-CALDESC:Activitats per UES
REFRESH-INTERVAL;VALUE=DURATION:PT1H
X-Robots-Tag:noindex
X-PUBLISHED-TTL:PT1H
BEGIN:VTIMEZONE
TZID:Europe/Madrid
BEGIN:DAYLIGHT
TZOFFSETFROM:+0100
TZOFFSETTO:+0200
TZNAME:CEST
DTSTART:20230326T010000
END:DAYLIGHT
BEGIN:STANDARD
TZOFFSETFROM:+0200
TZOFFSETTO:+0100
TZNAME:CET
DTSTART:20231029T010000
END:STANDARD
BEGIN:DAYLIGHT
TZOFFSETFROM:+0100
TZOFFSETTO:+0200
TZNAME:CEST
DTSTART:20240331T010000
END:DAYLIGHT
BEGIN:STANDARD
TZOFFSETFROM:+0200
TZOFFSETTO:+0100
TZNAME:CET
DTSTART:20241027T010000
END:STANDARD
BEGIN:DAYLIGHT
TZOFFSETFROM:+0100
TZOFFSETTO:+0200
TZNAME:CEST
DTSTART:20250330T010000
END:DAYLIGHT
BEGIN:STANDARD
TZOFFSETFROM:+0200
TZOFFSETTO:+0100
TZNAME:CET
DTSTART:20251026T010000
END:STANDARD
END:VTIMEZONE
BEGIN:VEVENT
DTSTART;TZID=Europe/Madrid:20241203T190000
DTEND;TZID=Europe/Madrid:20241203T203000
DTSTAMP:20260423T011330
CREATED:20240723T104949Z
LAST-MODIFIED:20240723T104949Z
UID:10004781-1733252400-1733257800@ues.cat
SUMMARY:Xerrades obertes sobre temes de muntanya.- El Parc Nacional d’Aigüestortes i Estany de Sant Maurici
DESCRIPTION:[vc_row][vc_column][vc_column_text]El Parc Nacional d’Aigüestortes i Estany de Sant Maurici\, a càrrec d’en Lluís Florit Molina\, director del parc. Situat al bell mig de la serralada dels Pirineus\, amb altituds que oscil·len entre els 1.200 i els 3.000 metres\, està format per un conjunt espectacular de pics esmolats i crestes vertiginoses\, boscos frondosos i prats verds\, on l’aigua\, amb més de 200 estanys i nombrosos rius\, barrancs i zones humides n’és la protagonista. \nVirtual (Zoom) a les 19 h \n[/vc_column_text][/vc_column][/vc_row]
URL:https://ues.cat/agenda/xerrades-obertes-sobre-temes-de-muntanya-el-parc-nacional-daiguestortes-i-estany-de-sant-maurici/
CATEGORIES:Esportives,Muntanya
END:VEVENT
END:VCALENDAR