BEGIN:VCALENDAR
VERSION:2.0
PRODID:-//UES - ECPv6.15.20//NONSGML v1.0//EN
CALSCALE:GREGORIAN
METHOD:PUBLISH
X-WR-CALNAME:UES
X-ORIGINAL-URL:https://ues.cat
X-WR-CALDESC:Activitats per UES
REFRESH-INTERVAL;VALUE=DURATION:PT1H
X-Robots-Tag:noindex
X-PUBLISHED-TTL:PT1H
BEGIN:VTIMEZONE
TZID:Europe/Madrid
BEGIN:DAYLIGHT
TZOFFSETFROM:+0100
TZOFFSETTO:+0200
TZNAME:CEST
DTSTART:20230326T010000
END:DAYLIGHT
BEGIN:STANDARD
TZOFFSETFROM:+0200
TZOFFSETTO:+0100
TZNAME:CET
DTSTART:20231029T010000
END:STANDARD
BEGIN:DAYLIGHT
TZOFFSETFROM:+0100
TZOFFSETTO:+0200
TZNAME:CEST
DTSTART:20240331T010000
END:DAYLIGHT
BEGIN:STANDARD
TZOFFSETFROM:+0200
TZOFFSETTO:+0100
TZNAME:CET
DTSTART:20241027T010000
END:STANDARD
BEGIN:DAYLIGHT
TZOFFSETFROM:+0100
TZOFFSETTO:+0200
TZNAME:CEST
DTSTART:20250330T010000
END:DAYLIGHT
BEGIN:STANDARD
TZOFFSETFROM:+0200
TZOFFSETTO:+0100
TZNAME:CET
DTSTART:20251026T010000
END:STANDARD
END:VTIMEZONE
BEGIN:VEVENT
DTSTART;VALUE=DATE:20241214
DTEND;VALUE=DATE:20241215
DTSTAMP:20260422T231937
CREATED:20231127T143811Z
LAST-MODIFIED:20241112T180710Z
UID:10004615-1734134400-1734220799@ues.cat
SUMMARY:Muntanya.- Portada del Pessebre
DESCRIPTION:[vc_row][vc_column][vc_column_text]EXCURSIÓ DE NADAL de la SECCIÓ MUNTANYA i LA CORAL LA CARENA al SANTUARI DEL FAR (SELVA) \nSortirem de Sabadell a les 7h. del matí de la Plaça Catalunya\, davant l’Hotel Sabadell. \nAnirem amb autocar al coll de Condreu on pensem arribar a les 8h 45 min. \nEsmorzarem al bar restaurant que hi ha en el mateix coll i repartirem alguna menja dolça a tots als participants. \nUn cop esmorzats\, ens dividirem en dos possibles grups\, en funció del nivell dels participants a l’excursió. \nEl primer grup farem l’excursió llarga sortint a peu del coll de Condreu on començarem un recorregut interessantíssim pujant al Puig de la Toia\, per passar tot seguit per la Balma i Bolet de la Toia\, roques d’Armadans\, cova d’en Ferriol\, salt i roques dels Esquellons\, Siurenys de Pedra\, riera de l’Om\, basses de la Jaça\, collet de l’Aire fins arribar a una de les atraccions d’aquests itinerari com son les sorprenents roques Encantades. Des d’aquest punt seguirem fins arribar de nou al coll de Condreu des d’on agafarem un corriol que passa per la vesant de llevant del Serrat del Moro\, pel mig d’una fageda de somni\, fins a la carretera del Far molt a prop ja del Santuari. Un cop aquí i si anem be de temps baixarem per un altre corriol fins a la singlera del Far per pujar pel camí de la cinglera i els Miradors fins al Santuari. \nDificultat\, entre fàcil i moderada. Temps efectiu: 4\, 5 h. Distància: 13 km. Desnivell: + 500 m \nExcursió curta: El segon grup anirà directament al Santuari del Far des d’on podran fer un recorregut circular passant pel camí de la cinglera i els Miradors. \nDificultat\, fàcil. Temps efectiu: 1 h. Distància: 4\,5 km. Desnivell: + 110 m \nCom cada any a dalt  al Santuari i tots plegats celebrarem les festes de Nadal amb un petit concert de la coral La Carena i la tradicional  cantada popular de nadales davant el Pessebre i després de dinar \, torrons\, neules i cava per tothom qui en vulgui.  \n La tornada és farà directament amb autocar des del Santuari. \nTransport: Autocar        Places: 55 \nPreu inscripció:   socis: 24 €   // soci@web i no socis: 30 € \nCondicions:   Per participar a l’excursió cal tenir una assegurança de muntanya. \nNota: Ens reservem la possibilitat de fer canvis en l’itinerari en funció de possibles dificultats per qüestió de temps o problemes meteorològics.[/vc_column_text][/vc_column][/vc_row]
URL:https://ues.cat/agenda/muntanya-portada-del-pessebre-6/
CATEGORIES:Esportives,Muntanya
END:VEVENT
BEGIN:VEVENT
DTSTART;VALUE=DATE:20241214
DTEND;VALUE=DATE:20241215
DTSTAMP:20260422T231937
CREATED:20240523T081232Z
LAST-MODIFIED:20241119T140320Z
UID:10004757-1734134400-1734220799@ues.cat
SUMMARY:Senders.- Camí natural de l’Ebre\, de Deltebre a Riumar
DESCRIPTION:[vc_row][vc_column][vc_column_text]Aquesta darrera etapa\, la començarem al Molí de Rafelet\, per descobrir la història i el procés d’elaboració de l’arròs\,  així com les seves varietats. El molí està portat per en Rafael i la Teresa\, 3a. Generació que han mantingut viu el llegat cultural i gastronòmic. \nUna vegada finalitzada la visita\, començarem la nostra última ruta del Camí Natural de l’Ebre. \nIniciem l’etapa davant del Pont lo Passador. Ens acostem a la vora de l’Ebre per tal de anar hi riu avall per un vial per a bicicletes i vianants. Passem per la zona d’embarcadors\, niu de metralletes de la Guerra Civil i continuem pel vial al costat del riu. L’itinerari ens portarà al Port de Creuers\, Mirador Marededéus\, Mirador Zigurat\, Far del Garxal\, Mirador del Garxal- Mirador de Riumar i Riumar. \nUna vegada finalitzat el trajecte\, ens traslladarem al restaurant per degustar una arrrossada (opcional)\, al costat del riu Ebre. \nDistància: 8 km >> Desnivell: -4 m \nSortida en autocar a les 6 del matí davant l’Hotel Sabadell \n[/vc_column_text][/vc_column][/vc_row]
URL:https://ues.cat/agenda/senders-cami-natural-de-lebre-de-deltebre-a-riumar/
CATEGORIES:Esportives,Senders
END:VEVENT
END:VCALENDAR