BEGIN:VCALENDAR
VERSION:2.0
PRODID:-//UES - ECPv6.15.20//NONSGML v1.0//EN
CALSCALE:GREGORIAN
METHOD:PUBLISH
X-WR-CALNAME:UES
X-ORIGINAL-URL:https://ues.cat
X-WR-CALDESC:Activitats per UES
REFRESH-INTERVAL;VALUE=DURATION:PT1H
X-Robots-Tag:noindex
X-PUBLISHED-TTL:PT1H
BEGIN:VTIMEZONE
TZID:Europe/Madrid
BEGIN:DAYLIGHT
TZOFFSETFROM:+0100
TZOFFSETTO:+0200
TZNAME:CEST
DTSTART:20240331T010000
END:DAYLIGHT
BEGIN:STANDARD
TZOFFSETFROM:+0200
TZOFFSETTO:+0100
TZNAME:CET
DTSTART:20241027T010000
END:STANDARD
BEGIN:DAYLIGHT
TZOFFSETFROM:+0100
TZOFFSETTO:+0200
TZNAME:CEST
DTSTART:20250330T010000
END:DAYLIGHT
BEGIN:STANDARD
TZOFFSETFROM:+0200
TZOFFSETTO:+0100
TZNAME:CET
DTSTART:20251026T010000
END:STANDARD
BEGIN:DAYLIGHT
TZOFFSETFROM:+0100
TZOFFSETTO:+0200
TZNAME:CEST
DTSTART:20260329T010000
END:DAYLIGHT
BEGIN:STANDARD
TZOFFSETFROM:+0200
TZOFFSETTO:+0100
TZNAME:CET
DTSTART:20261025T010000
END:STANDARD
END:VTIMEZONE
BEGIN:VEVENT
DTSTART;VALUE=DATE:20250122
DTEND;VALUE=DATE:20250123
DTSTAMP:20260422T182921
CREATED:20240923T132755Z
LAST-MODIFIED:20250116T102925Z
UID:10004798-1737504000-1737590399@ues.cat
SUMMARY:BTT.- Volta Vinaixa - L'Albí
DESCRIPTION:[vc_row][vc_column][vc_column_text] \nVolta per Vinaixa\, ametllers de Sant Bonifaci i l’Albi \nDistància: 42 km – desnivell: + 510 m \nDificultat: \nModerada-baixa. Camins amples\, en bon estat i el 70 % asfaltats. Creuem i circulem un curt tram per la carretera N-240. \nRecorregut: Sortint de Vinaixa per la riera farem la Vall fins a l’ermita de Sant Bonifaci pel mig d’ametllers i oliveres. Pujarem a Els Omellons i seguirem per la Vall passant per tallers\, pedreres i barraques fins a La Floresta i el seu castell. Girem i comencem la pujada fins a la carretera que travessarem amb compte. Aviat arribem a l’Albi on dinem i tornem per una bona baixada i al cap de curta distància arribem a les piscines municipals de Vinaixa on hem deixat els cotxes. \nLloc i hora de trobada: Al Nou Bar Sol de Vinaixa a 2/4 de 9 del matí. A uns 400 m hi ha les piscines municipals on es pot aparcar. \nDinar (optatiu): Al Restaurant Ca la Margarida de l’Albi. Preu menú 16\,50 €. Es pagarà in situ. Cal indicar si voleu dinar en el moment de fer la inscripció. El lloc de dinar és abans d’acabar el recorregut. Porteu candau ja que hem de deixar les bicicletes fora. \n[/vc_column_text][/vc_column][/vc_row]
URL:https://ues.cat/agenda/btt-volta-vinaixa-lalbi/
CATEGORIES:BTT,Esportives
END:VEVENT
BEGIN:VEVENT
DTSTART;VALUE=DATE:20250122
DTEND;VALUE=DATE:20250123
DTSTAMP:20260422T182921
CREATED:20241122T110541Z
LAST-MODIFIED:20241220T173236Z
UID:10004832-1737504000-1737590399@ues.cat
SUMMARY:Les excursions dels dimecres.- Castell de Montgrí
DESCRIPTION:[vc_row][vc_column][vc_column_text]Castell de Montgrí (Baix Empordà) \nItinerari que ressegueix la serra de Montgrí amb espectaculars vistes de la Costa Brava. \nDistància: 11\,70 km >> Desnivell: + 535 / – 580 m \nSortida de tot el dia en autocar. Cal portar esmorzar i dinar[/vc_column_text][/vc_column][/vc_row]
URL:https://ues.cat/agenda/les-excursions-dels-dimecres-a-determinar/
CATEGORIES:Esportives,Excursions dimecres
END:VEVENT
END:VCALENDAR