BEGIN:VCALENDAR
VERSION:2.0
PRODID:-//UES - ECPv6.15.20//NONSGML v1.0//EN
CALSCALE:GREGORIAN
METHOD:PUBLISH
X-WR-CALNAME:UES
X-ORIGINAL-URL:https://ues.cat
X-WR-CALDESC:Activitats per UES
REFRESH-INTERVAL;VALUE=DURATION:PT1H
X-Robots-Tag:noindex
X-PUBLISHED-TTL:PT1H
BEGIN:VTIMEZONE
TZID:Europe/Madrid
BEGIN:DAYLIGHT
TZOFFSETFROM:+0100
TZOFFSETTO:+0200
TZNAME:CEST
DTSTART:20240331T010000
END:DAYLIGHT
BEGIN:STANDARD
TZOFFSETFROM:+0200
TZOFFSETTO:+0100
TZNAME:CET
DTSTART:20241027T010000
END:STANDARD
BEGIN:DAYLIGHT
TZOFFSETFROM:+0100
TZOFFSETTO:+0200
TZNAME:CEST
DTSTART:20250330T010000
END:DAYLIGHT
BEGIN:STANDARD
TZOFFSETFROM:+0200
TZOFFSETTO:+0100
TZNAME:CET
DTSTART:20251026T010000
END:STANDARD
BEGIN:DAYLIGHT
TZOFFSETFROM:+0100
TZOFFSETTO:+0200
TZNAME:CEST
DTSTART:20260329T010000
END:DAYLIGHT
BEGIN:STANDARD
TZOFFSETFROM:+0200
TZOFFSETTO:+0100
TZNAME:CET
DTSTART:20261025T010000
END:STANDARD
END:VTIMEZONE
BEGIN:VEVENT
DTSTART;VALUE=DATE:20250320
DTEND;VALUE=DATE:20250321
DTSTAMP:20260422T151234
CREATED:20240923T134213Z
LAST-MODIFIED:20250303T090425Z
UID:10004800-1742428800-1742515199@ues.cat
SUMMARY:BTT.- Santes Creus-Sant Jaume de Montagut
DESCRIPTION:[vc_row][vc_column][vc_column_text]Distància: 36 >> Desnivell: +700 >> Dificultat: moderada \nTrobada al Bar l’Esport de Santes Creus\, c/ de Pere el Gran\, 4\,  a les 9 del matí\, per sortir cap a 3/4 de 10. \nDinar: Opcional a l’hostal Grau de Santes Creus\, carrer de Pere el Gran\, 3. Preu menú 17 euros. ( es paga in situ\, i cal indicar si voleu dinar\, en el moment de la inscripció. \nRecorregut:  Santes Creus\, Les Pobles\, Mas d’en Bosch\, coll de la Torreta\, llac de formigosa\, ermita de Sant Jaume de Montagut\, coll de la Torre de Querol\, L’Arboçar i Santes Creus. \nPlaces limitades: 16 \nInscripcions: del 6 al 18 de març. \nMés info: btt@ues.cat[/vc_column_text][/vc_column][/vc_row]
URL:https://ues.cat/agenda/btt-santes-creus-sant-jaume-de-montagut/
CATEGORIES:BTT,Esportives
END:VEVENT
END:VCALENDAR