BEGIN:VCALENDAR
VERSION:2.0
PRODID:-//UES - ECPv6.15.20//NONSGML v1.0//EN
CALSCALE:GREGORIAN
METHOD:PUBLISH
X-WR-CALNAME:UES
X-ORIGINAL-URL:https://ues.cat
X-WR-CALDESC:Activitats per UES
REFRESH-INTERVAL;VALUE=DURATION:PT1H
X-Robots-Tag:noindex
X-PUBLISHED-TTL:PT1H
BEGIN:VTIMEZONE
TZID:Europe/Madrid
BEGIN:DAYLIGHT
TZOFFSETFROM:+0100
TZOFFSETTO:+0200
TZNAME:CEST
DTSTART:20240331T010000
END:DAYLIGHT
BEGIN:STANDARD
TZOFFSETFROM:+0200
TZOFFSETTO:+0100
TZNAME:CET
DTSTART:20241027T010000
END:STANDARD
BEGIN:DAYLIGHT
TZOFFSETFROM:+0100
TZOFFSETTO:+0200
TZNAME:CEST
DTSTART:20250330T010000
END:DAYLIGHT
BEGIN:STANDARD
TZOFFSETFROM:+0200
TZOFFSETTO:+0100
TZNAME:CET
DTSTART:20251026T010000
END:STANDARD
BEGIN:DAYLIGHT
TZOFFSETFROM:+0100
TZOFFSETTO:+0200
TZNAME:CEST
DTSTART:20260329T010000
END:DAYLIGHT
BEGIN:STANDARD
TZOFFSETFROM:+0200
TZOFFSETTO:+0100
TZNAME:CET
DTSTART:20261025T010000
END:STANDARD
END:VTIMEZONE
BEGIN:VEVENT
DTSTART;TZID=Europe/Madrid:20250430T080000
DTEND;TZID=Europe/Madrid:20250430T170000
DTSTAMP:20260422T115925
CREATED:20250219T171925Z
LAST-MODIFIED:20250409T163517Z
UID:10004525-1746000000-1746032400@ues.cat
SUMMARY:Senders km 0.- Vall de Sant Just i el Parc de Cervantes
DESCRIPTION:[vc_row][vc_column][vc_column_text]Ruta que ens permetrà visitar l’embassament de Vallvidrera\, algunes fonts\, una part de la Vall de Sant Just\, la plaça Mireia i el Parc de Cervantes. \nPunt i hora de trobada: \nestació FGC Baixador de Vallvidrera a les 8:30 h del matí. Sortida conjunta des de Sabadell en FGC a les 8 h (bitllet de dues zones): \nParc del Nord: 07:57 // Sabadell Nord: 7:59 // Creu Alta: 08:01 // Plaça Major: 08:03 // Can Feu – Gràcia: 08:04 \nDistància: 9\,5 km >> Desnivell: +270 m/-420 m \nHora aproximada de finalització a Barcelona: 14 h \nMaterial: Cal portar aigua\, esmorzar i roba adequada a les condicions climatològiques i calçat per caminar per muntanya\, i farmaciola personal. \nActivitat gratuïta per a socis/es. Soci@web i no socis: 5€ \nEl desplaçament en transport públic d’anada i tronada anirà a càrrec de cada participant. \n  \n[/vc_column_text][/vc_column][/vc_row]
URL:https://ues.cat/agenda/senders-km-0-vall-de-sant-just-i-el-parc-de-cervantes/
CATEGORIES:Esportives,Senders
END:VEVENT
END:VCALENDAR