BEGIN:VCALENDAR
VERSION:2.0
PRODID:-//UES - ECPv6.15.20//NONSGML v1.0//EN
CALSCALE:GREGORIAN
METHOD:PUBLISH
X-ORIGINAL-URL:https://ues.cat
X-WR-CALDESC:Activitats per UES
REFRESH-INTERVAL;VALUE=DURATION:PT1H
X-Robots-Tag:noindex
X-PUBLISHED-TTL:PT1H
BEGIN:VTIMEZONE
TZID:Europe/Madrid
BEGIN:DAYLIGHT
TZOFFSETFROM:+0100
TZOFFSETTO:+0200
TZNAME:CEST
DTSTART:20240331T010000
END:DAYLIGHT
BEGIN:STANDARD
TZOFFSETFROM:+0200
TZOFFSETTO:+0100
TZNAME:CET
DTSTART:20241027T010000
END:STANDARD
BEGIN:DAYLIGHT
TZOFFSETFROM:+0100
TZOFFSETTO:+0200
TZNAME:CEST
DTSTART:20250330T010000
END:DAYLIGHT
BEGIN:STANDARD
TZOFFSETFROM:+0200
TZOFFSETTO:+0100
TZNAME:CET
DTSTART:20251026T010000
END:STANDARD
BEGIN:DAYLIGHT
TZOFFSETFROM:+0100
TZOFFSETTO:+0200
TZNAME:CEST
DTSTART:20260329T010000
END:DAYLIGHT
BEGIN:STANDARD
TZOFFSETFROM:+0200
TZOFFSETTO:+0100
TZNAME:CET
DTSTART:20261025T010000
END:STANDARD
END:VTIMEZONE
BEGIN:VEVENT
DTSTART;VALUE=DATE:20250503
DTEND;VALUE=DATE:20250504
DTSTAMP:20260422T120530
CREATED:20241125T170436Z
LAST-MODIFIED:20250425T091910Z
UID:10004850-1746230400-1746316799@ues.cat
SUMMARY:Senders.- GR 1 Sender Històric: d'Argelaguer a Oix
DESCRIPTION:[vc_row][vc_column][vc_column_text]Etapa 5. \nDes de Besalú el sender pren direcció nord-oest per endinsar-se a l’alta Garrotxa. Iniciem l’etapa al poble d’Argelaguer i anem a buscar el camí senyalitzat a prop de la vila de Tortellà. Seguim l’antic camí d’Oix tot passant pel destacat pont medieval de Llierca\, de 28 metres d’alçada. \nDeixem enrere les terres planes del Pla de l’Estany i l’Empordà i a partir d’aquí el sender es mostra muntanyós resseguint terres del Prepirineu. \nItinerari: Argelaguer – Tortellà – pont de Llierca – Casa Vella – Coll de Palomeres – La Closa – pont medieval d’Oi – Oix. \nDistància: 15\,65 km >> Desnivell: +618/-394 m \nSortida en autocar des de davant de l’Hotel Sabadell a les 7 h. \n[/vc_column_text][/vc_column][/vc_row]
URL:https://ues.cat/agenda/senders-a-determinar-7/
CATEGORIES:Esportives,Senders
END:VEVENT
END:VCALENDAR