BEGIN:VCALENDAR
VERSION:2.0
PRODID:-//UES - ECPv6.15.20//NONSGML v1.0//EN
CALSCALE:GREGORIAN
METHOD:PUBLISH
X-WR-CALNAME:UES
X-ORIGINAL-URL:https://ues.cat
X-WR-CALDESC:Activitats per UES
REFRESH-INTERVAL;VALUE=DURATION:PT1H
X-Robots-Tag:noindex
X-PUBLISHED-TTL:PT1H
BEGIN:VTIMEZONE
TZID:Europe/Madrid
BEGIN:DAYLIGHT
TZOFFSETFROM:+0100
TZOFFSETTO:+0200
TZNAME:CEST
DTSTART:20240331T010000
END:DAYLIGHT
BEGIN:STANDARD
TZOFFSETFROM:+0200
TZOFFSETTO:+0100
TZNAME:CET
DTSTART:20241027T010000
END:STANDARD
BEGIN:DAYLIGHT
TZOFFSETFROM:+0100
TZOFFSETTO:+0200
TZNAME:CEST
DTSTART:20250330T010000
END:DAYLIGHT
BEGIN:STANDARD
TZOFFSETFROM:+0200
TZOFFSETTO:+0100
TZNAME:CET
DTSTART:20251026T010000
END:STANDARD
BEGIN:DAYLIGHT
TZOFFSETFROM:+0100
TZOFFSETTO:+0200
TZNAME:CEST
DTSTART:20260329T010000
END:DAYLIGHT
BEGIN:STANDARD
TZOFFSETFROM:+0200
TZOFFSETTO:+0100
TZNAME:CET
DTSTART:20261025T010000
END:STANDARD
END:VTIMEZONE
BEGIN:VEVENT
DTSTART;TZID=Europe/Madrid:20250514T080000
DTEND;TZID=Europe/Madrid:20250514T170000
DTSTAMP:20260422T120126
CREATED:20240923T134343Z
LAST-MODIFIED:20250425T092201Z
UID:10004802-1747209600-1747242000@ues.cat
SUMMARY:BTT.- Pedals de Corroncui\, Senterada
DESCRIPTION:[vc_row][vc_column][vc_column_text]Distància: Distància: 49 km – desnivell: 1.500 m \nDificultat: Moderada \nRecorregut: Pasarem per Corroncui i Naèns. Opcional: Burguet\, Adons\, Cèrvoles\, Coll de la Creu de Perves. Comarca del Pallars Jussà \nLloc i hora de trobada: A les 9 h del matí l’aparcament-plaça de davant de l’Ajuntament de Senterada. JA HAVENT ESMORZAT PREVIAMENT CADASCÚ ON VULGUI !! \nDinar: Opcional a un restaurant\, depenent de l’hora que acabem. \nPossibilitat de comprar l’Or Blanc que es fabrica a les granges de Corroncui. \nPortar bici de muntanya. NO BICI HÍBRIDA !! \nPlaces: Limitades a 10 persones màxim. Mínim per fer la sortida: 6 \nInscripcions del 28 d’abril al 12 de maig \n[/vc_column_text][/vc_column][/vc_row]
URL:https://ues.cat/agenda/btt-pedals-de-corroncui-senterada/
CATEGORIES:BTT,Esportives
END:VEVENT
END:VCALENDAR