BEGIN:VCALENDAR
VERSION:2.0
PRODID:-//UES - ECPv6.15.20//NONSGML v1.0//EN
CALSCALE:GREGORIAN
METHOD:PUBLISH
X-WR-CALNAME:UES
X-ORIGINAL-URL:https://ues.cat
X-WR-CALDESC:Activitats per UES
REFRESH-INTERVAL;VALUE=DURATION:PT1H
X-Robots-Tag:noindex
X-PUBLISHED-TTL:PT1H
BEGIN:VTIMEZONE
TZID:Europe/Madrid
BEGIN:DAYLIGHT
TZOFFSETFROM:+0100
TZOFFSETTO:+0200
TZNAME:CEST
DTSTART:20240331T010000
END:DAYLIGHT
BEGIN:STANDARD
TZOFFSETFROM:+0200
TZOFFSETTO:+0100
TZNAME:CET
DTSTART:20241027T010000
END:STANDARD
BEGIN:DAYLIGHT
TZOFFSETFROM:+0100
TZOFFSETTO:+0200
TZNAME:CEST
DTSTART:20250330T010000
END:DAYLIGHT
BEGIN:STANDARD
TZOFFSETFROM:+0200
TZOFFSETTO:+0100
TZNAME:CET
DTSTART:20251026T010000
END:STANDARD
BEGIN:DAYLIGHT
TZOFFSETFROM:+0100
TZOFFSETTO:+0200
TZNAME:CEST
DTSTART:20260329T010000
END:DAYLIGHT
BEGIN:STANDARD
TZOFFSETFROM:+0200
TZOFFSETTO:+0100
TZNAME:CET
DTSTART:20261025T010000
END:STANDARD
END:VTIMEZONE
BEGIN:VEVENT
DTSTART;TZID=Europe/Madrid:20250527T190000
DTEND;TZID=Europe/Madrid:20250527T200000
DTSTAMP:20260422T102007
CREATED:20250409T094943Z
LAST-MODIFIED:20250409T095502Z
UID:10004958-1748372400-1748376000@ues.cat
SUMMARY:Xerrades obertes sobre temes de muntanya.- El Parc Natural del massís dels Ports
DESCRIPTION:[vc_row][vc_column][vc_column_text]El Parc Natural del massís dels Ports\,  a càrrec d’en Josep Maria Forcadell\, tècnic d’us públic del parc. \nConeixerem de primera mà el parc natural potser més desconegut per nosaltres i on hi estan situades unes imponents muntanyes calcàries\, la fageda més septentrional d’Europa així com profunds barrancs. Un lloc doncs on fer-hi bones excursions. \nA les 19 h\, virtual (ZOOM) cal inscriure’s a tot el Cicle de per rebre l’enllaç de connexió[/vc_column_text][/vc_column][/vc_row]
URL:https://ues.cat/agenda/xerrades-obertes-sobre-temes-de-muntanya-el-parc-natural-del-massis-dels-ports/
CATEGORIES:Esportives,Muntanya
END:VEVENT
END:VCALENDAR