BEGIN:VCALENDAR
VERSION:2.0
PRODID:-//UES - ECPv6.15.20//NONSGML v1.0//EN
CALSCALE:GREGORIAN
METHOD:PUBLISH
X-ORIGINAL-URL:https://ues.cat
X-WR-CALDESC:Activitats per UES
REFRESH-INTERVAL;VALUE=DURATION:PT1H
X-Robots-Tag:noindex
X-PUBLISHED-TTL:PT1H
BEGIN:VTIMEZONE
TZID:Europe/Madrid
BEGIN:DAYLIGHT
TZOFFSETFROM:+0100
TZOFFSETTO:+0200
TZNAME:CEST
DTSTART:20240331T010000
END:DAYLIGHT
BEGIN:STANDARD
TZOFFSETFROM:+0200
TZOFFSETTO:+0100
TZNAME:CET
DTSTART:20241027T010000
END:STANDARD
BEGIN:DAYLIGHT
TZOFFSETFROM:+0100
TZOFFSETTO:+0200
TZNAME:CEST
DTSTART:20250330T010000
END:DAYLIGHT
BEGIN:STANDARD
TZOFFSETFROM:+0200
TZOFFSETTO:+0100
TZNAME:CET
DTSTART:20251026T010000
END:STANDARD
BEGIN:DAYLIGHT
TZOFFSETFROM:+0100
TZOFFSETTO:+0200
TZNAME:CEST
DTSTART:20260329T010000
END:DAYLIGHT
BEGIN:STANDARD
TZOFFSETFROM:+0200
TZOFFSETTO:+0100
TZNAME:CET
DTSTART:20261025T010000
END:STANDARD
END:VTIMEZONE
BEGIN:VEVENT
DTSTART;TZID=Europe/Madrid:20250604T080000
DTEND;TZID=Europe/Madrid:20250604T150000
DTSTAMP:20260422T102202
CREATED:20241125T171712Z
LAST-MODIFIED:20250603T093651Z
UID:10004457-1749024000-1749049200@ues.cat
SUMMARY:Senders Km 0.- La Vall de Sant Iscle
DESCRIPTION:[vc_row][vc_column][vc_column_text]Ruta que ens portarà des de Montcada fins a Barcelona tot passant per la vessant est de la Vall de Sant Iscle. És una vall molt freqüentada pels habitants de Cerdanyola del Vallès. És una vall amagada a la vessant obaga de Collserola\, on el bosc mediterrani es protegeix dels ambients càlids del sud. La capçalera de la vall destaca per una vegetació molt humida i feréstega on es troben exemplars de nogueres i avellaners. Malgrat aquest ambient humit\, les fonts es troben sense aigua i en un estat d’abandó total. La quantitat de masies a la vall ens dóna idea de la importància agrícola de la serra: Can Catà\, Can Llong\, Can Fermí\, Can Lloses\, Can Magre (ruïnes)\, Can Ferrer (ruïnes)… \nDistància: 9\,30 km >> Desnivell: +340 m/280 m \nPunt i hora de trobada: estació de RENFE de Montcada Santa Maria a les 8:30 del matí. Sortida conjunta des de Sabadell en RENFE a les 8 del matí (2 zones). Agafarem el tren en els següents horaris: \nSabadell Nord: 08:07 // Sabadell Centre: 08:10 // Sabadell Sud: 08:13 h \nHora aproximada de finalització a Barcelona a les 14 h \nEl desplaçament fins al punt de trobada i la tornada anirà a càrrec de cada participant. \n[/vc_column_text][/vc_column][/vc_row]
URL:https://ues.cat/agenda/senders-km0-sant-cugat-torre-negra-can-coll/
CATEGORIES:Esportives,Senders
END:VEVENT
END:VCALENDAR