BEGIN:VCALENDAR
VERSION:2.0
PRODID:-//UES - ECPv6.15.20//NONSGML v1.0//EN
CALSCALE:GREGORIAN
METHOD:PUBLISH
X-WR-CALNAME:UES
X-ORIGINAL-URL:https://ues.cat
X-WR-CALDESC:Activitats per UES
REFRESH-INTERVAL;VALUE=DURATION:PT1H
X-Robots-Tag:noindex
X-PUBLISHED-TTL:PT1H
BEGIN:VTIMEZONE
TZID:Europe/Madrid
BEGIN:DAYLIGHT
TZOFFSETFROM:+0100
TZOFFSETTO:+0200
TZNAME:CEST
DTSTART:20240331T010000
END:DAYLIGHT
BEGIN:STANDARD
TZOFFSETFROM:+0200
TZOFFSETTO:+0100
TZNAME:CET
DTSTART:20241027T010000
END:STANDARD
BEGIN:DAYLIGHT
TZOFFSETFROM:+0100
TZOFFSETTO:+0200
TZNAME:CEST
DTSTART:20250330T010000
END:DAYLIGHT
BEGIN:STANDARD
TZOFFSETFROM:+0200
TZOFFSETTO:+0100
TZNAME:CET
DTSTART:20251026T010000
END:STANDARD
BEGIN:DAYLIGHT
TZOFFSETFROM:+0100
TZOFFSETTO:+0200
TZNAME:CEST
DTSTART:20260329T010000
END:DAYLIGHT
BEGIN:STANDARD
TZOFFSETFROM:+0200
TZOFFSETTO:+0100
TZNAME:CET
DTSTART:20261025T010000
END:STANDARD
END:VTIMEZONE
BEGIN:VEVENT
DTSTART;VALUE=DATE:20251105
DTEND;VALUE=DATE:20251106
DTSTAMP:20260422T032721
CREATED:20250320T191313Z
LAST-MODIFIED:20251023T143336Z
UID:10004553-1762300800-1762387199@ues.cat
SUMMARY:Senders km 0.- La Torre Negra (Sant Cugat)
DESCRIPTION:Ruta que ens permet gaudir d’una de les zones més naturals de Sant Cugat del Vallès i de Cerdanyola del Vallès: la Torre Negra\, el Pi d’en Xandri\, la Torre Cendrera\, i de camins i corriols ombrívols i humits de la vall de Gausac\, una vall oberta a la Plana del Vallès pel nord\, on en èpoques remotes (segle IX) es va establir el Monestir de Sant Cugat\, en una cruïlla de camins que venien de Barcelona i creuaven la península des de l’època romana. \nPunt i hora de trobada: estació dels FGC Sant Cugat Centre\, al 8:30 del matí. \nSortida col·lectiva des de Sabadell en FGC a les 8 del matí (1 zona). \nParc del Nord: 8:02 >> Sabadell Nord: 8:04 >> Creu Alta: 8:06 >> Plaça Major: 8:08 >> Can Feu -Gràcia: 08:10 \nDistància: 10\,60 km >> Desnivell: +/- 200 m \nHora aproximada de finalització a Sant Cugat 13:30 h. \nEl desplaçament al punt de trobada i de tornada es farà en transport públic i anirà a càrrec dels participants. \n 
URL:https://ues.cat/agenda/senders-km-0-la-torre-negra-sant-cugat/
CATEGORIES:Esportives,Senders
END:VEVENT
END:VCALENDAR