BEGIN:VCALENDAR
VERSION:2.0
PRODID:-//UES - ECPv6.15.20//NONSGML v1.0//EN
CALSCALE:GREGORIAN
METHOD:PUBLISH
X-WR-CALNAME:UES
X-ORIGINAL-URL:https://ues.cat
X-WR-CALDESC:Activitats per UES
REFRESH-INTERVAL;VALUE=DURATION:PT1H
X-Robots-Tag:noindex
X-PUBLISHED-TTL:PT1H
BEGIN:VTIMEZONE
TZID:Europe/Madrid
BEGIN:DAYLIGHT
TZOFFSETFROM:+0100
TZOFFSETTO:+0200
TZNAME:CEST
DTSTART:20240331T010000
END:DAYLIGHT
BEGIN:STANDARD
TZOFFSETFROM:+0200
TZOFFSETTO:+0100
TZNAME:CET
DTSTART:20241027T010000
END:STANDARD
BEGIN:DAYLIGHT
TZOFFSETFROM:+0100
TZOFFSETTO:+0200
TZNAME:CEST
DTSTART:20250330T010000
END:DAYLIGHT
BEGIN:STANDARD
TZOFFSETFROM:+0200
TZOFFSETTO:+0100
TZNAME:CET
DTSTART:20251026T010000
END:STANDARD
BEGIN:DAYLIGHT
TZOFFSETFROM:+0100
TZOFFSETTO:+0200
TZNAME:CEST
DTSTART:20260329T010000
END:DAYLIGHT
BEGIN:STANDARD
TZOFFSETFROM:+0200
TZOFFSETTO:+0100
TZNAME:CET
DTSTART:20261025T010000
END:STANDARD
END:VTIMEZONE
BEGIN:VEVENT
DTSTART;VALUE=DATE:20251122
DTEND;VALUE=DATE:20251124
DTSTAMP:20260422T050952
CREATED:20250924T142041Z
LAST-MODIFIED:20250924T142041Z
UID:10004628-1763769600-1763942399@ues.cat
SUMMARY:Curses d'orientació.- Dos dies del Berguedà. Organitza COB
DESCRIPTION:
URL:https://ues.cat/agenda/curses-dorientacio-dos-dies-del-bergueda-organitza-cob/
CATEGORIES:Esportives,Orientació
END:VEVENT
BEGIN:VEVENT
DTSTART;VALUE=DATE:20251123
DTEND;VALUE=DATE:20251124
DTSTAMP:20260422T050952
CREATED:20250320T192811Z
LAST-MODIFIED:20251031T083115Z
UID:10004556-1763856000-1763942399@ues.cat
SUMMARY:Senders.- de mar i muntanya: de Calella de Palafrugell a Palamós
DESCRIPTION:Els Senders de Mar i Muntanya són una col·lecció d’itineraris que combinen el millor dels paisatges de costa i de muntanya. Són excursions pensades per a persones acostumades a caminar\, en general de dificultat fàcil i amb encant especial gràcies a la proximitat del mar. \nDe Calella de Palafrugell fins a Palamós. Pel camí de Ronda GR 92\, la caseta de Dalí\, platja del Castell i la Fosca. \nAquesta ruta recorre la comarca del Baix Empordà i és considerada com un dels trams més bells del GR-92. Des de la Torre de Calella\, l’interès de l’itinerari es manté constant\, amb un recorregut que combina trams de camí de ronda i d’altres d’interior\, però sempre a prop del mar. Al llarg del trajecte\, es desplega davant nostre un seguit de paisatges: Calella de Palafrugell\, la costa de Cap Roig\, les cales de Castell i s’Alguer\, Palamós i altres racons encantadors que preferim no desvetllar\, perquè sigui l’excursionista qui els descobreixi. \nAquesta ruta correspon a un tram del Sender de Gran Recorregut GR 92\, conegut com el Sender de la Mediterrània. \nDistància: 15 km >> Desnivell: +310/-350 m >> Dificultat: moderada \nSortida en autocar de tot el dia (trobada a les 7 h davant l’Hotel Sabadell) \nInscripcions del 3 al 17 de novembre. \nCal portar: aigua\, esmorzar i dinar. Calçat de muntanya i roba adient a les condicions climatològiques. Recomanem portar bastons. \n  \n 
URL:https://ues.cat/agenda/senders-de-mar-i-muntanya-la-fosca-i-la-caseta-de-dali/
CATEGORIES:Esportives,Senders
END:VEVENT
END:VCALENDAR