BEGIN:VCALENDAR
VERSION:2.0
PRODID:-//UES - ECPv6.15.20//NONSGML v1.0//EN
CALSCALE:GREGORIAN
METHOD:PUBLISH
X-ORIGINAL-URL:https://ues.cat
X-WR-CALDESC:Activitats per UES
REFRESH-INTERVAL;VALUE=DURATION:PT1H
X-Robots-Tag:noindex
X-PUBLISHED-TTL:PT1H
BEGIN:VTIMEZONE
TZID:Europe/Madrid
BEGIN:DAYLIGHT
TZOFFSETFROM:+0100
TZOFFSETTO:+0200
TZNAME:CEST
DTSTART:20250330T010000
END:DAYLIGHT
BEGIN:STANDARD
TZOFFSETFROM:+0200
TZOFFSETTO:+0100
TZNAME:CET
DTSTART:20251026T010000
END:STANDARD
BEGIN:DAYLIGHT
TZOFFSETFROM:+0100
TZOFFSETTO:+0200
TZNAME:CEST
DTSTART:20260329T010000
END:DAYLIGHT
BEGIN:STANDARD
TZOFFSETFROM:+0200
TZOFFSETTO:+0100
TZNAME:CET
DTSTART:20261025T010000
END:STANDARD
BEGIN:DAYLIGHT
TZOFFSETFROM:+0100
TZOFFSETTO:+0200
TZNAME:CEST
DTSTART:20270328T010000
END:DAYLIGHT
BEGIN:STANDARD
TZOFFSETFROM:+0200
TZOFFSETTO:+0100
TZNAME:CET
DTSTART:20271031T010000
END:STANDARD
END:VTIMEZONE
BEGIN:VEVENT
DTSTART;VALUE=DATE:20260620
DTEND;VALUE=DATE:20260622
DTSTAMP:20260421T210021
CREATED:20251103T154013Z
LAST-MODIFIED:20260414T130529Z
UID:10005051-1781913600-1782086399@ues.cat
SUMMARY:Muntanya.- Pujada Tailló (3144m)
DESCRIPTION:Clàssica pujada al Tailló (3144 m) des de Sant Nicolau de Bujaruelo.  Una ruta que compta amb força al·licients\, com la vista del bonic Refugi de Sarradets\, el Circ de Gavarnie\, la cascada\, la Bretxa de Rolando\, el Dit i el cim.  No té passos aeris ni difícils\, però sí un important desnivell acumulat que realitzarem en dues jornades.
URL:https://ues.cat/agenda/muntanya-tour-midi-daussau-cap-de-setmana/
CATEGORIES:Muntanya
END:VEVENT
END:VCALENDAR