BEGIN:VCALENDAR
VERSION:2.0
PRODID:-//UES - ECPv6.15.20//NONSGML v1.0//EN
CALSCALE:GREGORIAN
METHOD:PUBLISH
X-WR-CALNAME:UES
X-ORIGINAL-URL:https://ues.cat
X-WR-CALDESC:Activitats per UES
REFRESH-INTERVAL;VALUE=DURATION:PT1H
X-Robots-Tag:noindex
X-PUBLISHED-TTL:PT1H
BEGIN:VTIMEZONE
TZID:Europe/Madrid
BEGIN:DAYLIGHT
TZOFFSETFROM:+0100
TZOFFSETTO:+0200
TZNAME:CEST
DTSTART:20230326T010000
END:DAYLIGHT
BEGIN:STANDARD
TZOFFSETFROM:+0200
TZOFFSETTO:+0100
TZNAME:CET
DTSTART:20231029T010000
END:STANDARD
BEGIN:DAYLIGHT
TZOFFSETFROM:+0100
TZOFFSETTO:+0200
TZNAME:CEST
DTSTART:20240331T010000
END:DAYLIGHT
BEGIN:STANDARD
TZOFFSETFROM:+0200
TZOFFSETTO:+0100
TZNAME:CET
DTSTART:20241027T010000
END:STANDARD
BEGIN:DAYLIGHT
TZOFFSETFROM:+0100
TZOFFSETTO:+0200
TZNAME:CEST
DTSTART:20250330T010000
END:DAYLIGHT
BEGIN:STANDARD
TZOFFSETFROM:+0200
TZOFFSETTO:+0100
TZNAME:CET
DTSTART:20251026T010000
END:STANDARD
END:VTIMEZONE
BEGIN:VEVENT
DTSTART;VALUE=DATE:20241006
DTEND;VALUE=DATE:20241007
DTSTAMP:20260420T214901
CREATED:20231127T143315Z
LAST-MODIFIED:20240912T102004Z
UID:10004609-1728172800-1728259199@ues.cat
SUMMARY:44a Ronda Vallesana
DESCRIPTION:[vc_row][vc_column][vc_column_text]Com és tradicional a la Ronda Vallesana\, anem alternant les sortides entre el Vallès Oriental i el Vallès Occidental. Enguany tornem al Vallès Occidental i prop de Sabadell\, entre els municipis de Castellar del Vallès i Sant Llorenç Savall\, i també al Parc Natural de Sant Llorenç del Munt i l’Obac.  Hem preparat una ruta pel riu Ripoll entre les dues ciutats amb un alt valor paisatgístic\, amb un interessant patrimoni cultural i nombroses fonts. La Ronda ha visitat el parc en diverses edicions\, 1980\, 1983\, 1985\, 1987\, 2008\, 2010\, 2011 i 2017\, però ens faltava un recorregut pels marges del riu Ripoll.  \nPerquè pugueu conèixer  bé el riu i gaudir del seu entorn us proposem dos itineraris\, la Ronda curta de 13\,8 km i +/- 315 m de desnivell acumulat; i la Ronda llarga de 18 km i +/- 405 m de desnivell acumulat. \nAl llarg dels dos recorreguts descobrireu la rica vegetació de ribera. Visitarem algunes masies i nuclis de població disseminats\, seguirem camins històrics\, i visitarem l’ermita de la Mare de Déu de les Arenes\, d’origen romànic. \nConsulta tota la informació \nAnar a inscripcions[/vc_column_text][/vc_column][/vc_row]
URL:https://ues.cat/agenda/44a-ronda-vallesana/
CATEGORIES:Culturals,Esportives,Muntanya,Ronda Vallesana
END:VEVENT
END:VCALENDAR