BEGIN:VCALENDAR
VERSION:2.0
PRODID:-//UES - ECPv6.15.20//NONSGML v1.0//EN
CALSCALE:GREGORIAN
METHOD:PUBLISH
X-ORIGINAL-URL:https://ues.cat
X-WR-CALDESC:Activitats per UES
REFRESH-INTERVAL;VALUE=DURATION:PT1H
X-Robots-Tag:noindex
X-PUBLISHED-TTL:PT1H
BEGIN:VTIMEZONE
TZID:Europe/Madrid
BEGIN:DAYLIGHT
TZOFFSETFROM:+0100
TZOFFSETTO:+0200
TZNAME:CEST
DTSTART:20250330T010000
END:DAYLIGHT
BEGIN:STANDARD
TZOFFSETFROM:+0200
TZOFFSETTO:+0100
TZNAME:CET
DTSTART:20251026T010000
END:STANDARD
BEGIN:DAYLIGHT
TZOFFSETFROM:+0100
TZOFFSETTO:+0200
TZNAME:CEST
DTSTART:20260329T010000
END:DAYLIGHT
BEGIN:STANDARD
TZOFFSETFROM:+0200
TZOFFSETTO:+0100
TZNAME:CET
DTSTART:20261025T010000
END:STANDARD
BEGIN:DAYLIGHT
TZOFFSETFROM:+0100
TZOFFSETTO:+0200
TZNAME:CEST
DTSTART:20270328T010000
END:DAYLIGHT
BEGIN:STANDARD
TZOFFSETFROM:+0200
TZOFFSETTO:+0100
TZNAME:CET
DTSTART:20271031T010000
END:STANDARD
END:VTIMEZONE
BEGIN:VEVENT
DTSTART;VALUE=DATE:20260113
DTEND;VALUE=DATE:20260114
DTSTAMP:20260422T100327
CREATED:20251216T110956Z
LAST-MODIFIED:20251216T124944Z
UID:10005115-1768262400-1768348799@ues.cat
SUMMARY:Xerrades obertes sobre temes de muntanya.- Apagar incendis forestals des de l’aire; l’experiència d’una pilot d’helicòpters
DESCRIPTION:Cicle del 1r trimestre de 2026 \nApagar incendis forestals des de l’aire; l’experiència d’una pilot d’helicòpters\, a càrrec d’Ingrid Terra. pilot d’helicòpter de lluita contra incendis (LCI). \nL’Ingrid és una persona jove\, que gaudeix amb la seva feina. A través d’una xerrada basada en pregunta-resposta\, la Ingrid ens anirà explicant com és el seu treball pilotant un dels pocs helicòpters de lluita contra focs forestals que hi ha a l’estat espanyol\, experiència que voldria traslladar als rescats de muntanya. \n\nA les 19h per ZOOM. Cal inscripció prèvia.
URL:https://ues.cat/agenda/xerrades-obertes-sobre-temes-de-muntanya-apagar-incendis-forestals-des-de-laire-lexperiencia-duna-pilot-dhelicopters/
CATEGORIES:Muntanya
END:VEVENT
END:VCALENDAR