BEGIN:VCALENDAR
VERSION:2.0
PRODID:-//UES - ECPv6.15.20//NONSGML v1.0//EN
CALSCALE:GREGORIAN
METHOD:PUBLISH
X-ORIGINAL-URL:https://ues.cat
X-WR-CALDESC:Activitats per UES
REFRESH-INTERVAL;VALUE=DURATION:PT1H
X-Robots-Tag:noindex
X-PUBLISHED-TTL:PT1H
BEGIN:VTIMEZONE
TZID:Europe/Madrid
BEGIN:DAYLIGHT
TZOFFSETFROM:+0100
TZOFFSETTO:+0200
TZNAME:CEST
DTSTART:20230326T010000
END:DAYLIGHT
BEGIN:STANDARD
TZOFFSETFROM:+0200
TZOFFSETTO:+0100
TZNAME:CET
DTSTART:20231029T010000
END:STANDARD
BEGIN:DAYLIGHT
TZOFFSETFROM:+0100
TZOFFSETTO:+0200
TZNAME:CEST
DTSTART:20240331T010000
END:DAYLIGHT
BEGIN:STANDARD
TZOFFSETFROM:+0200
TZOFFSETTO:+0100
TZNAME:CET
DTSTART:20241027T010000
END:STANDARD
BEGIN:DAYLIGHT
TZOFFSETFROM:+0100
TZOFFSETTO:+0200
TZNAME:CEST
DTSTART:20250330T010000
END:DAYLIGHT
BEGIN:STANDARD
TZOFFSETFROM:+0200
TZOFFSETTO:+0100
TZNAME:CET
DTSTART:20251026T010000
END:STANDARD
END:VTIMEZONE
BEGIN:VEVENT
DTSTART;VALUE=DATE:20240713
DTEND;VALUE=DATE:20240714
DTSTAMP:20260423T092233
CREATED:20231127T142733Z
LAST-MODIFIED:20240704T074505Z
UID:10004604-1720828800-1720915199@ues.cat
SUMMARY:Muntanya.- Els Quatre Puigmals (Alta Cerdanya)
DESCRIPTION:[vc_row][vc_column][vc_column_text]Aquesta excursió permet recórrer tots els cims que porten el nom de Puigmal. El punt de partida és la Cerdanya\, si bé una bona part de l’itinerari transita per la divisòria de les comarques del Ripollès i la Cerdanya. Començarem a caminar a l’aparcament de l’antiga Estació d’esquí d’Er\, Puigmal 2600. Primer anirem cap a la ribera d’Er\, passarem una cabana en runes i pel Clot de la Pastera cap al cim del Puigmal a 2910m. Després anirem per la carena cap al Puigmal petit de Segre a 2810m.El següent serà el Puigmal de Segre o pic del Segre a 2843m i finalment el Puigmal de Lló de 2801m. Llavors una llarga baixada ens deixarà al punt de partida. \nNivell de dificultat: Mitjana. Alta muntanya. \nDistància: 12\,50 km >> Desnivell: + 1150 m >> Temps efectiu aproximat: 5:15 hores. \nSortida en cotxes particulars. Trobada a les 6 h a l’aparcament del Parc Catalunya\, davant del Club de Tenis. \nMaterial: Roba i calçat per alta muntanya. Esmorzar i dinar. \nPreu: Socis/es: 33€ >> soci@web i no socis/es: 40€. \nCal estar federat/ada o bé tramitar assegurança temporal obligatòria de dia. \nInscripcions de l’1 al 10 de juliol a ues.cat\, app o presencialment a secretaria. \nFarem un grup de WA amb les persones inscrites. A traves del grup rebreu tota la informació. \nPararem a esmorzar al bar 4 camins de Puigcerdà. El dinar\, durant l’excursió. \nEl preu inclou el viatge\, l’enviament del track en gpx i l’acompanyament durant tota l’excursió per persones coneixedores del lloc i de la muntanya \n[/vc_column_text][/vc_column][/vc_row]
URL:https://ues.cat/agenda/muntanya-els-quatre-puigmals-alta-cerdanya/
CATEGORIES:Esportives,Muntanya
END:VEVENT
END:VCALENDAR