BEGIN:VCALENDAR
VERSION:2.0
PRODID:-//UES - ECPv6.15.20//NONSGML v1.0//EN
CALSCALE:GREGORIAN
METHOD:PUBLISH
X-ORIGINAL-URL:https://ues.cat
X-WR-CALDESC:Activitats per UES
REFRESH-INTERVAL;VALUE=DURATION:PT1H
X-Robots-Tag:noindex
X-PUBLISHED-TTL:PT1H
BEGIN:VTIMEZONE
TZID:Europe/Madrid
BEGIN:DAYLIGHT
TZOFFSETFROM:+0100
TZOFFSETTO:+0200
TZNAME:CEST
DTSTART:20240331T010000
END:DAYLIGHT
BEGIN:STANDARD
TZOFFSETFROM:+0200
TZOFFSETTO:+0100
TZNAME:CET
DTSTART:20241027T010000
END:STANDARD
BEGIN:DAYLIGHT
TZOFFSETFROM:+0100
TZOFFSETTO:+0200
TZNAME:CEST
DTSTART:20250330T010000
END:DAYLIGHT
BEGIN:STANDARD
TZOFFSETFROM:+0200
TZOFFSETTO:+0100
TZNAME:CET
DTSTART:20251026T010000
END:STANDARD
BEGIN:DAYLIGHT
TZOFFSETFROM:+0100
TZOFFSETTO:+0200
TZNAME:CEST
DTSTART:20260329T010000
END:DAYLIGHT
BEGIN:STANDARD
TZOFFSETFROM:+0200
TZOFFSETTO:+0100
TZNAME:CET
DTSTART:20261025T010000
END:STANDARD
END:VTIMEZONE
BEGIN:VEVENT
DTSTART;VALUE=DATE:20251213
DTEND;VALUE=DATE:20251214
DTSTAMP:20260422T134005
CREATED:20250307T180034Z
LAST-MODIFIED:20251201T193552Z
UID:10004538-1765584000-1765670399@ues.cat
SUMMARY:Muntanya.- Portada del Pessebre
DESCRIPTION:Ermita de Sant Sebastià de Puigpedrós (Llinars del Vallès) \nSortirem de Sabadell a les 7.30 del matí de l’aparcament del Parc Catalunya. \nAnirem amb autocar fins al Restaurant Llinars Parc on pensem arribar a les 8h. \nEsmorzarem al restaurant on com sempre repartirem un tall de coca per cada participant. En el restaurant fan esmorzars de forquilla per si a algú l’interessa. Un cop esmorzats\, tornarem a pujar a l’autocar per anar fins a l’estació de tren de Llinars on començarem la nostra excursió. \nDesprés de passar per sota de l’autopista i la via del TGV\, començarem la nostra ascensió fins al Coll del Vent a la carena de la Serralada del Corredor. Una mica més enllà trobarem el Castell Vell que visitarem i amb un quilòmetre més arribarem a la casa modernista de Can Bordoi que també visitarem. Després d’un llarg recorregut per entremig de boscos de pi i alzina arribarem a l’ermita de Sant Sebastià reconstruïda per voluntaris de Llinars on ens faran una explicació de com és va produir aquesta activitat entre els anys 2016 i 2024. \nCom cada any a dalt a l’ermita i tots plegats celebrarem les festes de Nadal amb un petit concert de la coral La Carena i la tradicional cantada popular de nadales davant el Pessebre i després de dinar\, torrons\, neules i cava per tothom qui en vulgui. \nDesprés de la festa baixarem caminat fins a Llinars passant per la Torrassa del Moro i l’ermita de Sant Esteve del Coll per arribar finalment al polígon industrial de Llinars on ens esperarà l’autocar. \n*Si algú no pot caminar\, podrà anar amb cotxe fins a l’Ermita de Sant Sebastià i fer una passejada suau pels entorns de l’Ermita. Per això\, disposarem d’un o dos cotxes de suport que aniran fins el peu de l’ermita. \nDistància: \nDes de la sortida fins a l’Ermita: 7\,5 Km >> De l’Ermita fins l’arribada: 5\,5 Km  \nDesnivell: 300 m >> Dificultat: Fàcil. >> Temps efectiu: 4\,5 h . \nMaterial: Roba i calçat de muntanya. Bastons de trekking\, Aigua\, esmorzar i dinar. \n\nTransport: Autocar >> Places màximes: 55\nSortida a les 7:30h\nPreu inscripció: socis: 24 € no socis: 31 €\nInscripcions fins l’11 de desembre\nPer participar a l’excursió cal tenir una assegurança de muntanya.\nEns reservem la possibilitat de fer canvis en l’itinerari en funció de possibles dificultats per qüestió de temps o problemes meteorològics.
URL:https://ues.cat/agenda/muntanya-portada-del-pessebre-7/
CATEGORIES:Esportives,Muntanya
END:VEVENT
END:VCALENDAR