BEGIN:VCALENDAR
VERSION:2.0
PRODID:-//UES - ECPv6.15.20//NONSGML v1.0//EN
CALSCALE:GREGORIAN
METHOD:PUBLISH
X-ORIGINAL-URL:https://ues.cat
X-WR-CALDESC:Activitats per UES
REFRESH-INTERVAL;VALUE=DURATION:PT1H
X-Robots-Tag:noindex
X-PUBLISHED-TTL:PT1H
BEGIN:VTIMEZONE
TZID:Europe/Madrid
BEGIN:DAYLIGHT
TZOFFSETFROM:+0100
TZOFFSETTO:+0200
TZNAME:CEST
DTSTART:20220327T010000
END:DAYLIGHT
BEGIN:STANDARD
TZOFFSETFROM:+0200
TZOFFSETTO:+0100
TZNAME:CET
DTSTART:20221030T010000
END:STANDARD
BEGIN:DAYLIGHT
TZOFFSETFROM:+0100
TZOFFSETTO:+0200
TZNAME:CEST
DTSTART:20230326T010000
END:DAYLIGHT
BEGIN:STANDARD
TZOFFSETFROM:+0200
TZOFFSETTO:+0100
TZNAME:CET
DTSTART:20231029T010000
END:STANDARD
BEGIN:DAYLIGHT
TZOFFSETFROM:+0100
TZOFFSETTO:+0200
TZNAME:CEST
DTSTART:20240331T010000
END:DAYLIGHT
BEGIN:STANDARD
TZOFFSETFROM:+0200
TZOFFSETTO:+0100
TZNAME:CET
DTSTART:20241027T010000
END:STANDARD
END:VTIMEZONE
BEGIN:VEVENT
DTSTART;VALUE=DATE:20230506
DTEND;VALUE=DATE:20230507
DTSTAMP:20260425T182841
CREATED:20230116T102006Z
LAST-MODIFIED:20230420T162051Z
UID:10004275-1683331200-1683417599@ues.cat
SUMMARY:Orientació.- Campionat escolar de Sabadell de curses d'orientació al Parc de Catalunya.
DESCRIPTION:[vc_row][vc_column][vc_column_text]La secció de Curses d’Orientació conjuntament amb el Consell Esportiu del Vallès Occidental i l’Ajuntament de Sabadell organitza el Campionat escolar de curses d’orientació de Sabadell 2023en el mapa del Parc de Catalunya. \nCATEGORIES \n\n\n\nPREBENJAMÍ MASCULÍ i FEMENÍ per nascuts/des els anys 2015-2016\nBENJAMÍ MASCULÍ I FEMENÍ per nascuts/des els anys 2013-2014\nALEVÍ MASCULÍ I FEMENÍ per nascuts/des els anys 2011-2012\nINFANTIL MASCULÍ i FEMENÍ per nascuts/des els anys 2009-2010\nCADET MASCULÍ i FEMENÍ per nascuts/des els anys 2007-2008\nJUVENIL MASCULÍ i FEMENÍ per nascuts/des els anys 2005-2006\nFAMILIAR (parelles d’adult + infant)\nADULTS (fins els 40 anys)\nVETERANS (majors de 40 anys)\n\n\n\nMalgrat que aquest és un esport individual al ser una activitat de promoció es permetrà córrer en parella. Cas de voler córrer en parella us demanem que ho feu constar en la inscripció en l’apartat d’observacions. \nMOLT IMPORTANT els membres de la família que realitzen el circuït com a acompanyants sense estar inscrits no estaran coberts per l’assegurança de l’activitat en el cas que pateixin algun contratemps o lesió. \nHi ha dues maneres de realitzar la inscripció en el campionat. La inscripció per tots els esportistes amb llicència del Consell Esportiu serà gratuïta i es gestionarà a través del mateix Consell: consell@consellsabadell.cat \nResta d’inscripcions: gratuïta per a socies/es i de 5 € per a no socis/es. Els que no estiguin federats a la FCOC caldrà que paguin una llicència temporal de 1\,5 € els menors de 18 anys i de 3€ els majors. \nPreus no socis/es: Majors de 18 anys: 8€ // Menors de 18 anys: 4€. Els que no estiguin federats a la FCOC caldrà que paguin una llicència temporal de 1\,5 € els menors de 18 anys i de 3€ els majors. \nSi espereu a fer la inscripció el mateix dia de la cursa no us podem garantir que tingueu mapa. \nLes inscripcions es tancaran el dimecres 3 de maig al migdia. \nMés informació \n[/vc_column_text][/vc_column][/vc_row]
URL:https://ues.cat/agenda/orientacio-campionat-escolar-de-sabadell-de-curses-dorientacio-al-parc-de-catalunya/
CATEGORIES:Esportives,Orientació
END:VEVENT
END:VCALENDAR