BEGIN:VCALENDAR
VERSION:2.0
PRODID:-//UES - ECPv6.15.20//NONSGML v1.0//EN
CALSCALE:GREGORIAN
METHOD:PUBLISH
X-WR-CALNAME:UES
X-ORIGINAL-URL:https://ues.cat
X-WR-CALDESC:Activitats per UES
REFRESH-INTERVAL;VALUE=DURATION:PT1H
X-Robots-Tag:noindex
X-PUBLISHED-TTL:PT1H
BEGIN:VTIMEZONE
TZID:Europe/Madrid
BEGIN:DAYLIGHT
TZOFFSETFROM:+0100
TZOFFSETTO:+0200
TZNAME:CEST
DTSTART:20230326T010000
END:DAYLIGHT
BEGIN:STANDARD
TZOFFSETFROM:+0200
TZOFFSETTO:+0100
TZNAME:CET
DTSTART:20231029T010000
END:STANDARD
BEGIN:DAYLIGHT
TZOFFSETFROM:+0100
TZOFFSETTO:+0200
TZNAME:CEST
DTSTART:20240331T010000
END:DAYLIGHT
BEGIN:STANDARD
TZOFFSETFROM:+0200
TZOFFSETTO:+0100
TZNAME:CET
DTSTART:20241027T010000
END:STANDARD
BEGIN:DAYLIGHT
TZOFFSETFROM:+0100
TZOFFSETTO:+0200
TZNAME:CEST
DTSTART:20250330T010000
END:DAYLIGHT
BEGIN:STANDARD
TZOFFSETFROM:+0200
TZOFFSETTO:+0100
TZNAME:CET
DTSTART:20251026T010000
END:STANDARD
END:VTIMEZONE
BEGIN:VEVENT
DTSTART;VALUE=DATE:20240218
DTEND;VALUE=DATE:20240219
DTSTAMP:20260420T134008
CREATED:20231129T164046Z
LAST-MODIFIED:20240130T100227Z
UID:10004240-1708214400-1708300799@ues.cat
SUMMARY:Senders.- La vall del riu Sió\, de Sant Guim de Freixenet a Montfalcó Murallat
DESCRIPTION:[vc_row][vc_column][vc_column_text]El diumenge 18 de febrer iniciem una nova ruta en la programació de la Secció de Senders. Seran 4 etapes que resseguiran la vall del riu Sió. El riu Sió neix a la Segarra i transcorre per l’Urgell per unir-se al riu Segre a la ciutat de Balaguer\, ja a la comarca de la Noguera. \nLa primera etapa l’iniciarem a Sant Guim de Freixenet i passarem per petits pobles amb nuclis antics coronats per castells i esglésies que conformen la subcomarca natural de la Ribera del Sió. \nFinalitzarem l’etapa al petit poble de Vergós Guerrejat i des d’allà ens acostarem amb l’autocar al proper poblet de Montfalcó Murallat. Bella vila d’origen medieval\, els orígens de la qual es remunten als temps de la Reconquesta\, al segle XI. Es conserva en molt bon estat\, ja que es manté intacta i dempeus l’estructura de les muralles que tancaven la població. \nDistància: 12 km per camins entre pobles i amb +210/-380 m de desnivell. Dificultat: baixa[/vc_column_text][/vc_column][/vc_row]
URL:https://ues.cat/agenda/senders-la-vall-del-riu-sio-de-sant-guim-de-freixenet-a-montfalco-murallat/
CATEGORIES:Esportives,Senders
END:VEVENT
END:VCALENDAR