BEGIN:VCALENDAR
VERSION:2.0
PRODID:-//UES - ECPv6.15.20//NONSGML v1.0//EN
CALSCALE:GREGORIAN
METHOD:PUBLISH
X-ORIGINAL-URL:https://ues.cat
X-WR-CALDESC:Activitats per UES
REFRESH-INTERVAL;VALUE=DURATION:PT1H
X-Robots-Tag:noindex
X-PUBLISHED-TTL:PT1H
BEGIN:VTIMEZONE
TZID:Europe/Madrid
BEGIN:DAYLIGHT
TZOFFSETFROM:+0100
TZOFFSETTO:+0200
TZNAME:CEST
DTSTART:20230326T010000
END:DAYLIGHT
BEGIN:STANDARD
TZOFFSETFROM:+0200
TZOFFSETTO:+0100
TZNAME:CET
DTSTART:20231029T010000
END:STANDARD
BEGIN:DAYLIGHT
TZOFFSETFROM:+0100
TZOFFSETTO:+0200
TZNAME:CEST
DTSTART:20240331T010000
END:DAYLIGHT
BEGIN:STANDARD
TZOFFSETFROM:+0200
TZOFFSETTO:+0100
TZNAME:CET
DTSTART:20241027T010000
END:STANDARD
BEGIN:DAYLIGHT
TZOFFSETFROM:+0100
TZOFFSETTO:+0200
TZNAME:CEST
DTSTART:20250330T010000
END:DAYLIGHT
BEGIN:STANDARD
TZOFFSETFROM:+0200
TZOFFSETTO:+0100
TZNAME:CET
DTSTART:20251026T010000
END:STANDARD
END:VTIMEZONE
BEGIN:VEVENT
DTSTART;VALUE=DATE:20240317
DTEND;VALUE=DATE:20240318
DTSTAMP:20260422T125634
CREATED:20231129T164357Z
LAST-MODIFIED:20240226T160710Z
UID:10004621-1710633600-1710719999@ues.cat
SUMMARY:Senders.- La Vall del riu Sió\, de les Olugues a Mont-roig 20 Km
DESCRIPTION:[vc_row][vc_column][vc_column_text]RUTA de la VALL DEL SIÓ: la Segarra – l’Urgell – la Noguera \nAquesta segona etapa l’iniciarem a les Oluges i passarem per petits pobles – Castellnou d’Oluges \, Torroja de Segarra\, Sedó\,  Hostafrancs\, les Pallargues – amb nuclis antics coronats per castells i esglésies que conformen la subcomarca natural de la Ribera del Sió. \nFinalitzarem l’etapa al petit poble de Mont-roig. \nSerà una etapa de 16 km per camins entre pobles\, amb poc desnivells i si el dia ens ho permet podrem gaudir dels colors que ens ofereix els camps de la Segarra\, ja que estarem a finals d’hivern i a les portes de la primavera. \n[/vc_column_text][/vc_column][/vc_row]
URL:https://ues.cat/agenda/senders-la-vall-del-riu-sio-de-les-olugues-a-mont-roig-20-km/
CATEGORIES:Esportives,Senders
END:VEVENT
END:VCALENDAR